BEGIN:VCALENDAR
VERSION:2.0
PRODID:-//CAI - Club Alpino Italiano - Sezione di Crema - ECPv5.14.0.2//NONSGML v1.0//EN
CALSCALE:GREGORIAN
METHOD:PUBLISH
X-WR-CALNAME:CAI - Club Alpino Italiano - Sezione di Crema
X-ORIGINAL-URL:https://caicrema.it
X-WR-CALDESC:Eventi per CAI - Club Alpino Italiano - Sezione di Crema
REFRESH-INTERVAL;VALUE=DURATION:PT1H
X-Robots-Tag:noindex
X-PUBLISHED-TTL:PT1H
BEGIN:VTIMEZONE
TZID:Europe/Rome
BEGIN:DAYLIGHT
TZOFFSETFROM:+0100
TZOFFSETTO:+0200
TZNAME:CEST
DTSTART:20210328T010000
END:DAYLIGHT
BEGIN:STANDARD
TZOFFSETFROM:+0200
TZOFFSETTO:+0100
TZNAME:CET
DTSTART:20211031T010000
END:STANDARD
END:VTIMEZONE
BEGIN:VEVENT
DTSTART;TZID=Europe/Rome:20211212T070000
DTEND;TZID=Europe/Rome:20211212T170000
DTSTAMP:20260421T222214
CREATED:20211201T082948Z
LAST-MODIFIED:20211201T082948Z
UID:28969-1639292400-1639328400@caicrema.it
SUMMARY:Rifugio Alpe Corte (mt 1410 slm) e Lago Branchino mt.1784 slm
DESCRIPTION:Dislivello:\nmt. 800 ca (ascesa/discesa) \nDifficoltà:\nE (sentiero escursionistico) \nDurata:\nSalita ore 2:30 Discesa ore 2:00 Totale ore 4:30 \nAbbigliamento:\nDa Escursione adeguato alla stagione. \nAttrezzatura:\nNormale dotazione da Trekking \nsi va con l’Auto:\nPartenza: ore 7:00 dal piazzale Ex-Agello Rientro: ore 18:00 circa\nPranzo al sacco\, con possibilità di mangiare al rifugio (0346-35090)\nregola generale: costo chilometrico da suddividere per ogni Auto/Persona \nnorme AntiCovid 19:\nAgli iscritti vengono consegnate le note operative ed il modulo di autocertificazione che verrà ritirato prima della partenza. Si fa obbligo di avere con sé il passaporto sanitario\, la mascherina ed il gel disinfettante a base alcool \nSi parte da Crema e si percorre la strada della Val Seriana fino al bivio Ponte delle Seghe dopo aver superato Ardesio (BG)\, si raggiunge Valcanale (mt 987)e si parcheggia a pagamento (3\,00 Euro).\nLasciata l’auto si imbocca la mulattiera CAI 220\, si raggiunge quindi il Rifugio Alpe Corte in circa 1 h attraversando belle radure e tratti di bosco\, il rifugio è posto in una bellissima conca di fronte alle pareti nord del Pizzo Arerai in un ambiente che ricorda le valli dolomitiche. Da qui si prosegue per il Lago Branchino per il sentiero CAI 218 ed in circa 1:30 h ci si arriva. \nINFORMAZIONI DI TIPO GENERALE:\nApertura/Chiusura Iscrizioni: 07.12.21 : 10.12.21\n1. Vale regolamento gite CAI-Crema (i non tesserati dovranno sottoscrivere l’assicurazione)\n2. Il percorso potrà essere modificato o interrotto dai Coordinatori in funzione alle condizioni ambientali\, per ragioni meteo o per il verificarsi di situazioni impreviste.\n3. Si richiede: capacità personale commisurata alle caratteristiche e difficoltà dei percorsi\, idoneo equipaggiamento\, godere di buone condizioni di salute ed attenersi alle disposizioni del coordinatore logistico. Ciascuno deve contare sulle proprie capacità fisiche e tecniche non essendo prevista la presenza di accompagnatori (A.E.) e quindi nessun tipo di affidamento. \nCoordinatore Logistico:\nIl coordinatore Logistico cura e sovrintende solo gli aspetti pratico organizzativi\, incluso il controllo delle misure AntiCovid 19. \nCoordinatori Logistici/Responsabili Covid 19: Franco Locatelli – Tommaso Bettinelli\nRelatore: Franco Locatelli (cell.3703797300)\n\n\n				Scarica la locandina (pdf)
URL:https://caicrema.it/evento/rifugio-alpe-corte-mt-1410-slm-e-lago-branchino-mt-1784-slm/
LOCATION:valcanale\, valcanale
CATEGORIES:Escursionismo
END:VEVENT
END:VCALENDAR