BEGIN:VCALENDAR
VERSION:2.0
PRODID:-//CAI - Club Alpino Italiano - Sezione di Crema - ECPv5.14.0.2//NONSGML v1.0//EN
CALSCALE:GREGORIAN
METHOD:PUBLISH
X-WR-CALNAME:CAI - Club Alpino Italiano - Sezione di Crema
X-ORIGINAL-URL:https://caicrema.it
X-WR-CALDESC:Eventi per CAI - Club Alpino Italiano - Sezione di Crema
REFRESH-INTERVAL;VALUE=DURATION:PT1H
X-Robots-Tag:noindex
X-PUBLISHED-TTL:PT1H
BEGIN:VTIMEZONE
TZID:Europe/Rome
BEGIN:DAYLIGHT
TZOFFSETFROM:+0100
TZOFFSETTO:+0200
TZNAME:CEST
DTSTART:20220327T010000
END:DAYLIGHT
BEGIN:STANDARD
TZOFFSETFROM:+0200
TZOFFSETTO:+0100
TZNAME:CET
DTSTART:20221030T010000
END:STANDARD
END:VTIMEZONE
BEGIN:VEVENT
DTSTART;TZID=Europe/Rome:20220109T060000
DTEND;TZID=Europe/Rome:20220109T180000
DTSTAMP:20260421T204351
CREATED:20211230T110057Z
LAST-MODIFIED:20211230T110057Z
UID:29016-1641708000-1641751200@caicrema.it
SUMMARY:SCI CLUB DAY – ANDALO-PAGANELLA SKI
DESCRIPTION:Domenica 9 gennaio 2022\nIscrizioni entro il 5 gennaio 2022 \nAutobus 25 €; Skipass: adulti 42 € – ragazzi 27 € – bambini gratuito con adulto 52 € – cauzione 5 €\nLa cauzione è da sommare allo skipass\, sarà rimborsata alle casse alla riconsegna della tessera \nPARTENZA ORE 6.00 DAL PIAZZALE CROCE ROSSA\, CREMA\n(parcheggio autobus tra Vigili Urbani e Vigili Del Fuoco) \nScarica la locandina
URL:https://caicrema.it/evento/sci-club-day-andalo-paganella-ski/
CATEGORIES:Escursionismo
END:VEVENT
END:VCALENDAR