BEGIN:VCALENDAR
VERSION:2.0
PRODID:-//CAI - Club Alpino Italiano - Sezione di Crema - ECPv5.14.0.2//NONSGML v1.0//EN
CALSCALE:GREGORIAN
METHOD:PUBLISH
X-WR-CALNAME:CAI - Club Alpino Italiano - Sezione di Crema
X-ORIGINAL-URL:https://caicrema.it
X-WR-CALDESC:Eventi per CAI - Club Alpino Italiano - Sezione di Crema
REFRESH-INTERVAL;VALUE=DURATION:PT1H
X-Robots-Tag:noindex
X-PUBLISHED-TTL:PT1H
BEGIN:VTIMEZONE
TZID:Europe/Rome
BEGIN:DAYLIGHT
TZOFFSETFROM:+0100
TZOFFSETTO:+0200
TZNAME:CEST
DTSTART:20230326T010000
END:DAYLIGHT
BEGIN:STANDARD
TZOFFSETFROM:+0200
TZOFFSETTO:+0100
TZNAME:CET
DTSTART:20231029T010000
END:STANDARD
END:VTIMEZONE
BEGIN:VEVENT
DTSTART;TZID=Europe/Rome:20230225T080000
DTEND;TZID=Europe/Rome:20230226T170000
DTSTAMP:20260420T223951
CREATED:20221222T112517Z
LAST-MODIFIED:20230123T114631Z
UID:29966-1677312000-1677430800@caicrema.it
SUMMARY:Rifugio Bagozza con luna piena
DESCRIPTION:Partenza da Crema sabato 25 febbraio alle ore 15.00. Giunti a Schilpario in località Fondi dove lasceremo le auto in un parcheggio a pagamento (5 euro)\, inizieremo la nostra ciaspolata/camminata sul sentiero 417 e su Strada del Passo del Vivione n.224 fino a giungere il Rifugio Bagozza per cena e pernottamento.\nIl mattino seguente\, dopo la colazione e i saluti al Silvio\, torneremo alle auto sempre sullo stesso percorso del giorno precedente e ci avvieremo verso Sulzano dove col traghetto approderemo a Montisola.\nDa Peschiera Maraglio ci avvieremo a piedi verso Sensole\, attraverseremo poi gli abitati di Menzino e Sinchignano per poi giungere a Siviano capoluogo dell’Isola. Cammineremo dentro gli antichi borghi di Cure e Masse\, raggiungendo così il Santuario della Madonna della Ceriola.\nRientreremo a Peschiera Maraglio sulla litoranea. Pranzo al sacco. \nATTREZZATURA: Ramponcini e ciaspole\nCOSTI RIF. IN 1/2 PENSIONE INCLUSE BEVANDE (NO GRAPPE FINALI): 55 Euro\nCOSTI TRAGHETTO MONTISOLA: 6 Euro\nI costi si intendono per persona\, versare la caparra di 30 Euro all’iscrizione. \nLe iscrizioni si ricevono in sede da martedì 17 gennaio ’23 fino a esaurimento dei 20 posti disponibili. \nScarica la locandina completa
URL:https://caicrema.it/evento/rifugio-bagozza-con-luna-piena/
LOCATION:Bagozza\, Rifugio Bagozza\, Bergamo\, Italia
CATEGORIES:Escursionismo
END:VEVENT
END:VCALENDAR