BEGIN:VCALENDAR
VERSION:2.0
PRODID:-//CAI - Club Alpino Italiano - Sezione di Crema - ECPv5.14.0.2//NONSGML v1.0//EN
CALSCALE:GREGORIAN
METHOD:PUBLISH
X-WR-CALNAME:CAI - Club Alpino Italiano - Sezione di Crema
X-ORIGINAL-URL:https://caicrema.it
X-WR-CALDESC:Eventi per CAI - Club Alpino Italiano - Sezione di Crema
REFRESH-INTERVAL;VALUE=DURATION:PT1H
X-Robots-Tag:noindex
X-PUBLISHED-TTL:PT1H
BEGIN:VTIMEZONE
TZID:Europe/Rome
BEGIN:DAYLIGHT
TZOFFSETFROM:+0100
TZOFFSETTO:+0200
TZNAME:CEST
DTSTART:20230326T010000
END:DAYLIGHT
BEGIN:STANDARD
TZOFFSETFROM:+0200
TZOFFSETTO:+0100
TZNAME:CET
DTSTART:20231029T010000
END:STANDARD
END:VTIMEZONE
BEGIN:VEVENT
DTSTART;TZID=Europe/Rome:20230312T080000
DTEND;TZID=Europe/Rome:20230312T170000
DTSTAMP:20260420T205517
CREATED:20221223T122453Z
LAST-MODIFIED:20230302T213732Z
UID:29988-1678608000-1678640400@caicrema.it
SUMMARY:Monte Molinasco da San Pellegrino Terme (Escursionismo rosa)
DESCRIPTION:Lasciate le auto nel parcheggio vicino alle terme nuove di San Pellegrino seguiamo la mulattiera che ci porta alla frazione di Alino sentiero n 506c. Diventa strada asfaltata per un breve tratto fino quasi alla frazione di Ca’ Boffelli. Si prosegue seguendo una carrozzabile sempre segnata con il 506c raggiungendo prima la baita degli alpini e in dieci minuti le tre croci del monte Molinasco. \nLe iscrizioni si ricevono in sede dal martedì 28 febbraio a venerdi 10 marzo \nScarica la locandina completa
URL:https://caicrema.it/evento/san-pellegrino-terme/
LOCATION:San Pellegrino Terme\, San Pellegrino Terme\, BG\, 24016\, Italia
CATEGORIES:Escursionismo
END:VEVENT
END:VCALENDAR