BEGIN:VCALENDAR
VERSION:2.0
PRODID:-//CAI - Club Alpino Italiano - Sezione di Crema - ECPv5.14.0.2//NONSGML v1.0//EN
CALSCALE:GREGORIAN
METHOD:PUBLISH
X-WR-CALNAME:CAI - Club Alpino Italiano - Sezione di Crema
X-ORIGINAL-URL:https://caicrema.it
X-WR-CALDESC:Eventi per CAI - Club Alpino Italiano - Sezione di Crema
REFRESH-INTERVAL;VALUE=DURATION:PT1H
X-Robots-Tag:noindex
X-PUBLISHED-TTL:PT1H
BEGIN:VTIMEZONE
TZID:Europe/Rome
BEGIN:DAYLIGHT
TZOFFSETFROM:+0100
TZOFFSETTO:+0200
TZNAME:CEST
DTSTART:20230326T010000
END:DAYLIGHT
BEGIN:STANDARD
TZOFFSETFROM:+0200
TZOFFSETTO:+0100
TZNAME:CET
DTSTART:20231029T010000
END:STANDARD
END:VTIMEZONE
BEGIN:VEVENT
DTSTART;TZID=Europe/Rome:20230625T080000
DTEND;TZID=Europe/Rome:20230625T170000
DTSTAMP:20260420T161144
CREATED:20221223T132846Z
LAST-MODIFIED:20230517T181122Z
UID:30046-1687680000-1687712400@caicrema.it
SUMMARY:Monte Alben (CSE)
DESCRIPTION:Partenza da Cornalba di fronte alla chiesa seguendo il sentiero n503 dapprima su strada sterrata poi in salita. Fino al rifugio Monte Alben la camminata è adatta a tutti\, poi per la cima il sentiero si fa più ripido ed esposto per escursionisti esperti. Ci si trova per il pranzo al rifugio Monte Alben: pranzo al sacco o possibilità di mangiare nel rifugio\, gestito dai volontari dell’associazione la Cordillera. Per la discesa faremo un giro ad anello lungo il sentiero dei partigiani. \nLe iscrizioni si ricevono in sede dal martedì 13 giugno a venerdi 23 giugno. \nScarica la locandina completa
URL:https://caicrema.it/evento/monte-alben/
CATEGORIES:Escursionismo
END:VEVENT
END:VCALENDAR