BEGIN:VCALENDAR
VERSION:2.0
PRODID:-//CAI - Club Alpino Italiano - Sezione di Crema - ECPv5.14.0.2//NONSGML v1.0//EN
CALSCALE:GREGORIAN
METHOD:PUBLISH
X-WR-CALNAME:CAI - Club Alpino Italiano - Sezione di Crema
X-ORIGINAL-URL:https://caicrema.it
X-WR-CALDESC:Eventi per CAI - Club Alpino Italiano - Sezione di Crema
REFRESH-INTERVAL;VALUE=DURATION:PT1H
X-Robots-Tag:noindex
X-PUBLISHED-TTL:PT1H
BEGIN:VTIMEZONE
TZID:Europe/Rome
BEGIN:DAYLIGHT
TZOFFSETFROM:+0100
TZOFFSETTO:+0200
TZNAME:CEST
DTSTART:20230326T010000
END:DAYLIGHT
BEGIN:STANDARD
TZOFFSETFROM:+0200
TZOFFSETTO:+0100
TZNAME:CET
DTSTART:20231029T010000
END:STANDARD
END:VTIMEZONE
BEGIN:VEVENT
DTSTART;TZID=Europe/Rome:20230708T080000
DTEND;TZID=Europe/Rome:20230709T170000
DTSTAMP:20260420T144846
CREATED:20221223T133307Z
LAST-MODIFIED:20230309T221416Z
UID:30050-1688803200-1688922000@caicrema.it
SUMMARY:Lago di Gelt - Rifugio Antonio Curò (CSE)
DESCRIPTION:Da Valbondione località Grumetti si raggiungono le case di Maslana seguendo il segnavia 332 in circa 3 ore si perviene al Rif.Antonio Curò 1.915 mt. Dal Rifugio A. Curò seguendo il contorno del lago si raggiunge il Lago naturale del Barbellino 2.131 mt. Su erto sentiero raggiungiamo il Passo di Caronella 2.612 mt. guardando a Ovest si intravede il Passo Gelt 2.727 mt. Arrivati alla bocchetta il Costeggeremo una serie di laghetti e poi costeggeremo il lago della Malgina 2.340 mt. Ora seguirà una lunga discesa\, tornando al Rif.Curò si chiuderà il giro ad anello .Dopo un breve e meritata sosta\, scenderemo a Valbondione\, (Un’escursione da non sottovalutare visto i 28 km. e quasi 2000 mt.di dislivello positivo) \nCosti 45 euro mezza pensione al rifugio Curo’\nIscrizione a partire dal 31 marzo fino al 13 giugno\nAl momento dell’iscrizione versare una caparra di 5 euro \nScarica la locandina completa
URL:https://caicrema.it/evento/lago-di-gelt-rifugio-antonio-curo/
LOCATION:Rifugio Antonio Curò\, Lago del barbellino\, Valbondione\, BG\, 24020\, Italia
CATEGORIES:Escursionismo
END:VEVENT
END:VCALENDAR