BEGIN:VCALENDAR
VERSION:2.0
PRODID:-//CAI - Club Alpino Italiano - Sezione di Crema - ECPv5.14.0.2//NONSGML v1.0//EN
CALSCALE:GREGORIAN
METHOD:PUBLISH
X-WR-CALNAME:CAI - Club Alpino Italiano - Sezione di Crema
X-ORIGINAL-URL:https://caicrema.it
X-WR-CALDESC:Eventi per CAI - Club Alpino Italiano - Sezione di Crema
REFRESH-INTERVAL;VALUE=DURATION:PT1H
X-Robots-Tag:noindex
X-PUBLISHED-TTL:PT1H
BEGIN:VTIMEZONE
TZID:Europe/Rome
BEGIN:DAYLIGHT
TZOFFSETFROM:+0100
TZOFFSETTO:+0200
TZNAME:CEST
DTSTART:20230326T010000
END:DAYLIGHT
BEGIN:STANDARD
TZOFFSETFROM:+0200
TZOFFSETTO:+0100
TZNAME:CET
DTSTART:20231029T010000
END:STANDARD
END:VTIMEZONE
BEGIN:VEVENT
DTSTART;TZID=Europe/Rome:20230902T080000
DTEND;TZID=Europe/Rome:20230905T170000
DTSTAMP:20260420T115614
CREATED:20221223T134146Z
LAST-MODIFIED:20230306T115211Z
UID:30066-1693641600-1693933200@caicrema.it
SUMMARY:Trekking Alpi Carniche (CSE)
DESCRIPTION:Trekking adatto a persone ben allenate che sappiano affrontare percorsi attrezzati. E’ obbligo il kit da ferrata. Ci troviamo sulle creste di confine tra Italia e Austria su percorsi creati dai nostri Alpini e dai Kaiserjager austriaci durante il periodo della Grande Guerra. Pernotteremo in tre rifugi austriaci\, uno dei quali ospiterà solo il nostro gruppo nel caso si sia in 14 partecipanti. Non si tratta di salite ripide e continue ma di percorsi che si snodano in divertenti sali scendi con panorami unici che spaziano dalle Dolomiti di Sesto da un lato e dai gruppi innevati del GlossKnocker e del Grossvenediger dall’altro.\nIl primo giorno non prevede ferrate ma sarà una bella e lunga camminata fino al rifugio Obstanterseehutte 2304 m\, posto sulla riva dell’omonimo lago.\nIl secondo giorno prevede la cima del Monte Cavallino 2689 m attraverso un percorso attrezzato molto semplice e divertente\, Discesa per la stessa via per riprendere il sentiero che ci condurrà al rif. Porzehutte 1942 m.\nIl terzo giorno è decisamente quello più impegnativo e divertente perche’ affronteremo prima una breve ferrata facile che ci condurrà sulla cime del Monte Palombino 2600 m\, e successivamente il Sentiero Corrado d’Ambros (moderatamente difficile). Una spettacolare cavalcata tra guglie rocciose e sentieri in cresta a volte su prati verdeggianti sempre tra rovine e postazioni di quel tragico periodo della Grande Guerra. Di qui fino al rif. Filmoor 2350 m.\nIl quarto e ultimo giorno rientreremo alla macchina sempre su comodi sentieri con una piacevole sosta presso una malga dove sosteremo per un meritato pranzo per poi riprendere la marcia conclusiva fino al Passo di Monte Croce di Comelico dove il primo giorno abbiamo lasciato le nostre auto. \nLe iscrizioni si ricevono in sede da febbraio fino al 30 maggio \nScarica la locandina completa
URL:https://caicrema.it/evento/trekking-alpi-carniche/
CATEGORIES:Escursionismo
END:VEVENT
END:VCALENDAR