BEGIN:VCALENDAR
VERSION:2.0
PRODID:-//CAI - Club Alpino Italiano - Sezione di Crema - ECPv5.14.0.2//NONSGML v1.0//EN
CALSCALE:GREGORIAN
METHOD:PUBLISH
X-WR-CALNAME:CAI - Club Alpino Italiano - Sezione di Crema
X-ORIGINAL-URL:https://caicrema.it
X-WR-CALDESC:Eventi per CAI - Club Alpino Italiano - Sezione di Crema
REFRESH-INTERVAL;VALUE=DURATION:PT1H
X-Robots-Tag:noindex
X-PUBLISHED-TTL:PT1H
BEGIN:VTIMEZONE
TZID:Europe/Rome
BEGIN:DAYLIGHT
TZOFFSETFROM:+0100
TZOFFSETTO:+0200
TZNAME:CEST
DTSTART:20230326T010000
END:DAYLIGHT
BEGIN:STANDARD
TZOFFSETFROM:+0200
TZOFFSETTO:+0100
TZNAME:CET
DTSTART:20231029T010000
END:STANDARD
END:VTIMEZONE
BEGIN:VEVENT
DTSTART;TZID=Europe/Rome:20231022T080000
DTEND;TZID=Europe/Rome:20231022T170000
DTSTAMP:20260420T101228
CREATED:20230630T210603Z
LAST-MODIFIED:20231018T130030Z
UID:30438-1697961600-1697994000@caicrema.it
SUMMARY:ATTENZIONE - CASTAGNATA IN BAITA ANNULLATA (CSE)
DESCRIPTION:In alternativa domenica mattina ci troveremo alla buca (parcheggio stazione di Crema)\nalle ore 8\,45 (ritrovo) per una camminata su ciclabili di Crema  e dintorni...\n\nDurante la giornata è prevista una sosta in piazza San Martino\, per poi proseguire\nverso Cremosano ed arrivare a Campagnola per il pranzo (facoltativo) presso il \nristorante-trattoria  "La Campagnola".\n\nAl ritorno raggiungeremo Pianengo e percorrendo la ciclabile torneremo a Crema.
URL:https://caicrema.it/evento/castagnata-in-baita-cse/
CATEGORIES:Escursionismo
END:VEVENT
END:VCALENDAR