BEGIN:VCALENDAR
VERSION:2.0
PRODID:-//CAI - Club Alpino Italiano - Sezione di Crema - ECPv5.14.0.2//NONSGML v1.0//EN
CALSCALE:GREGORIAN
METHOD:PUBLISH
X-WR-CALNAME:CAI - Club Alpino Italiano - Sezione di Crema
X-ORIGINAL-URL:https://caicrema.it
X-WR-CALDESC:Eventi per CAI - Club Alpino Italiano - Sezione di Crema
REFRESH-INTERVAL;VALUE=DURATION:PT1H
X-Robots-Tag:noindex
X-PUBLISHED-TTL:PT1H
BEGIN:VTIMEZONE
TZID:Europe/Rome
BEGIN:DAYLIGHT
TZOFFSETFROM:+0100
TZOFFSETTO:+0200
TZNAME:CEST
DTSTART:20230326T010000
END:DAYLIGHT
BEGIN:STANDARD
TZOFFSETFROM:+0200
TZOFFSETTO:+0100
TZNAME:CET
DTSTART:20231029T010000
END:STANDARD
END:VTIMEZONE
BEGIN:VEVENT
DTSTART;TZID=Europe/Rome:20231119T080000
DTEND;TZID=Europe/Rome:20231119T170000
DTSTAMP:20260420T083206
CREATED:20221223T135838Z
LAST-MODIFIED:20231110T194602Z
UID:30094-1700380800-1700413200@caicrema.it
SUMMARY:Monte Cornagera (CSE)
DESCRIPTION:Dal parcheggio Cantul di Aviatico\, si prende il ripido sentiero che sale alla Cornagera. Dopo un po’ si prende un sentiero a sinistra e con un nuovo sentiero\, si arriva in cima alla Cornagera Sosta panoramica e poi si scende da un sentiero in cui bisogna prestare attenzione.\nScesa la placca ci si infila nel ..buco della Carolina passaggio nella roccia\, per poi risalire fino alla cima del Monte Poieto a mt. 1360. In cima c’è anche il rifugio\, per cui per il pranzo o al sacco o al rifugio.\nDiscesa per altro percorso attraverso il Labirinto della Cornagera fino ad Aviatico. Gita adatta alla stagione per le poche ore di luce. \nLe iscrizioni si ricevono in sede dal martedì 14 novembre a venerdi 18 novembre. \nScarica la locandina completa
URL:https://caicrema.it/evento/monte-cornagera/
CATEGORIES:Escursionismo
END:VEVENT
END:VCALENDAR