BEGIN:VCALENDAR
VERSION:2.0
PRODID:-//CAI - Club Alpino Italiano - Sezione di Crema - ECPv5.14.0.2//NONSGML v1.0//EN
CALSCALE:GREGORIAN
METHOD:PUBLISH
X-WR-CALNAME:CAI - Club Alpino Italiano - Sezione di Crema
X-ORIGINAL-URL:https://caicrema.it
X-WR-CALDESC:Eventi per CAI - Club Alpino Italiano - Sezione di Crema
REFRESH-INTERVAL;VALUE=DURATION:PT1H
X-Robots-Tag:noindex
X-PUBLISHED-TTL:PT1H
BEGIN:VTIMEZONE
TZID:Europe/Rome
BEGIN:DAYLIGHT
TZOFFSETFROM:+0100
TZOFFSETTO:+0200
TZNAME:CEST
DTSTART:20240331T010000
END:DAYLIGHT
BEGIN:STANDARD
TZOFFSETFROM:+0200
TZOFFSETTO:+0100
TZNAME:CET
DTSTART:20241027T010000
END:STANDARD
END:VTIMEZONE
BEGIN:VEVENT
DTSTART;TZID=Europe/Rome:20240211T061500
DTEND;TZID=Europe/Rome:20240211T170000
DTSTAMP:20260420T033601
CREATED:20231227T175347Z
LAST-MODIFIED:20240201T124400Z
UID:30813-1707632100-1707670800@caicrema.it
SUMMARY:Monte Resegone (CSE)
DESCRIPTION:Dal parcheggio di Brumano si segue il sentiero n.587 e dopo i primi prati raggiungiamo il rifugio Resegone m.1265. Si prosegue fino al Colletto di Brumano dove si incrocia il sentiero che sale da Morterone. Si piega a sinistra seguendo il sentiero n 916/917 fino al rifugio Azzoni e poi fino alla vetta. \nRitrovo parcheggio scuole Galmozzi alle ore 6.15 partenza ore 6.30.\nLe iscrizioni si ricevono in sede martedi 13 febbraio e venerdi 16 febbraio. \nScarica la locandina completa
URL:https://caicrema.it/evento/monte-resegone-2/
CATEGORIES:Escursionismo
END:VEVENT
END:VCALENDAR