BEGIN:VCALENDAR
VERSION:2.0
PRODID:-//CAI - Club Alpino Italiano - Sezione di Crema - ECPv5.14.0.2//NONSGML v1.0//EN
CALSCALE:GREGORIAN
METHOD:PUBLISH
X-WR-CALNAME:CAI - Club Alpino Italiano - Sezione di Crema
X-ORIGINAL-URL:https://caicrema.it
X-WR-CALDESC:Eventi per CAI - Club Alpino Italiano - Sezione di Crema
REFRESH-INTERVAL;VALUE=DURATION:PT1H
X-Robots-Tag:noindex
X-PUBLISHED-TTL:PT1H
BEGIN:VTIMEZONE
TZID:Europe/Rome
BEGIN:DAYLIGHT
TZOFFSETFROM:+0100
TZOFFSETTO:+0200
TZNAME:CEST
DTSTART:20240331T010000
END:DAYLIGHT
BEGIN:STANDARD
TZOFFSETFROM:+0200
TZOFFSETTO:+0100
TZNAME:CET
DTSTART:20241027T010000
END:STANDARD
END:VTIMEZONE
BEGIN:VEVENT
DTSTART;TZID=Europe/Rome:20240526T080000
DTEND;TZID=Europe/Rome:20240527T170000
DTSTAMP:20260419T211507
CREATED:20231228T140217Z
LAST-MODIFIED:20231228T140217Z
UID:30890-1716710400-1716829200@caicrema.it
SUMMARY:Noli Ligure alla ricerca delle lucciole (CSE)
DESCRIPTION:Partenza da Crema nel primo pomeriggio di domenica.\nA Noli Ligure alloggeremo in un piccolo albergo dove ceneremo ed alle 20\,30 faremo un giro panoramico di circa tre ore alla ricerca delle lucciole sul crinale di Capo Noli con discesa dall’Amico Sentiero.\nIl secondo giorno ci vedrà impegnati con un bel giro ad anello delle piccole frazioni di Noli. Inizieremo con una passeggiata lungomare da Noli a Spotorno per inoltrarci nel vallone del Ric Coreallo fino a risalire alla frazione di Tosse sobborgo di Cà de Badin dove pranzeremo al sacco. Riprenderemo il cammino verso la frazione di Voze giungendo poi al punto panoramico Bric Groppino.\nDi qui inizierà la nostra discesa prima al castello di Monte Ursino e poi a Noli.\nIn questi due giorni avremo il piacere di essere accompagnati dall’amico Claudio\, profondo conoscitore dei luoghi e delle tradizioni liguri. \nRitrovo parcheggio scuole Galmozzi alle ore 13\,45 partenza ore 14.\nLe iscrizioni si ricevono in sede da martedi 30 aprile a venerdi 3 maggio.\n(Quota di 30 € da versare al momento dell’iscrizione). \nScarica la locandina completa
URL:https://caicrema.it/evento/noli-ligure-alla-ricerca-delle-lucciole-cse/
LOCATION:Noli ligure\, Noli ligure\, SV\, 17026\, Italia
CATEGORIES:Escursionismo
END:VEVENT
END:VCALENDAR