BEGIN:VCALENDAR
VERSION:2.0
PRODID:-//CAI - Club Alpino Italiano - Sezione di Crema - ECPv5.14.0.2//NONSGML v1.0//EN
CALSCALE:GREGORIAN
METHOD:PUBLISH
X-WR-CALNAME:CAI - Club Alpino Italiano - Sezione di Crema
X-ORIGINAL-URL:https://caicrema.it
X-WR-CALDESC:Eventi per CAI - Club Alpino Italiano - Sezione di Crema
REFRESH-INTERVAL;VALUE=DURATION:PT1H
X-Robots-Tag:noindex
X-PUBLISHED-TTL:PT1H
BEGIN:VTIMEZONE
TZID:Europe/Rome
BEGIN:DAYLIGHT
TZOFFSETFROM:+0100
TZOFFSETTO:+0200
TZNAME:CEST
DTSTART:20240331T010000
END:DAYLIGHT
BEGIN:STANDARD
TZOFFSETFROM:+0200
TZOFFSETTO:+0100
TZNAME:CET
DTSTART:20241027T010000
END:STANDARD
END:VTIMEZONE
BEGIN:VEVENT
DTSTART;TZID=Europe/Rome:20240623T080000
DTEND;TZID=Europe/Rome:20240623T170000
DTSTAMP:20260419T211458
CREATED:20231228T150854Z
LAST-MODIFIED:20240604T153119Z
UID:30930-1719129600-1719162000@caicrema.it
SUMMARY:Rifugio Grassi (CSE)
DESCRIPTION:Sulla strada che porta agli impianti sopra Valtorta (1100 mt)\, si imbocca il sentiero n 104 A con iniziale breve salita.Segue discesa verso il torrente proveniente da sinistra dalla valle Foppabona\, lo si attraversa mantenendo la destra (verso est). Nel bosco si segue il versante est e si arriva al bivio dove il sentiero n 104A si ricongiunge con il 104 salendo dapprima nel bosco per poi raggiungere i prati nei pressi della baita Cavallero(1747m) e della baita Caserone(1859). Proseguendo in direzione ovest si attraversa la testata della valle Foppabona fino al rifugio Grassi (1987).\nRitorno dallo stesso percorso. \nRitrovo parcheggio scuole Galmozzi alle ore 5\,45 partenza ore 6.\nLe iscrizioni si ricevono in sede da martedì 18 giugno a venerdì 21 giugno. \nScarica la locandina completa
URL:https://caicrema.it/evento/rifugio-grassi-cse/
LOCATION:rifugio Grassi\, rifugio Grassi\, Italia
CATEGORIES:Escursionismo
ORGANIZER;CN="Alberto%20Locatelli":MAILTO:escursionismo@caicrema.it
END:VEVENT
END:VCALENDAR