BEGIN:VCALENDAR
VERSION:2.0
PRODID:-//CAI - Club Alpino Italiano - Sezione di Crema - ECPv5.14.0.2//NONSGML v1.0//EN
CALSCALE:GREGORIAN
METHOD:PUBLISH
X-WR-CALNAME:CAI - Club Alpino Italiano - Sezione di Crema
X-ORIGINAL-URL:https://caicrema.it
X-WR-CALDESC:Eventi per CAI - Club Alpino Italiano - Sezione di Crema
REFRESH-INTERVAL;VALUE=DURATION:PT1H
X-Robots-Tag:noindex
X-PUBLISHED-TTL:PT1H
BEGIN:VTIMEZONE
TZID:Europe/Rome
BEGIN:DAYLIGHT
TZOFFSETFROM:+0100
TZOFFSETTO:+0200
TZNAME:CEST
DTSTART:20240331T010000
END:DAYLIGHT
BEGIN:STANDARD
TZOFFSETFROM:+0200
TZOFFSETTO:+0100
TZNAME:CET
DTSTART:20241027T010000
END:STANDARD
END:VTIMEZONE
BEGIN:VEVENT
DTSTART;TZID=Europe/Rome:20240714T080000
DTEND;TZID=Europe/Rome:20240716T170000
DTSTAMP:20260419T194250
CREATED:20231228T151626Z
LAST-MODIFIED:20231228T151626Z
UID:30939-1720944000-1721149200@caicrema.it
SUMMARY:Trek delle 3 valli (ALPINISTICA)
DESCRIPTION:Il nome di fantasia Trek delle Tre Valli è dovuto al fatto che cammineremo in tre bellissime vallate diverse. Partiremo dalla Stubaital austrica per scendere poi nella Gschnitztaler\, risaliremo poi questa valle dall’opposto versante e scenderemo nell’Italica Val di Fleres\, concludendo qui il nostro cammino.\nTrekking adatto a persone ben allenate. Necessario passo fermo\, sicuro ed assenza di vertigini in particolare modo sui sentieri con tratti attrezzati o esposti del terzo giorno. \nLe iscrizioni si ricevono in sede a partire da febbraio fino copertura dei 20 posti disponibili. Al momento dell’iscrizione sarà necessario versare una caparra di 40 euro per le due notti nei rifugi in mezza pensione. Qualora l’iscritto dovesse recedere alla partecipazione del trekking dopo la data del 20 Giugno sarà soggetto alla perdita della caparra. Se il recesso dovesse avvenire dopo la data del 4 Luglio\, oltre la caparra\, verrà richiesta la quota relativa ai pernottamenti nei due rifugi ed alle spese di segreteria. \nRitrovo al parcheggio Vigili del fuoco di Crema alle ore 4\,15 partenza ore 4\,30. \nScarica la locandina completa
URL:https://caicrema.it/evento/trek-delle-3-valli-alpinistica/
CATEGORIES:Escursionismo
END:VEVENT
END:VCALENDAR