BEGIN:VCALENDAR
VERSION:2.0
PRODID:-//CAI - Club Alpino Italiano - Sezione di Crema - ECPv5.14.0.2//NONSGML v1.0//EN
CALSCALE:GREGORIAN
METHOD:PUBLISH
X-WR-CALNAME:CAI - Club Alpino Italiano - Sezione di Crema
X-ORIGINAL-URL:https://caicrema.it
X-WR-CALDESC:Eventi per CAI - Club Alpino Italiano - Sezione di Crema
REFRESH-INTERVAL;VALUE=DURATION:PT1H
X-Robots-Tag:noindex
X-PUBLISHED-TTL:PT1H
BEGIN:VTIMEZONE
TZID:Europe/Rome
BEGIN:DAYLIGHT
TZOFFSETFROM:+0100
TZOFFSETTO:+0200
TZNAME:CEST
DTSTART:20240331T010000
END:DAYLIGHT
BEGIN:STANDARD
TZOFFSETFROM:+0200
TZOFFSETTO:+0100
TZNAME:CET
DTSTART:20241027T010000
END:STANDARD
END:VTIMEZONE
BEGIN:VEVENT
DTSTART;TZID=Europe/Rome:20240921T080000
DTEND;TZID=Europe/Rome:20240921T170000
DTSTAMP:20260419T162738
CREATED:20231228T161346Z
LAST-MODIFIED:20240920T072158Z
UID:30965-1726905600-1726938000@caicrema.it
SUMMARY:Pizzo Stella (ALPINISTICA)
DESCRIPTION:Il Rifugio Chiavenna\, è situato nella bellissima conca dell’Angeloga (2.044 m.) e ai piedi del Pizzo Stella (3.163 m.) Partenza dal paese di Fraciscio nel comune di Campodolcino.\nIl Pizzo Stella classico itinerario dell’alpinismo Chiavennasco\, cima regina della Valle Spluga.\nNon difficile\, sotto un profilo tecnico\, richiede comunque buone doti di allenamento e va affrontato con la dovuta preparazione.\nBrevi tratti in esposizione nel tratto finale e pochi passaggi di I-II° UIAA. \nRitrovo parcheggio scuole Galmozzi alle ore 5\,45 partenza ore 6.\nLe iscrizioni si ricevono in sede da martedi 3 maggio a venerdi 20 settembre o al raggiungimento dei 15 posti. \nCausa meteo neve in cima\, l’escursione cambia e andremo in val del Drogo rifugio CarloEmilio\nScarica la locandina completa
URL:https://caicrema.it/evento/pizzo-stella-alpinistica/
CATEGORIES:Escursionismo
END:VEVENT
BEGIN:VEVENT
DTSTART;TZID=Europe/Rome:20240921T080000
DTEND;TZID=Europe/Rome:20240928T170000
DTSTAMP:20260419T162738
CREATED:20231228T161608Z
LAST-MODIFIED:20240204T193502Z
UID:30968-1726905600-1727542800@caicrema.it
SUMMARY:Trekking nel Parco Nazionale del Cilento (CSE)
DESCRIPTION:Le iscrizioni si ricevono in sede il martedì e venerdì (previo appuntamento) oppure telefonicamente al 3383411599.\nLe escursioni saranno guidate da un accompagnatore professionale (guida AIGAE) della Naturaliter sempre al seguito. \nScarica la locandina completa\nScarica il programma completo
URL:https://caicrema.it/evento/trekking-nel-parco-nazionale-del-cilento-cse/
CATEGORIES:Escursionismo
END:VEVENT
END:VCALENDAR