BEGIN:VCALENDAR
VERSION:2.0
PRODID:-//CAI - Club Alpino Italiano - Sezione di Crema - ECPv5.14.0.2//NONSGML v1.0//EN
CALSCALE:GREGORIAN
METHOD:PUBLISH
X-WR-CALNAME:CAI - Club Alpino Italiano - Sezione di Crema
X-ORIGINAL-URL:https://caicrema.it
X-WR-CALDESC:Eventi per CAI - Club Alpino Italiano - Sezione di Crema
REFRESH-INTERVAL;VALUE=DURATION:PT1H
X-Robots-Tag:noindex
X-PUBLISHED-TTL:PT1H
BEGIN:VTIMEZONE
TZID:Europe/Rome
BEGIN:DAYLIGHT
TZOFFSETFROM:+0100
TZOFFSETTO:+0200
TZNAME:CEST
DTSTART:20240331T010000
END:DAYLIGHT
BEGIN:STANDARD
TZOFFSETFROM:+0200
TZOFFSETTO:+0100
TZNAME:CET
DTSTART:20241027T010000
END:STANDARD
END:VTIMEZONE
BEGIN:VEVENT
DTSTART;TZID=Europe/Rome:20241013T080000
DTEND;TZID=Europe/Rome:20241013T170000
DTSTAMP:20260419T150115
CREATED:20231228T162358Z
LAST-MODIFIED:20231228T162358Z
UID:30977-1728806400-1728838800@caicrema.it
SUMMARY:Castagnata in baita (CSE)
DESCRIPTION:Il percorso per la salita in baita verrà definito a ridosso della data dell’evento.\nAvremo due alternative:\n1) salire per la strada tradizionale che parte da Stadolina.\n2) salire dal rif. Cascate.\nIn entrambe i casi giungeremo alla nostra bellissima Baita su comoda strada sterrata\, dove ci attenderanno i nostri cuochi per il pranzo a base di polenta e formaggio\, vino\, e naturalmente le castagne. \nLa partenza per il rientro alle auto è prevista per le ore 16.\nSono gradite torte e dolci vari e qualche bottiglia di buon vino (che comunque sarà fornito dall’organizzazione).\nIn caso di maltempo la castagnata avverrà nella nostra sede CAI di Crema con orario e modalità da definire. \nScarica la locandina completa
URL:https://caicrema.it/evento/castagnata-in-baita-cse-2/
LOCATION:Baita CAI Crema\, Stadolina\, Brescia\, 25050\, Italia
CATEGORIES:Escursionismo
END:VEVENT
END:VCALENDAR