BEGIN:VCALENDAR
VERSION:2.0
PRODID:-//CAI - Club Alpino Italiano - Sezione di Crema - ECPv5.14.0.2//NONSGML v1.0//EN
CALSCALE:GREGORIAN
METHOD:PUBLISH
X-WR-CALNAME:CAI - Club Alpino Italiano - Sezione di Crema
X-ORIGINAL-URL:https://caicrema.it
X-WR-CALDESC:Eventi per CAI - Club Alpino Italiano - Sezione di Crema
REFRESH-INTERVAL;VALUE=DURATION:PT1H
X-Robots-Tag:noindex
X-PUBLISHED-TTL:PT1H
BEGIN:VTIMEZONE
TZID:Europe/Rome
BEGIN:DAYLIGHT
TZOFFSETFROM:+0100
TZOFFSETTO:+0200
TZNAME:CEST
DTSTART:20240331T010000
END:DAYLIGHT
BEGIN:STANDARD
TZOFFSETFROM:+0200
TZOFFSETTO:+0100
TZNAME:CET
DTSTART:20241027T010000
END:STANDARD
END:VTIMEZONE
BEGIN:VEVENT
DTSTART;TZID=Europe/Rome:20241027T080000
DTEND;TZID=Europe/Rome:20241027T170000
DTSTAMP:20260419T150116
CREATED:20240305T075736Z
LAST-MODIFIED:20240305T075736Z
UID:31102-1730016000-1730048400@caicrema.it
SUMMARY:Monte Due Mani (CSE)
DESCRIPTION:Dal parcheggio di Ballabio lungo la provinciale SP62\, parte il sentiero numero 30. Da prima una facile camminata nel bosco che ci porta fino alla baita di Bertù e Peppo\, poi si svolta a sinistra seguendo le indicazioni del sentiero per il Monte Due Mani fino a raggiungere il bivacco Emanuela. Ora le pendenze si fanno più ripide e si sbuca su di una cresta panoramica e a tratti esposta\, raggiungendo così la vetta del Monte Due Mani con la croce e il bivacco Locatelli. \nPer la discesa si ripercorre la stessa via di salita. \nRitrovo parcheggio scuole Galmozzi alle ore 5\,45 partenza ore 6\,00.\nLe iscrizioni si ricevono in sede martedi 22 ottobre e venerdi 25 ottobre. \nScarica la locandina completa
URL:https://caicrema.it/evento/monte-due-mani-cse-2/
CATEGORIES:Escursionismo
END:VEVENT
END:VCALENDAR