BEGIN:VCALENDAR
VERSION:2.0
PRODID:-//CAI - Club Alpino Italiano - Sezione di Crema - ECPv5.14.0.2//NONSGML v1.0//EN
CALSCALE:GREGORIAN
METHOD:PUBLISH
X-WR-CALNAME:CAI - Club Alpino Italiano - Sezione di Crema
X-ORIGINAL-URL:https://caicrema.it
X-WR-CALDESC:Eventi per CAI - Club Alpino Italiano - Sezione di Crema
REFRESH-INTERVAL;VALUE=DURATION:PT1H
X-Robots-Tag:noindex
X-PUBLISHED-TTL:PT1H
BEGIN:VTIMEZONE
TZID:Europe/Rome
BEGIN:DAYLIGHT
TZOFFSETFROM:+0100
TZOFFSETTO:+0200
TZNAME:CEST
DTSTART:20260329T010000
END:DAYLIGHT
BEGIN:STANDARD
TZOFFSETFROM:+0200
TZOFFSETTO:+0100
TZNAME:CET
DTSTART:20261025T010000
END:STANDARD
END:VTIMEZONE
BEGIN:VEVENT
DTSTART;TZID=Europe/Rome:20261004T080000
DTEND;TZID=Europe/Rome:20261004T170000
DTSTAMP:20260420T134936
CREATED:20260108T215059Z
LAST-MODIFIED:20260108T215354Z
UID:32485-1791100800-1791133200@caicrema.it
SUMMARY:Rifugio Cantedoldo da Averara (CSE)
DESCRIPTION:Dalla Via porticata di Averara parte il nostro sentiero n 133 A. Passando per la località Costa per poi entrare nel bosco\, si passano Pascoli alpini e ruscelli fino a sbucare sul bel prato dove e’ situato il rifugio di nuova costruzione (2\,30 h).\nDopo la sosta per il pranzo si riprende il cammino scendendo per il sentiero 133 che porta in circa 2 ore alla frazione di Valmoresca; poi per un breve tratto su strada asfaltata si ritorna ad Averara chiudendo cosi l’anello. \nIscrizioni in sede da martedì 23 settembre a venerdì 2 ottobre. \nScarica la locandina completa
URL:https://caicrema.it/evento/rifugio-cantedoldo-da-averara-cse/
CATEGORIES:Escursionismo
END:VEVENT
END:VCALENDAR