BEGIN:VCALENDAR
VERSION:2.0
PRODID:-//CAI - Club Alpino Italiano - Sezione di Crema - ECPv5.14.0.2//NONSGML v1.0//EN
CALSCALE:GREGORIAN
METHOD:PUBLISH
X-WR-CALNAME:CAI - Club Alpino Italiano - Sezione di Crema
X-ORIGINAL-URL:https://caicrema.it
X-WR-CALDESC:Eventi per CAI - Club Alpino Italiano - Sezione di Crema
REFRESH-INTERVAL;VALUE=DURATION:PT1H
X-Robots-Tag:noindex
X-PUBLISHED-TTL:PT1H
BEGIN:VTIMEZONE
TZID:Europe/Rome
BEGIN:DAYLIGHT
TZOFFSETFROM:+0100
TZOFFSETTO:+0200
TZNAME:CEST
DTSTART:20220327T010000
END:DAYLIGHT
BEGIN:STANDARD
TZOFFSETFROM:+0200
TZOFFSETTO:+0100
TZNAME:CET
DTSTART:20221030T010000
END:STANDARD
END:VTIMEZONE
BEGIN:VEVENT
DTSTART;TZID=Europe/Rome:20221217T080000
DTEND;TZID=Europe/Rome:20221218T170000
DTSTAMP:20260422T015217
CREATED:20220308T111049Z
LAST-MODIFIED:20221018T085240Z
UID:29230-1671264000-1671382800@caicrema.it
SUMMARY:PRETONAL
DESCRIPTION:Scarica la locandina
URL:https://caicrema.it/evento/pretonal-2/
CATEGORIES:Sci
ORGANIZER;CN="Commissione%20Sci":MAILTO:sci@caicrema.it
END:VEVENT
END:VCALENDAR