BEGIN:VCALENDAR
VERSION:2.0
PRODID:-//CAI - Club Alpino Italiano - Sezione di Crema - ECPv5.14.0.2//NONSGML v1.0//EN
CALSCALE:GREGORIAN
METHOD:PUBLISH
X-WR-CALNAME:CAI - Club Alpino Italiano - Sezione di Crema
X-ORIGINAL-URL:https://caicrema.it
X-WR-CALDESC:Eventi per CAI - Club Alpino Italiano - Sezione di Crema
REFRESH-INTERVAL;VALUE=DURATION:PT1H
X-Robots-Tag:noindex
X-PUBLISHED-TTL:PT1H
BEGIN:VTIMEZONE
TZID:Europe/Rome
BEGIN:DAYLIGHT
TZOFFSETFROM:+0100
TZOFFSETTO:+0200
TZNAME:CEST
DTSTART:20230326T010000
END:DAYLIGHT
BEGIN:STANDARD
TZOFFSETFROM:+0200
TZOFFSETTO:+0100
TZNAME:CET
DTSTART:20231029T010000
END:STANDARD
END:VTIMEZONE
BEGIN:VEVENT
DTSTART;TZID=Europe/Rome:20230205T061500
DTEND;TZID=Europe/Rome:20230205T200000
DTSTAMP:20260421T210402
CREATED:20221224T122331Z
LAST-MODIFIED:20230102T111138Z
UID:30119-1675577700-1675627200@caicrema.it
SUMMARY:Corsi sci alpino\, snowboard e sci alpinismo - Passo del Tonale
DESCRIPTION:SCI ALPINO / SNOWBOARD\nCorsi gratuiti fino a 12 anni compiuti per i primi 10 iscritti\, a pagamento per ragazzi e adulti\, dal livello principianti all’avanzato con numero minimo di sei iscritti di pari livello.\nPossibilità di noleggio attrezzatura in loco. Prima domenica dalle 13 alle 15\, restanti dalle 11 altre 13.\nSCI ALPINISMO\nCorso per ragazzi e adulti con numero minimo di sei iscritti già sciatori e con preparazione fisica adeguata.\nLa Guida Alpina\, Istruttore Nazionale e Maestro di Sci Gianni Trepin vi guiderà nella tecnica e conoscenza di questa disciplina da affrontare sempre con la massima sicurezza e conoscenza dell’ambiente.\nPossibilità di noleggio attrezzatura in loco (sci\, scarponi\, pala\, sonda\, artva). Gli orari di questo corso saranno definiti in ragione delle condizioni meteo\, saranno comunque 4 ore per domenica. \nLe iscrizioni si ricevono esclusivamente in sede da martedì 29 novembre a venerdì 13 gennaio 2023. \nScarica la locandina completa
URL:https://caicrema.it/evento/corsi-sci-alpino-snowboard-e-sci-alpinismo-passo-del-tonale-3/
LOCATION:Passo del Tonale\, Passo del Tonale -\, Ponte di legno\, Brescia\, Italia
CATEGORIES:Sci
ORGANIZER;CN="Commissione%20Sci":MAILTO:sci@caicrema.it
END:VEVENT
BEGIN:VEVENT
DTSTART;TZID=Europe/Rome:20230212T061500
DTEND;TZID=Europe/Rome:20230212T200000
DTSTAMP:20260421T210402
CREATED:20221224T122714Z
LAST-MODIFIED:20230102T111228Z
UID:30121-1676182500-1676232000@caicrema.it
SUMMARY:Corsi sci alpino\, snowboard e sci alpinismo - Passo del Tonale
DESCRIPTION:SCI ALPINO / SNOWBOARD\nCorsi gratuiti fino a 12 anni compiuti per i primi 10 iscritti\, a pagamento per ragazzi e adulti\, dal livello principianti all’avanzato con numero minimo di sei iscritti di pari livello.\nPossibilità di noleggio attrezzatura in loco. Prima domenica dalle 13 alle 15\, restanti dalle 11 altre 13.\nSCI ALPINISMO\nCorso per ragazzi e adulti con numero minimo di sei iscritti già sciatori e con preparazione fisica adeguata.\nLa Guida Alpina\, Istruttore Nazionale e Maestro di Sci Gianni Trepin vi guiderà nella tecnica e conoscenza di questa disciplina da affrontare sempre con la massima sicurezza e conoscenza dell’ambiente.\nPossibilità di noleggio attrezzatura in loco (sci\, scarponi\, pala\, sonda\, artva). Gli orari di questo corso saranno definiti in ragione delle condizioni meteo\, saranno comunque 4 ore per domenica. \nLe iscrizioni si ricevono esclusivamente in sede da martedì 29 novembre a venerdì 13 gennaio 2023. \nScarica la locandina completa
URL:https://caicrema.it/evento/corsi-sci-alpino-snowboard-e-sci-alpinismo-passo-del-tonale-4/
LOCATION:Passo del Tonale\, Passo del Tonale -\, Ponte di legno\, Brescia\, Italia
CATEGORIES:Sci
ORGANIZER;CN="Commissione%20Sci":MAILTO:sci@caicrema.it
END:VEVENT
BEGIN:VEVENT
DTSTART;TZID=Europe/Rome:20230218T160000
DTEND;TZID=Europe/Rome:20230219T020000
DTSTAMP:20260421T210402
CREATED:20221224T123018Z
LAST-MODIFIED:20230123T114234Z
UID:30123-1676736000-1676772000@caicrema.it
SUMMARY:Skinight - Corteno Golgi-Aprica (BS-SO)
DESCRIPTION:Con un tracciato complessivo di quasi sei chilometri che parte dai 1950 metri di quota dell’arrivo della seggiovia a 4 posti per arrivare direttamente fino al paese\, è una pista blu\, facile e accessibile a principianti e bambini ma godibilissima anche per gli sciatori esperti grazie alla sua ampiezza e all’impareggiabile vista che si apre su tutta la Bassa Valtellina. Per la pista Baradello di Aprica è stato inoltre recentemente inaugurato un innovativo sistema di illuminazione regalando anche l’emozione della discesa in notturna agli appassionati di sci e snowboard. Un progetto ambizioso che le ha valso il primato di “pista illuminata più lunga d’Europa”\, favorendo l’inserimento del comprensorio nella mappa delle stazioni più importanti delle Alpi\, forte richiamo per Aprica e per tutto il circondario. \nLe iscrizioni si ricevono esclusivamente in sede entro\nmartedì 14 febbraio 2023 \nScarica la locandina completa
URL:https://caicrema.it/evento/skinight-corteno-golgi-aprica-bs-so/
LOCATION:Aprica\, Aprica\, Sondrio\, Italia
CATEGORIES:Sci
ORGANIZER;CN="Commissione%20Sci":MAILTO:sci@caicrema.it
END:VEVENT
END:VCALENDAR