BEGIN:VCALENDAR
VERSION:2.0
PRODID:-//CAI - Club Alpino Italiano - Sezione di Crema - ECPv5.14.0.2//NONSGML v1.0//EN
CALSCALE:GREGORIAN
METHOD:PUBLISH
X-WR-CALNAME:CAI - Club Alpino Italiano - Sezione di Crema
X-ORIGINAL-URL:https://caicrema.it
X-WR-CALDESC:Eventi per CAI - Club Alpino Italiano - Sezione di Crema
REFRESH-INTERVAL;VALUE=DURATION:PT1H
X-Robots-Tag:noindex
X-PUBLISHED-TTL:PT1H
BEGIN:VTIMEZONE
TZID:Europe/Rome
BEGIN:DAYLIGHT
TZOFFSETFROM:+0100
TZOFFSETTO:+0200
TZNAME:CEST
DTSTART:20240331T010000
END:DAYLIGHT
BEGIN:STANDARD
TZOFFSETFROM:+0200
TZOFFSETTO:+0100
TZNAME:CET
DTSTART:20241027T010000
END:STANDARD
END:VTIMEZONE
BEGIN:VEVENT
DTSTART;TZID=Europe/Rome:20240106T061500
DTEND;TZID=Europe/Rome:20240106T200000
DTSTAMP:20260421T004214
CREATED:20231204T151321Z
LAST-MODIFIED:20231204T151321Z
UID:30722-1704521700-1704571200@caicrema.it
SUMMARY:Sci club day - Madesimo (SCI)
DESCRIPTION:Gli appassionati dei diversi Sci Club di zona ritornano a sciare per chiudere in bellezza il periodo natalizio. Le piste del comprensorio sciistico Valchiavenna-Made-simo-Campo Dolcino offrono discese per tutti i livelli sciabili più volte in giornata. Partendo dall’impianto di Campo Dolcino con la funicolare sotterranea raggiungeremo la Motta da qui poi si parte per le piste di sci alpino del comprensorio che si sviluppa nell’area tra Madesimo\, Cima Sole e la Colmanetta\, a monte si potrà raggiungere anche a piedi il ristorante. \nLe iscrizioni si ricevono esclusivamente in sede entro martedì 2 gennaio 2024 \nScarica la locandina completa
URL:https://caicrema.it/evento/sci-club-day-madesimo-sci/
LOCATION:Madesimo\, Madesimo\, SO\, 23024\, Italia
CATEGORIES:Sci
ORGANIZER;CN="Commissione%20Sci":MAILTO:sci@caicrema.it
END:VEVENT
BEGIN:VEVENT
DTSTART;TZID=Europe/Rome:20240121T061500
DTEND;TZID=Europe/Rome:20240121T200000
DTSTAMP:20260421T004214
CREATED:20231204T145912Z
LAST-MODIFIED:20231227T170426Z
UID:30711-1705817700-1705867200@caicrema.it
SUMMARY:Corsi sci alpino\, snowboard e sci alpinismo – Passo del Tonale (SCI)
DESCRIPTION:SCI ALPINO / SNOWBOARD\nCorsi gratuiti fino a 12 anni compiuti per i primi 10 iscritti\, a pagamento per ragazzi e adulti\, dal livello principianti all’avanzato con numero minimo di sei iscritti di pari livello.\nPossibilità di noleggio attrezzatura in loco. Prima domenica dalle 13 alle 15\, restanti dalle 11 altre 13.\nSCI ALPINISMO\nCorso per ragazzi e adulti con numero minimo di sei iscritti già sciatori e con preparazione fisica adeguata. La Guida Alpina\, Istruttore Nazionale e Maestro di Sci Gianni Trepin vi guiderà nella tecnica e conoscenza di questa disciplina da affrontare sempre con la massima sicurezza e conoscenza dell’ambiente. Possibilità di noleggio attrezzatura in loco (sci\, scarponi\, pala\, sonda\, artva). Gli orari di questo corso saranno definiti in ragione delle condizioni meteo\, saranno comunque 4 ore per domenica. \nLe iscrizioni si ricevono esclusivamente in sede da martedì 21 novembre 2023 a venerdì 12 gennaio 2024. \nCircolare corsi SCI 2024\nScarica la locandina completa
URL:https://caicrema.it/evento/corsi-sci-alpino-snowboard-e-sci-alpinismo-passo-del-tonale-sci/
LOCATION:Passo del Tonale\, Passo del Tonale -\, Ponte di legno\, Brescia\, Italia
CATEGORIES:Sci
ORGANIZER;CN="Commissione%20Sci":MAILTO:sci@caicrema.it
END:VEVENT
BEGIN:VEVENT
DTSTART;TZID=Europe/Rome:20240128T061500
DTEND;TZID=Europe/Rome:20240128T200000
DTSTAMP:20260421T004214
CREATED:20231204T150107Z
LAST-MODIFIED:20231227T170601Z
UID:30715-1706422500-1706472000@caicrema.it
SUMMARY:Corsi sci alpino\, snowboard e sci alpinismo – Passo del Tonale (SCI)
DESCRIPTION:SCI ALPINO / SNOWBOARD\nCorsi gratuiti fino a 12 anni compiuti per i primi 10 iscritti\, a pagamento per ragazzi e adulti\, dal livello principianti all’avanzato con numero minimo di sei iscritti di pari livello.\nPossibilità di noleggio attrezzatura in loco. Prima domenica dalle 13 alle 15\, restanti dalle 11 altre 13.\nSCI ALPINISMO\nCorso per ragazzi e adulti con numero minimo di sei iscritti già sciatori e con preparazione fisica adeguata. La Guida Alpina\, Istruttore Nazionale e Maestro di Sci Gianni Trepin vi guiderà nella tecnica e conoscenza di questa disciplina da affrontare sempre con la massima sicurezza e conoscenza dell’ambiente. Possibilità di noleggio attrezzatura in loco (sci\, scarponi\, pala\, sonda\, artva). Gli orari di questo corso saranno definiti in ragione delle condizioni meteo\, saranno comunque 4 ore per domenica. \nLe iscrizioni si ricevono esclusivamente in sede da martedì 21 novembre 2023 a venerdì 12 gennaio 2024. \nCircolare corsi SCI 2024\nScarica la locandina completa
URL:https://caicrema.it/evento/corsi-sci-alpino-snowboard-e-sci-alpinismo-passo-del-tonale-sci-2/
LOCATION:Passo del Tonale\, Passo del Tonale -\, Ponte di legno\, Brescia\, Italia
CATEGORIES:Sci
ORGANIZER;CN="Commissione%20Sci":MAILTO:sci@caicrema.it
END:VEVENT
END:VCALENDAR