BEGIN:VCALENDAR
VERSION:2.0
PRODID:-//CAI - Club Alpino Italiano - Sezione di Crema - ECPv5.14.0.2//NONSGML v1.0//EN
CALSCALE:GREGORIAN
METHOD:PUBLISH
X-WR-CALNAME:CAI - Club Alpino Italiano - Sezione di Crema
X-ORIGINAL-URL:https://caicrema.it
X-WR-CALDESC:Eventi per CAI - Club Alpino Italiano - Sezione di Crema
REFRESH-INTERVAL;VALUE=DURATION:PT1H
X-Robots-Tag:noindex
X-PUBLISHED-TTL:PT1H
BEGIN:VTIMEZONE
TZID:Europe/Rome
BEGIN:DAYLIGHT
TZOFFSETFROM:+0100
TZOFFSETTO:+0200
TZNAME:CEST
DTSTART:20240331T010000
END:DAYLIGHT
BEGIN:STANDARD
TZOFFSETFROM:+0200
TZOFFSETTO:+0100
TZNAME:CET
DTSTART:20241027T010000
END:STANDARD
END:VTIMEZONE
BEGIN:VEVENT
DTSTART;TZID=Europe/Rome:20240204T061500
DTEND;TZID=Europe/Rome:20240204T200000
DTSTAMP:20260420T225204
CREATED:20231204T150232Z
LAST-MODIFIED:20231227T170813Z
UID:30717-1707027300-1707076800@caicrema.it
SUMMARY:Corsi sci alpino\, snowboard e sci alpinismo – Passo del Tonale (SCI)
DESCRIPTION:SCI ALPINO / SNOWBOARD\nCorsi gratuiti fino a 12 anni compiuti per i primi 10 iscritti\, a pagamento per ragazzi e adulti\, dal livello principianti all’avanzato con numero minimo di sei iscritti di pari livello.\nPossibilità di noleggio attrezzatura in loco. Prima domenica dalle 13 alle 15\, restanti dalle 11 altre 13.\nSCI ALPINISMO\nCorso per ragazzi e adulti con numero minimo di sei iscritti già sciatori e con preparazione fisica adeguata. La Guida Alpina\, Istruttore Nazionale e Maestro di Sci Gianni Trepin vi guiderà nella tecnica e conoscenza di questa disciplina da affrontare sempre con la massima sicurezza e conoscenza dell’ambiente. Possibilità di noleggio attrezzatura in loco (sci\, scarponi\, pala\, sonda\, artva). Gli orari di questo corso saranno definiti in ragione delle condizioni meteo\, saranno comunque 4 ore per domenica. \nLe iscrizioni si ricevono esclusivamente in sede da martedì 21 novembre 2023 a venerdì 12 gennaio 2024. \nCircolare corsi SCI 2024\nScarica la locandina completa
URL:https://caicrema.it/evento/corsi-sci-alpino-snowboard-e-sci-alpinismo-passo-del-tonale-sci-3/
LOCATION:Passo del Tonale\, Passo del Tonale -\, Ponte di legno\, Brescia\, Italia
CATEGORIES:Sci
ORGANIZER;CN="Commissione%20Sci":MAILTO:sci@caicrema.it
END:VEVENT
BEGIN:VEVENT
DTSTART;TZID=Europe/Rome:20240211T061500
DTEND;TZID=Europe/Rome:20240211T200000
DTSTAMP:20260420T225204
CREATED:20231204T150355Z
LAST-MODIFIED:20231227T170921Z
UID:30720-1707632100-1707681600@caicrema.it
SUMMARY:Corsi sci alpino\, snowboard e sci alpinismo – Passo del Tonale (SCI)
DESCRIPTION:SCI ALPINO / SNOWBOARD\nCorsi gratuiti fino a 12 anni compiuti per i primi 10 iscritti\, a pagamento per ragazzi e adulti\, dal livello principianti all’avanzato con numero minimo di sei iscritti di pari livello.\nPossibilità di noleggio attrezzatura in loco. Prima domenica dalle 13 alle 15\, restanti dalle 11 altre 13.\nSCI ALPINISMO\nCorso per ragazzi e adulti con numero minimo di sei iscritti già sciatori e con preparazione fisica adeguata. La Guida Alpina\, Istruttore Nazionale e Maestro di Sci Gianni Trepin vi guiderà nella tecnica e conoscenza di questa disciplina da affrontare sempre con la massima sicurezza e conoscenza dell’ambiente. Possibilità di noleggio attrezzatura in loco (sci\, scarponi\, pala\, sonda\, artva). Gli orari di questo corso saranno definiti in ragione delle condizioni meteo\, saranno comunque 4 ore per domenica. \nLe iscrizioni si ricevono esclusivamente in sede da martedì 21 novembre 2023 a venerdì 12 gennaio 2024. \nCircolare corsi SCI 2024\nScarica la locandina completa
URL:https://caicrema.it/evento/corsi-sci-alpino-snowboard-e-sci-alpinismo-passo-del-tonale-sci-4/
LOCATION:Passo del Tonale\, Passo del Tonale -\, Ponte di legno\, Brescia\, Italia
CATEGORIES:Sci
ORGANIZER;CN="Commissione%20Sci":MAILTO:sci@caicrema.it
END:VEVENT
BEGIN:VEVENT
DTSTART;TZID=Europe/Rome:20240217T160000
DTEND;TZID=Europe/Rome:20240217T233000
DTSTAMP:20260420T225204
CREATED:20231204T151716Z
LAST-MODIFIED:20240217T124644Z
UID:30728-1708185600-1708212600@caicrema.it
SUMMARY:La notturna Baradello / Aprica (SCI)
DESCRIPTION:Con un tracciato complessivo di quasi sei chilometri che parte dai 1950 metri di quota dell’arrivo della seggiovia a 4 posti per arrivare direttamente fino al paese\, è una pista blu\, facile e accessibile a principianti e bambini ma godibilissima anche per gli sciatori esperti grazie alla sua ampiezza e all’impareggiabile vista che si apre su tutta la Bassa Valtellina.\nPer la pista Baradello di Aprica è stato inoltre recentemente inaugurato un innovativo sistema di illuminazione regalando anche l’emozione della discesa in notturna agli appassionati di sci e snowboard. Un progetto ambizioso che le ha valso il primato di “pista illuminata più lunga d’Europa”\, favorendo l’inserimento del comprensorio nella mappa delle stazioni più importanti delle Alpi\, forte richiamo per Aprica e per tutto il circondario. \n Le iscrizioni si ricevono esclusivamente in sede entro martedì 13 febbraio 2024. \nScarica la locandina completa
URL:https://caicrema.it/evento/la-notturna-baradello-aprica-sci/
LOCATION:Aprica\, Aprica\, Sondrio\, Italia
CATEGORIES:Sci
ORGANIZER;CN="Commissione%20Sci":MAILTO:sci@caicrema.it
END:VEVENT
END:VCALENDAR