BEGIN:VCALENDAR
VERSION:2.0
PRODID:-//CAI - Club Alpino Italiano - Sezione di Crema - ECPv5.14.0.2//NONSGML v1.0//EN
CALSCALE:GREGORIAN
METHOD:PUBLISH
X-WR-CALNAME:CAI - Club Alpino Italiano - Sezione di Crema
X-ORIGINAL-URL:https://caicrema.it
X-WR-CALDESC:Eventi per CAI - Club Alpino Italiano - Sezione di Crema
REFRESH-INTERVAL;VALUE=DURATION:PT1H
X-Robots-Tag:noindex
X-PUBLISHED-TTL:PT1H
BEGIN:VTIMEZONE
TZID:Europe/Rome
BEGIN:DAYLIGHT
TZOFFSETFROM:+0100
TZOFFSETTO:+0200
TZNAME:CEST
DTSTART:20220327T010000
END:DAYLIGHT
BEGIN:STANDARD
TZOFFSETFROM:+0200
TZOFFSETTO:+0100
TZNAME:CET
DTSTART:20221030T010000
END:STANDARD
BEGIN:DAYLIGHT
TZOFFSETFROM:+0100
TZOFFSETTO:+0200
TZNAME:CEST
DTSTART:20230326T010000
END:DAYLIGHT
BEGIN:STANDARD
TZOFFSETFROM:+0200
TZOFFSETTO:+0100
TZNAME:CET
DTSTART:20231029T010000
END:STANDARD
BEGIN:DAYLIGHT
TZOFFSETFROM:+0100
TZOFFSETTO:+0200
TZNAME:CEST
DTSTART:20240331T010000
END:DAYLIGHT
BEGIN:STANDARD
TZOFFSETFROM:+0200
TZOFFSETTO:+0100
TZNAME:CET
DTSTART:20241027T010000
END:STANDARD
END:VTIMEZONE
BEGIN:VEVENT
DTSTART;TZID=Europe/Rome:20220312T160000
DTEND;TZID=Europe/Rome:20220312T233000
DTSTAMP:20260423T003928
CREATED:20220301T112814Z
LAST-MODIFIED:20220301T112814Z
UID:29174-1647100800-1647127800@caicrema.it
SUMMARY:Baradello / Aprica - Corteno Golgi
DESCRIPTION:Altitudine\n1.200 m\n1.950 m \nLunghezza/difficoltà\n5\,5 Km / azzurra (facile) \nImpianti\nSeggiovia quadriposto \nTrasporto\nPullman (se >35) \nAttrezzatura\nsci/bastoncini – snowboard – scarponi – casco – maschera – occhiali – guanti – paraschiena \nScuola sci\nno \nNoleggio\nsì in loco previa richiesta \nOrari\nPartenza ore 16:00 da Crema P.le Croce Rossa \nSconto skipass\nsì\, (se gruppo >20) \nAssicurazione\nRC inclusa per tutti in attività sezionale. Assicurazione infortuni inclusa per i soci CAI obbligatoria per i non soci \nCon un tracciato complessivo di quasi sei chilometri che parte dai 1950 metri di quota dell’arrivo della seggiovia a 4 posti per arrivare direttamente fino al paese\, è una pista blu\, facile e accessibile a principianti e bambini ma godibilissima anche per gli sciatori esperti grazie alla sua ampiezza e all’impareggiabile vista che si apre su tutta la Bassa Valtellina. \nPer la pista Baradello di Aprica è stato inoltre recentemente inaugurato un innovativo sistema di illuminazione regalando anche l’emozione della discesa in notturna agli appassionati di sci e snowboard. Un progetto ambizioso che le ha valso il primato di “pista illuminata più lunga d’Europa”\, favorendo l’inserimento del comprensorio nella mappa delle stazioni più importanti delle Alpi\, forte richiamo per Aprica e per tutto il circondario. \nLe iscrizioni si ricevono esclusivamente in sede da martedì 1° marzo a martedì 8 marzo 2022. \nAgli iscritti verranno consegnate le note operative e il modulo di autocertificazione.\nSi fa obbligo di avere con sé il green pass rafforzato\, la mascherina FFP2\, il gel disinfettante.\nPrima della partenza\, verranno raccolte le autocertificazioni e verranno verificati i DPI.\nResponsabili attività: Fabio Rocco – Fabio Orgiu\nAccompagnatori e responsabili regole Covid: Fabio Rocco – Fabio Orgiu
URL:https://caicrema.it/evento/baradello-aprica-corteno-golgi/
LOCATION:Aprica\, Aprica\, Sondrio\, Italia
CATEGORIES:Sci
ATTACH;FMTTYPE=image/jpeg:https://caicrema.it/wp-content/uploads/2022/03/baradello.jpg
ORGANIZER;CN="Fabio%20Rocco":MAILTO:sci@caicrema.it
END:VEVENT
BEGIN:VEVENT
DTSTART;TZID=Europe/Rome:20220319T045000
DTEND;TZID=Europe/Rome:20220321T170000
DTSTAMP:20260423T003928
CREATED:20220210T150750Z
LAST-MODIFIED:20220210T150750Z
UID:29121-1647665400-1647882000@caicrema.it
SUMMARY:WECAI
DESCRIPTION:Le iscrizioni si ricevono in sede il martedì e venerdì entro il 15 marzo 2022. \nScarica la locandina
URL:https://caicrema.it/evento/wecai-3/
CATEGORIES:Sci
ATTACH;FMTTYPE=image/jpeg:https://caicrema.it/wp-content/uploads/2022/02/wecai.jpg
ORGANIZER;CN="Fabio%20Rocco":MAILTO:sci@caicrema.it
END:VEVENT
BEGIN:VEVENT
DTSTART;TZID=Europe/Rome:20220407T183000
DTEND;TZID=Europe/Rome:20220407T233000
DTSTAMP:20260423T003928
CREATED:20220331T102235Z
LAST-MODIFIED:20220331T102235Z
UID:29319-1649356200-1649374200@caicrema.it
SUMMARY:CAMMINANDO SUL SERIO
DESCRIPTION:Progetto Nordic Walking Salute & Benessere \nScarica presentazione progetto \nScarica la locandina
URL:https://caicrema.it/evento/camminando-sul-serio/
CATEGORIES:Sci
ATTACH;FMTTYPE=image/jpeg:https://caicrema.it/wp-content/uploads/2022/03/camminando-sul-serio.jpg
ORGANIZER;CN="Commissione%20Sci":MAILTO:sci@caicrema.it
END:VEVENT
BEGIN:VEVENT
DTSTART;TZID=Europe/Rome:20220412T183000
DTEND;TZID=Europe/Rome:20220412T193000
DTSTAMP:20260423T003928
CREATED:20220331T102350Z
LAST-MODIFIED:20220331T102350Z
UID:29324-1649788200-1649791800@caicrema.it
SUMMARY:CAMMINANDO SUL SERIO
DESCRIPTION:Progetto Nordic Walking Salute & Benessere \nScarica presentazione progetto \nScarica la locandina
URL:https://caicrema.it/evento/camminando-sul-serio-2/
CATEGORIES:Sci
ATTACH;FMTTYPE=image/jpeg:https://caicrema.it/wp-content/uploads/2022/03/camminando-sul-serio.jpg
ORGANIZER;CN="Commissione%20Sci":MAILTO:sci@caicrema.it
END:VEVENT
BEGIN:VEVENT
DTSTART;TZID=Europe/Rome:20220421T183000
DTEND;TZID=Europe/Rome:20220421T193000
DTSTAMP:20260423T003928
CREATED:20220331T102518Z
LAST-MODIFIED:20220331T102518Z
UID:29326-1650565800-1650569400@caicrema.it
SUMMARY:CAMMINANDO SUL SERIO
DESCRIPTION:Progetto Nordic Walking Salute & Benessere \nScarica presentazione progetto \nScarica la locandina
URL:https://caicrema.it/evento/camminando-sul-serio-3/
CATEGORIES:Sci
ATTACH;FMTTYPE=image/jpeg:https://caicrema.it/wp-content/uploads/2022/03/camminando-sul-serio.jpg
ORGANIZER;CN="Commissione%20Sci":MAILTO:sci@caicrema.it
END:VEVENT
BEGIN:VEVENT
DTSTART;TZID=Europe/Rome:20220428T183000
DTEND;TZID=Europe/Rome:20220428T193000
DTSTAMP:20260423T003928
CREATED:20220331T102703Z
LAST-MODIFIED:20220331T102703Z
UID:29328-1651170600-1651174200@caicrema.it
SUMMARY:CAMMINANDO SUL SERIO
DESCRIPTION:Progetto Nordic Walking Salute & Benessere \nScarica presentazione progetto \nScarica la locandina
URL:https://caicrema.it/evento/camminando-sul-serio-4/
CATEGORIES:Sci
ATTACH;FMTTYPE=image/jpeg:https://caicrema.it/wp-content/uploads/2022/03/camminando-sul-serio.jpg
ORGANIZER;CN="Commissione%20Sci":MAILTO:sci@caicrema.it
END:VEVENT
BEGIN:VEVENT
DTSTART;TZID=Europe/Rome:20220505T183000
DTEND;TZID=Europe/Rome:20220505T193000
DTSTAMP:20260423T003928
CREATED:20220331T102708Z
LAST-MODIFIED:20220331T102708Z
UID:29329-1651775400-1651779000@caicrema.it
SUMMARY:CAMMINANDO SUL SERIO
DESCRIPTION:Progetto Nordic Walking Salute & Benessere \nScarica presentazione progetto \nScarica la locandina
URL:https://caicrema.it/evento/camminando-sul-serio-5/
CATEGORIES:Sci
ATTACH;FMTTYPE=image/jpeg:https://caicrema.it/wp-content/uploads/2022/03/camminando-sul-serio.jpg
ORGANIZER;CN="Commissione%20Sci":MAILTO:sci@caicrema.it
END:VEVENT
BEGIN:VEVENT
DTSTART;TZID=Europe/Rome:20220512T183000
DTEND;TZID=Europe/Rome:20220512T193000
DTSTAMP:20260423T003928
CREATED:20220331T102715Z
LAST-MODIFIED:20220331T102715Z
UID:29330-1652380200-1652383800@caicrema.it
SUMMARY:CAMMINANDO SUL SERIO
DESCRIPTION:Progetto Nordic Walking Salute & Benessere \nScarica presentazione progetto \nScarica la locandina
URL:https://caicrema.it/evento/camminando-sul-serio-6/
CATEGORIES:Sci
ATTACH;FMTTYPE=image/jpeg:https://caicrema.it/wp-content/uploads/2022/03/camminando-sul-serio.jpg
ORGANIZER;CN="Commissione%20Sci":MAILTO:sci@caicrema.it
END:VEVENT
BEGIN:VEVENT
DTSTART;TZID=Europe/Rome:20220519T183000
DTEND;TZID=Europe/Rome:20220519T193000
DTSTAMP:20260423T003928
CREATED:20220331T102720Z
LAST-MODIFIED:20220331T102720Z
UID:29331-1652985000-1652988600@caicrema.it
SUMMARY:CAMMINANDO SUL SERIO
DESCRIPTION:Progetto Nordic Walking Salute & Benessere \nScarica presentazione progetto \nScarica la locandina
URL:https://caicrema.it/evento/camminando-sul-serio-7/
CATEGORIES:Sci
ATTACH;FMTTYPE=image/jpeg:https://caicrema.it/wp-content/uploads/2022/03/camminando-sul-serio.jpg
ORGANIZER;CN="Commissione%20Sci":MAILTO:sci@caicrema.it
END:VEVENT
BEGIN:VEVENT
DTSTART;TZID=Europe/Rome:20220526T183000
DTEND;TZID=Europe/Rome:20220526T193000
DTSTAMP:20260423T003928
CREATED:20220331T102736Z
LAST-MODIFIED:20220331T102736Z
UID:29332-1653589800-1653593400@caicrema.it
SUMMARY:CAMMINANDO SUL SERIO
DESCRIPTION:Progetto Nordic Walking Salute & Benessere \nScarica presentazione progetto \nScarica la locandina
URL:https://caicrema.it/evento/camminando-sul-serio-8/
CATEGORIES:Sci
ATTACH;FMTTYPE=image/jpeg:https://caicrema.it/wp-content/uploads/2022/03/camminando-sul-serio.jpg
ORGANIZER;CN="Commissione%20Sci":MAILTO:sci@caicrema.it
END:VEVENT
BEGIN:VEVENT
DTSTART;TZID=Europe/Rome:20220915T080000
DTEND;TZID=Europe/Rome:20220915T170000
DTSTAMP:20260423T003928
CREATED:20220914T085606Z
LAST-MODIFIED:20220914T085606Z
UID:29765-1663228800-1663261200@caicrema.it
SUMMARY:Camminando sul serio
DESCRIPTION:Scarica la locandina
URL:https://caicrema.it/evento/camminando-sul-serio-9/
CATEGORIES:Sci
END:VEVENT
BEGIN:VEVENT
DTSTART;TZID=Europe/Rome:20220922T080000
DTEND;TZID=Europe/Rome:20220922T170000
DTSTAMP:20260423T003928
CREATED:20220914T085706Z
LAST-MODIFIED:20220914T085706Z
UID:29544-1663833600-1663866000@caicrema.it
SUMMARY:Camminando sul serio
DESCRIPTION:Scarica la locandina
URL:https://caicrema.it/evento/camminando-sul-serio-9-2/
CATEGORIES:Sci
END:VEVENT
BEGIN:VEVENT
DTSTART;TZID=Europe/Rome:20220929T080000
DTEND;TZID=Europe/Rome:20220929T170000
DTSTAMP:20260423T003928
CREATED:20220914T085747Z
LAST-MODIFIED:20220914T085747Z
UID:29766-1664438400-1664470800@caicrema.it
SUMMARY:Camminando sul serio
DESCRIPTION:Scarica la locandina
URL:https://caicrema.it/evento/camminando-sul-serio-9-2-2/
CATEGORIES:Sci
END:VEVENT
BEGIN:VEVENT
DTSTART;TZID=Europe/Rome:20220929T195000
DTEND;TZID=Europe/Rome:20220929T203500
DTSTAMP:20260423T003928
CREATED:20220914T090508Z
LAST-MODIFIED:20220914T090508Z
UID:29767-1664481000-1664483700@caicrema.it
SUMMARY:Ginnastica Presciistica / Circuit functional training
DESCRIPTION:Scarica la locandina
URL:https://caicrema.it/evento/ginnastica-presciistica-circuit-functional-training/
CATEGORIES:Sci
END:VEVENT
BEGIN:VEVENT
DTSTART;TZID=Europe/Rome:20221006T080000
DTEND;TZID=Europe/Rome:20221006T170000
DTSTAMP:20260423T003928
CREATED:20220914T085825Z
LAST-MODIFIED:20220914T085825Z
UID:29548-1665043200-1665075600@caicrema.it
SUMMARY:Camminando sul serio
DESCRIPTION:Scarica la locandina
URL:https://caicrema.it/evento/camminando-sul-serio-9-2-2-2/
CATEGORIES:Sci
END:VEVENT
BEGIN:VEVENT
DTSTART;TZID=Europe/Rome:20221126T080000
DTEND;TZID=Europe/Rome:20221127T170000
DTSTAMP:20260423T003928
CREATED:20220308T110550Z
LAST-MODIFIED:20221004T085851Z
UID:29222-1669449600-1669568400@caicrema.it
SUMMARY:SKICITY
DESCRIPTION:Scarica la locandina
URL:https://caicrema.it/evento/skicity-2/
CATEGORIES:Sci
ORGANIZER;CN="Commissione%20Sci":MAILTO:sci@caicrema.it
END:VEVENT
BEGIN:VEVENT
DTSTART;TZID=Europe/Rome:20221217T080000
DTEND;TZID=Europe/Rome:20221218T170000
DTSTAMP:20260423T003928
CREATED:20220308T111049Z
LAST-MODIFIED:20221018T085240Z
UID:29230-1671264000-1671382800@caicrema.it
SUMMARY:PRETONAL
DESCRIPTION:Scarica la locandina
URL:https://caicrema.it/evento/pretonal-2/
CATEGORIES:Sci
ORGANIZER;CN="Commissione%20Sci":MAILTO:sci@caicrema.it
END:VEVENT
BEGIN:VEVENT
DTSTART;TZID=Europe/Rome:20230107T053000
DTEND;TZID=Europe/Rome:20230107T200000
DTSTAMP:20260423T003928
CREATED:20221223T114804Z
LAST-MODIFIED:20230102T110844Z
UID:29968-1673069400-1673121600@caicrema.it
SUMMARY:Sci club day
DESCRIPTION:Gli appassionati dei diversi Sci Club di zona ritornano\na sciare per chiudere in bellezza il periodo\nnatalizio. Le piste della Valmalenco offrono\ndiscese per tutti i livelli sciabili più volte\nin giornata. Partendo dalla funivia di Chiesa Valmalenco\,\na monte si può raggiungere anche a\npiedi il ristorante in quota; da qui poi si parte\nper le piste di sci alpino\, lo snowpark\, gli anelli\ndi sci da fondo e le altre attività all’aperto. \nLe iscrizioni si ricevono esclusivamente in sede entro\nmartedì 3 gennaio 2023 \nScarica la locandina completa
URL:https://caicrema.it/evento/sci-club-day-2/
LOCATION:Chiesa in valmalenco\, Chiesa in Valmalenco\, SO\, 23023\, Italia
CATEGORIES:Sci
ORGANIZER;CN="Commissione%20Sci":MAILTO:sci@caicrema.it
END:VEVENT
BEGIN:VEVENT
DTSTART;TZID=Europe/Rome:20230122T061500
DTEND;TZID=Europe/Rome:20230122T200000
DTSTAMP:20260423T003928
CREATED:20221224T114406Z
LAST-MODIFIED:20230102T111016Z
UID:30110-1674368100-1674417600@caicrema.it
SUMMARY:Corsi sci alpino\, snowboard e sci alpinismo - Passo del Tonale
DESCRIPTION:SCI ALPINO / SNOWBOARD\nCorsi gratuiti fino a 12 anni compiuti per i primi 10 iscritti\, a pagamento per ragazzi e adulti\, dal livello principianti all’avanzato con numero minimo di sei iscritti di pari livello.\nPossibilità di noleggio attrezzatura in loco. Prima domenica dalle 13 alle 15\, restanti dalle 11 altre 13.\nSCI ALPINISMO\nCorso per ragazzi e adulti con numero minimo di sei iscritti già sciatori e con preparazione fisica adeguata.\nLa Guida Alpina\, Istruttore Nazionale e Maestro di Sci Gianni Trepin vi guiderà nella tecnica e conoscenza di questa disciplina da affrontare sempre con la massima sicurezza e conoscenza dell’ambiente.\nPossibilità di noleggio attrezzatura in loco (sci\, scarponi\, pala\, sonda\, artva). Gli orari di questo corso saranno definiti in ragione delle condizioni meteo\, saranno comunque 4 ore per domenica. \nLe iscrizioni si ricevono esclusivamente in sede da martedì 29 novembre a venerdì 13 gennaio 2023. \nScarica la locandina completa
URL:https://caicrema.it/evento/corsi-sci-alpino-snowboard-e-sci-alpinismo-passo-del-tonale/
LOCATION:Passo del Tonale\, Passo del Tonale -\, Ponte di legno\, Brescia\, Italia
CATEGORIES:Sci
ORGANIZER;CN="Commissione%20Sci":MAILTO:sci@caicrema.it
END:VEVENT
BEGIN:VEVENT
DTSTART;TZID=Europe/Rome:20230129T061500
DTEND;TZID=Europe/Rome:20230129T200000
DTSTAMP:20260423T003928
CREATED:20221224T114638Z
LAST-MODIFIED:20230102T111058Z
UID:30116-1674972900-1675022400@caicrema.it
SUMMARY:Corsi sci alpino\, snowboard e sci alpinismo - Passo del Tonale
DESCRIPTION:SCI ALPINO / SNOWBOARD\nCorsi gratuiti fino a 12 anni compiuti per i primi 10 iscritti\, a pagamento per ragazzi e adulti\, dal livello principianti all’avanzato con numero minimo di sei iscritti di pari livello.\nPossibilità di noleggio attrezzatura in loco. Prima domenica dalle 13 alle 15\, restanti dalle 11 altre 13.\nSCI ALPINISMO\nCorso per ragazzi e adulti con numero minimo di sei iscritti già sciatori e con preparazione fisica adeguata.\nLa Guida Alpina\, Istruttore Nazionale e Maestro di Sci Gianni Trepin vi guiderà nella tecnica e conoscenza di questa disciplina da affrontare sempre con la massima sicurezza e conoscenza dell’ambiente.\nPossibilità di noleggio attrezzatura in loco (sci\, scarponi\, pala\, sonda\, artva). Gli orari di questo corso saranno definiti in ragione delle condizioni meteo\, saranno comunque 4 ore per domenica. \nLe iscrizioni si ricevono esclusivamente in sede da martedì 29 novembre a venerdì 13 gennaio 2023. \nScarica la locandina completa
URL:https://caicrema.it/evento/corsi-sci-alpino-snowboard-e-sci-alpinismo-passo-del-tonale-2/
LOCATION:Passo del Tonale\, Passo del Tonale -\, Ponte di legno\, Brescia\, Italia
CATEGORIES:Sci
ORGANIZER;CN="Commissione%20Sci":MAILTO:sci@caicrema.it
END:VEVENT
BEGIN:VEVENT
DTSTART;TZID=Europe/Rome:20230205T061500
DTEND;TZID=Europe/Rome:20230205T200000
DTSTAMP:20260423T003928
CREATED:20221224T122331Z
LAST-MODIFIED:20230102T111138Z
UID:30119-1675577700-1675627200@caicrema.it
SUMMARY:Corsi sci alpino\, snowboard e sci alpinismo - Passo del Tonale
DESCRIPTION:SCI ALPINO / SNOWBOARD\nCorsi gratuiti fino a 12 anni compiuti per i primi 10 iscritti\, a pagamento per ragazzi e adulti\, dal livello principianti all’avanzato con numero minimo di sei iscritti di pari livello.\nPossibilità di noleggio attrezzatura in loco. Prima domenica dalle 13 alle 15\, restanti dalle 11 altre 13.\nSCI ALPINISMO\nCorso per ragazzi e adulti con numero minimo di sei iscritti già sciatori e con preparazione fisica adeguata.\nLa Guida Alpina\, Istruttore Nazionale e Maestro di Sci Gianni Trepin vi guiderà nella tecnica e conoscenza di questa disciplina da affrontare sempre con la massima sicurezza e conoscenza dell’ambiente.\nPossibilità di noleggio attrezzatura in loco (sci\, scarponi\, pala\, sonda\, artva). Gli orari di questo corso saranno definiti in ragione delle condizioni meteo\, saranno comunque 4 ore per domenica. \nLe iscrizioni si ricevono esclusivamente in sede da martedì 29 novembre a venerdì 13 gennaio 2023. \nScarica la locandina completa
URL:https://caicrema.it/evento/corsi-sci-alpino-snowboard-e-sci-alpinismo-passo-del-tonale-3/
LOCATION:Passo del Tonale\, Passo del Tonale -\, Ponte di legno\, Brescia\, Italia
CATEGORIES:Sci
ORGANIZER;CN="Commissione%20Sci":MAILTO:sci@caicrema.it
END:VEVENT
BEGIN:VEVENT
DTSTART;TZID=Europe/Rome:20230212T061500
DTEND;TZID=Europe/Rome:20230212T200000
DTSTAMP:20260423T003928
CREATED:20221224T122714Z
LAST-MODIFIED:20230102T111228Z
UID:30121-1676182500-1676232000@caicrema.it
SUMMARY:Corsi sci alpino\, snowboard e sci alpinismo - Passo del Tonale
DESCRIPTION:SCI ALPINO / SNOWBOARD\nCorsi gratuiti fino a 12 anni compiuti per i primi 10 iscritti\, a pagamento per ragazzi e adulti\, dal livello principianti all’avanzato con numero minimo di sei iscritti di pari livello.\nPossibilità di noleggio attrezzatura in loco. Prima domenica dalle 13 alle 15\, restanti dalle 11 altre 13.\nSCI ALPINISMO\nCorso per ragazzi e adulti con numero minimo di sei iscritti già sciatori e con preparazione fisica adeguata.\nLa Guida Alpina\, Istruttore Nazionale e Maestro di Sci Gianni Trepin vi guiderà nella tecnica e conoscenza di questa disciplina da affrontare sempre con la massima sicurezza e conoscenza dell’ambiente.\nPossibilità di noleggio attrezzatura in loco (sci\, scarponi\, pala\, sonda\, artva). Gli orari di questo corso saranno definiti in ragione delle condizioni meteo\, saranno comunque 4 ore per domenica. \nLe iscrizioni si ricevono esclusivamente in sede da martedì 29 novembre a venerdì 13 gennaio 2023. \nScarica la locandina completa
URL:https://caicrema.it/evento/corsi-sci-alpino-snowboard-e-sci-alpinismo-passo-del-tonale-4/
LOCATION:Passo del Tonale\, Passo del Tonale -\, Ponte di legno\, Brescia\, Italia
CATEGORIES:Sci
ORGANIZER;CN="Commissione%20Sci":MAILTO:sci@caicrema.it
END:VEVENT
BEGIN:VEVENT
DTSTART;TZID=Europe/Rome:20230218T160000
DTEND;TZID=Europe/Rome:20230219T020000
DTSTAMP:20260423T003928
CREATED:20221224T123018Z
LAST-MODIFIED:20230123T114234Z
UID:30123-1676736000-1676772000@caicrema.it
SUMMARY:Skinight - Corteno Golgi-Aprica (BS-SO)
DESCRIPTION:Con un tracciato complessivo di quasi sei chilometri che parte dai 1950 metri di quota dell’arrivo della seggiovia a 4 posti per arrivare direttamente fino al paese\, è una pista blu\, facile e accessibile a principianti e bambini ma godibilissima anche per gli sciatori esperti grazie alla sua ampiezza e all’impareggiabile vista che si apre su tutta la Bassa Valtellina. Per la pista Baradello di Aprica è stato inoltre recentemente inaugurato un innovativo sistema di illuminazione regalando anche l’emozione della discesa in notturna agli appassionati di sci e snowboard. Un progetto ambizioso che le ha valso il primato di “pista illuminata più lunga d’Europa”\, favorendo l’inserimento del comprensorio nella mappa delle stazioni più importanti delle Alpi\, forte richiamo per Aprica e per tutto il circondario. \nLe iscrizioni si ricevono esclusivamente in sede entro\nmartedì 14 febbraio 2023 \nScarica la locandina completa
URL:https://caicrema.it/evento/skinight-corteno-golgi-aprica-bs-so/
LOCATION:Aprica\, Aprica\, Sondrio\, Italia
CATEGORIES:Sci
ORGANIZER;CN="Commissione%20Sci":MAILTO:sci@caicrema.it
END:VEVENT
BEGIN:VEVENT
DTSTART;TZID=Europe/Rome:20230303T140000
DTEND;TZID=Europe/Rome:20230305T200000
DTSTAMP:20260423T003928
CREATED:20221223T122232Z
LAST-MODIFIED:20230219T193736Z
UID:29986-1677852000-1678046400@caicrema.it
SUMMARY:WeCAI Ski Civetta - Alleghe (BL)
DESCRIPTION:Nel cuore delle Dolomiti Venete\, tra i monti Pelmo e Civetta\, troverai il più grande comprensorio del Veneto con paesaggi da favola\, splendide vallate\, paesi e piccoli borghi suggestivi. Nello Ski Civetta con 72 km di piste di ogni livello\, di giorno e di notte\, il divertimento è assicurato per tutti. I 23 impianti assicurano risalite veloci e i 17 rifugi vi accolgono per le vostre pause. \nLe iscrizioni si ricevono in sede il martedì e venerdì dalle 21 alle 23 entro il 24 febbraio 2023 \nScarica la locandina completa
URL:https://caicrema.it/evento/wecai-dolomiti/
CATEGORIES:Sci
ORGANIZER;CN="Commissione%20Sci":MAILTO:sci@caicrema.it
END:VEVENT
BEGIN:VEVENT
DTSTART;TZID=Europe/Rome:20230318T160000
DTEND;TZID=Europe/Rome:20230319T020000
DTSTAMP:20260423T003928
CREATED:20221224T123241Z
LAST-MODIFIED:20230219T221034Z
UID:30125-1679155200-1679191200@caicrema.it
SUMMARY:Skinight - Corteno Golgi-Aprica (BS-SO)
DESCRIPTION:Con un tracciato complessivo di quasi sei chilometri che parte dai 1950 metri di quota dell’arrivo della seggiovia a 4 posti per arrivare direttamente fino al paese\, è una pista blu\, facile e accessibile a principianti e bambini\, ma godibilissima anche per gli sciatori esperti grazie alla sua ampiezza e all’impareggiabile vista che si apre su tutta la Bassa Valtellina.\nPer la pista Baradello di Aprica è stato inoltre recentemente inaugurato un innovativo sistema di illuminazione regalando anche l’emozione della discesa in notturna agli appassionati di sci e snowboard. Un progetto ambizioso che le ha valso il primato di “pista illuminata più lunga d’Europa”\, favorendo l’inserimento del comprensorio nella mappa delle stazioni più importanti delle Alpi\, forte richiamo per Aprica e per tutto il circondario. \nLe iscrizioni si ricevono esclusivamente in sede entro martedì 14 marzo 2023. \nScarica la locandina completa
URL:https://caicrema.it/evento/skinight-corteno-golgi-aprica-bs-so-2/
LOCATION:Aprica\, Aprica\, Sondrio\, Italia
CATEGORIES:Sci
ORGANIZER;CN="Commissione%20Sci":MAILTO:sci@caicrema.it
END:VEVENT
BEGIN:VEVENT
DTSTART;TZID=Europe/Rome:20230331T140000
DTEND;TZID=Europe/Rome:20230402T200000
DTSTAMP:20260423T003928
CREATED:20221224T123404Z
LAST-MODIFIED:20230225T082212Z
UID:30127-1680271200-1680465600@caicrema.it
SUMMARY:HiSki - Val D'Aosta
DESCRIPTION:Una catena di monti corre per venticinque chilometri sul filo dei quattromila: è il Massiccio del Rosa. Ai suoi piedi sorge il comprensorio sciistico del Monterosa Ski\, un carosello di sport sulla neve d’alta quota\, articolato su tre valli e costellato di tradizioni secolari.\nIn questo contesto\, alla quiete e alla bellezza dei paesaggi si intreccia una considerevole varietà di proposte e di attività per tutte le stagioni. 180 chilometri di piste innevate si snodano attorno al Massiccio del Rosa andando a toccare le tre valli del Monterosa Ski. Si può scegliere di attraversare tutta l’area con gli sci ai piedi partendo da Champoluc e Frachey in Valle d’ Ayas\,da Gressoney-La-Trinité in Valle di Gressoney\, da Alagna in Valsesia. \nLe iscrizioni si ricevono in sede il martedì e venerdì dalle 21 alle 23 entro il 21 marzo 2023 (caparra hotel 50 € – skipass in loco) \nScarica la locandina completa
URL:https://caicrema.it/evento/hiski-val-daosta/
CATEGORIES:Sci
ORGANIZER;CN="Commissione%20Sci":MAILTO:sci@caicrema.it
END:VEVENT
BEGIN:VEVENT
DTSTART;TZID=Europe/Rome:20231118T080000
DTEND;TZID=Europe/Rome:20231119T170000
DTSTAMP:20260423T003928
CREATED:20221223T135936Z
LAST-MODIFIED:20231011T134416Z
UID:30096-1700294400-1700413200@caicrema.it
SUMMARY:SkiCity
DESCRIPTION:Sesta edizione dell’evento dedicato allo sci in città e al divertimento dei più piccoli (e non solo!) che si potranno cimentare con una prova di discesa sul tappeto Neveplast®. Il materiale speciale\, che simula il manto nevoso\, verrà installato sul declivio naturale presente nel piazzale Martiri di Nassirya (parcheggio “la buca”\, vicino alla stazione FS). La pista sarà aperta sabato 18/11 dalle 14 alle 17 e domenica 19/11 dalle 9 alle 17 (in caso di maltempo\, l’evento verrà spostato al weekend seguente 25 e 26 novembre). L’accesso alla pista sarà subordinato alla presenza degli organizzatori e/o sotto la supervisione di persone incaricate dalla Commissione Sci.\nSarà disponibile un’area dedicata ai più piccoli e a tutti coloro che non hanno mai indossato gli sci\, dove si potrà provare la sensazione di avere gli sci ai piedi e fare esercizi-gioco per imparare le posizioni e i movimenti base prima di cimentarsi con la discesa. I volontari e i componenti della Commissione Sci saranno a disposizione di chi verrà.\nPer chi è interessato ad altre attività della sezione CAI di Crema\, ci sarà la possibilità di chiedere informazioni e parlare con i membri delle diverse commissioni (escursionismo\, alpinismo giovanile\, alpover18\, cicloescursionismo\, palestra di arrampicata). \nScarica la locandina completa
URL:https://caicrema.it/evento/skicity-3/
CATEGORIES:Sci
ORGANIZER;CN="Fabio%20Rocco":MAILTO:sci@caicrema.it
END:VEVENT
BEGIN:VEVENT
DTSTART;TZID=Europe/Rome:20231216T080000
DTEND;TZID=Europe/Rome:20231217T170000
DTSTAMP:20260423T003928
CREATED:20221223T140331Z
LAST-MODIFIED:20231011T134113Z
UID:30104-1702713600-1702832400@caicrema.it
SUMMARY:PreTonal
DESCRIPTION:Primo fine settimana sulla neve con soggiorno negli hotel posti nelle immediate vicinanze delle piste. Sarà l’occasione per iniziare la nuova stagione con le prime sciate\, le prime lezioni private coi maestri\, la prova di nuovi materiali o il noleggio stagionale di sci e scarponi. Il comprensorio Ponte di legno-Tonale offre quattro aree sciistiche (Temù\, Ponte di legno\, Passo del Tonale e il ghiacciaio Presena); oltre allo sci si può cogliere le diverse opportunità offerte dal territorio: il centro storico di Ponte di Legno\, il museo della Guerra Bianca di Temù\, le passeggiate e le mini-escursioni ai rifugi raggiungibili anche con gli impianti. \nScarica la locandina completa
URL:https://caicrema.it/evento/pretonal-3/
LOCATION:Passo del Tonale\, Passo del Tonale -\, Ponte di legno\, Brescia\, Italia
CATEGORIES:Sci
END:VEVENT
BEGIN:VEVENT
DTSTART;TZID=Europe/Rome:20240106T061500
DTEND;TZID=Europe/Rome:20240106T200000
DTSTAMP:20260423T003928
CREATED:20231204T151321Z
LAST-MODIFIED:20231204T151321Z
UID:30722-1704521700-1704571200@caicrema.it
SUMMARY:Sci club day - Madesimo (SCI)
DESCRIPTION:Gli appassionati dei diversi Sci Club di zona ritornano a sciare per chiudere in bellezza il periodo natalizio. Le piste del comprensorio sciistico Valchiavenna-Made-simo-Campo Dolcino offrono discese per tutti i livelli sciabili più volte in giornata. Partendo dall’impianto di Campo Dolcino con la funicolare sotterranea raggiungeremo la Motta da qui poi si parte per le piste di sci alpino del comprensorio che si sviluppa nell’area tra Madesimo\, Cima Sole e la Colmanetta\, a monte si potrà raggiungere anche a piedi il ristorante. \nLe iscrizioni si ricevono esclusivamente in sede entro martedì 2 gennaio 2024 \nScarica la locandina completa
URL:https://caicrema.it/evento/sci-club-day-madesimo-sci/
LOCATION:Madesimo\, Madesimo\, SO\, 23024\, Italia
CATEGORIES:Sci
ORGANIZER;CN="Commissione%20Sci":MAILTO:sci@caicrema.it
END:VEVENT
BEGIN:VEVENT
DTSTART;TZID=Europe/Rome:20240121T061500
DTEND;TZID=Europe/Rome:20240121T200000
DTSTAMP:20260423T003928
CREATED:20231204T145912Z
LAST-MODIFIED:20231227T170426Z
UID:30711-1705817700-1705867200@caicrema.it
SUMMARY:Corsi sci alpino\, snowboard e sci alpinismo – Passo del Tonale (SCI)
DESCRIPTION:SCI ALPINO / SNOWBOARD\nCorsi gratuiti fino a 12 anni compiuti per i primi 10 iscritti\, a pagamento per ragazzi e adulti\, dal livello principianti all’avanzato con numero minimo di sei iscritti di pari livello.\nPossibilità di noleggio attrezzatura in loco. Prima domenica dalle 13 alle 15\, restanti dalle 11 altre 13.\nSCI ALPINISMO\nCorso per ragazzi e adulti con numero minimo di sei iscritti già sciatori e con preparazione fisica adeguata. La Guida Alpina\, Istruttore Nazionale e Maestro di Sci Gianni Trepin vi guiderà nella tecnica e conoscenza di questa disciplina da affrontare sempre con la massima sicurezza e conoscenza dell’ambiente. Possibilità di noleggio attrezzatura in loco (sci\, scarponi\, pala\, sonda\, artva). Gli orari di questo corso saranno definiti in ragione delle condizioni meteo\, saranno comunque 4 ore per domenica. \nLe iscrizioni si ricevono esclusivamente in sede da martedì 21 novembre 2023 a venerdì 12 gennaio 2024. \nCircolare corsi SCI 2024\nScarica la locandina completa
URL:https://caicrema.it/evento/corsi-sci-alpino-snowboard-e-sci-alpinismo-passo-del-tonale-sci/
LOCATION:Passo del Tonale\, Passo del Tonale -\, Ponte di legno\, Brescia\, Italia
CATEGORIES:Sci
ORGANIZER;CN="Commissione%20Sci":MAILTO:sci@caicrema.it
END:VEVENT
END:VCALENDAR