BEGIN:VCALENDAR
VERSION:2.0
PRODID:-//CAI - Club Alpino Italiano - Sezione di Crema - ECPv5.14.0.2//NONSGML v1.0//EN
CALSCALE:GREGORIAN
METHOD:PUBLISH
X-WR-CALNAME:CAI - Club Alpino Italiano - Sezione di Crema
X-ORIGINAL-URL:https://caicrema.it
X-WR-CALDESC:Eventi per CAI - Club Alpino Italiano - Sezione di Crema
REFRESH-INTERVAL;VALUE=DURATION:PT1H
X-Robots-Tag:noindex
X-PUBLISHED-TTL:PT1H
BEGIN:VTIMEZONE
TZID:Europe/Rome
BEGIN:DAYLIGHT
TZOFFSETFROM:+0100
TZOFFSETTO:+0200
TZNAME:CEST
DTSTART:20240331T010000
END:DAYLIGHT
BEGIN:STANDARD
TZOFFSETFROM:+0200
TZOFFSETTO:+0100
TZNAME:CET
DTSTART:20241027T010000
END:STANDARD
END:VTIMEZONE
BEGIN:VEVENT
DTSTART;TZID=Europe/Rome:20240217T160000
DTEND;TZID=Europe/Rome:20240217T233000
DTSTAMP:20260421T003252
CREATED:20231204T151716Z
LAST-MODIFIED:20240217T124644Z
UID:30728-1708185600-1708212600@caicrema.it
SUMMARY:La notturna Baradello / Aprica (SCI)
DESCRIPTION:Con un tracciato complessivo di quasi sei chilometri che parte dai 1950 metri di quota dell’arrivo della seggiovia a 4 posti per arrivare direttamente fino al paese\, è una pista blu\, facile e accessibile a principianti e bambini ma godibilissima anche per gli sciatori esperti grazie alla sua ampiezza e all’impareggiabile vista che si apre su tutta la Bassa Valtellina.\nPer la pista Baradello di Aprica è stato inoltre recentemente inaugurato un innovativo sistema di illuminazione regalando anche l’emozione della discesa in notturna agli appassionati di sci e snowboard. Un progetto ambizioso che le ha valso il primato di “pista illuminata più lunga d’Europa”\, favorendo l’inserimento del comprensorio nella mappa delle stazioni più importanti delle Alpi\, forte richiamo per Aprica e per tutto il circondario. \n Le iscrizioni si ricevono esclusivamente in sede entro martedì 13 febbraio 2024. \nScarica la locandina completa
URL:https://caicrema.it/evento/la-notturna-baradello-aprica-sci/
LOCATION:Aprica\, Aprica\, Sondrio\, Italia
CATEGORIES:Sci
ORGANIZER;CN="Commissione%20Sci":MAILTO:sci@caicrema.it
END:VEVENT
END:VCALENDAR