BEGIN:VCALENDAR
VERSION:2.0
PRODID:-//CAI - Club Alpino Italiano - Sezione di Crema - ECPv5.14.0.2//NONSGML v1.0//EN
CALSCALE:GREGORIAN
METHOD:PUBLISH
X-WR-CALNAME:CAI - Club Alpino Italiano - Sezione di Crema
X-ORIGINAL-URL:https://caicrema.it
X-WR-CALDESC:Eventi per CAI - Club Alpino Italiano - Sezione di Crema
REFRESH-INTERVAL;VALUE=DURATION:PT1H
X-Robots-Tag:noindex
X-PUBLISHED-TTL:PT1H
BEGIN:VTIMEZONE
TZID:Europe/Rome
BEGIN:DAYLIGHT
TZOFFSETFROM:+0100
TZOFFSETTO:+0200
TZNAME:CEST
DTSTART:20240331T010000
END:DAYLIGHT
BEGIN:STANDARD
TZOFFSETFROM:+0200
TZOFFSETTO:+0100
TZNAME:CET
DTSTART:20241027T010000
END:STANDARD
END:VTIMEZONE
BEGIN:VEVENT
DTSTART;TZID=Europe/Rome:20240302T060000
DTEND;TZID=Europe/Rome:20240303T200000
DTSTAMP:20260420T225300
CREATED:20231204T152822Z
LAST-MODIFIED:20231204T152822Z
UID:30735-1709359200-1709496000@caicrema.it
SUMMARY:WellSki Bormio (SCI)
DESCRIPTION:La combinazione perfetta è sci e terme… La stazione sciistica di Bormio non ha bisogno di descrizione\, il nome Bormio\, da solo\, è già una garanzia! A Bormio relax e sci vanno a braccetto. Post sciata potrai rilassarti nelle invitanti calde acque termali dei 3 centri wellness del comprensorio: Bormio Terme e i QC Terme Bagni Nuovi e QC Terme Bagni Vecchi\nMeno blasonata\, ma altrettanto meravigliosa è S. Caterina Valfurva… Quando gli impianti della ski area di Santa Caterina Valfurva arrivano nel loro punto più alto e il panorama si apre all’improvviso sulle vallate solitarie del Parco Nazionale dello Stelvio la sensazione è quella di non volere mai più scendere. \nLe iscrizioni si ricevono in sede il martedì e venerdì dalle 21 alle 23 entro il 23 febbraio 2024 \nScarica la locandina completa
URL:https://caicrema.it/evento/wellski-bormio-sci/
LOCATION:Bormio\, Bormio\, SO\, 23032\, Italia
CATEGORIES:Sci
ORGANIZER;CN="Commissione%20Sci":MAILTO:sci@caicrema.it
END:VEVENT
END:VCALENDAR