BEGIN:VCALENDAR
VERSION:2.0
PRODID:-//CAI - Club Alpino Italiano - Sezione di Crema - ECPv5.14.0.2//NONSGML v1.0//EN
CALSCALE:GREGORIAN
METHOD:PUBLISH
X-WR-CALNAME:CAI - Club Alpino Italiano - Sezione di Crema
X-ORIGINAL-URL:https://caicrema.it
X-WR-CALDESC:Eventi per CAI - Club Alpino Italiano - Sezione di Crema
REFRESH-INTERVAL;VALUE=DURATION:PT1H
X-Robots-Tag:noindex
X-PUBLISHED-TTL:PT1H
BEGIN:VTIMEZONE
TZID:Europe/Rome
BEGIN:DAYLIGHT
TZOFFSETFROM:+0100
TZOFFSETTO:+0200
TZNAME:CEST
DTSTART:20230326T010000
END:DAYLIGHT
BEGIN:STANDARD
TZOFFSETFROM:+0200
TZOFFSETTO:+0100
TZNAME:CET
DTSTART:20231029T010000
END:STANDARD
END:VTIMEZONE
BEGIN:VEVENT
DTSTART;TZID=Europe/Rome:20231015T080000
DTEND;TZID=Europe/Rome:20231015T123000
DTSTAMP:20260421T041556
CREATED:20231005T180058Z
LAST-MODIFIED:20231011T091251Z
UID:30586-1697356800-1697373000@caicrema.it
SUMMARY:Manutenzione sentieri
DESCRIPTION:Verrà fatto un piccolo giro insieme alla commissione giovanile\, tra quartiere castelnuovo e fiume Serio e rientro. \nLe iscrizioni si ricevono in sede fino a venerdi 13 ottobre dove verranno fornite informazioni piu’ dettagliate \nScarica la locandina completa
URL:https://caicrema.it/evento/manutenzione-sentieri-3/
LOCATION:CR
CATEGORIES:Sentieri
ORGANIZER;CN="Leonardo%20Del%20Priore":MAILTO:sentieri@caicrema.it
END:VEVENT
BEGIN:VEVENT
DTSTART;TZID=Europe/Rome:20231015T080000
DTEND;TZID=Europe/Rome:20231015T170000
DTSTAMP:20260421T041556
CREATED:20221223T135322Z
LAST-MODIFIED:20231004T130825Z
UID:30084-1697356800-1697389200@caicrema.it
SUMMARY:Festa con le famiglie (AG)
DESCRIPTION:Domenica – 15 ottobre 2023 Festa dell’Alpinismo Giovanile con tutta la famiglia Sul Serio per imparare a segnare i sentieri Oratorio di Castelnuovo – Crema\nRegolamento \n\nAlla giornata sono invitati\, oltre ai Ragazzi e agli Accompagnatori di Alpinismo Giovanile\, i genitori\, i fratelli e le sorelle\, i nonni e le nonne\, gli amici e le amiche… senza limiti di età. La giornata di festa è anche un’occasione per far conoscere l’Alpinismo Giovanile ad altre famiglie.\nIn caso di rinucia nei giorni antecedenti la data della giornata di festa\, si prega di avvisare la sede CAI presso la quale è stata effettuata l’iscrizione. In caso di rinuncia il giorno stesso si prega di avvisare chiamando uno dei numeri di cellulare sopra indicati.\nLa giornata di festa si effettua con qualsiasi condizione metereologica\, in caso di maltempo sono previste attività al coperto.\nSi raccomanda la massima puntualità.\n\nProgramma di massima della giornata\nore 8:30: ritrovo all’oratorio di Castelnuovo\, per depositare le borse pic-nic\, vettovaglie\, bibite e torte.\nore 8:45: insieme agli amici della Commissione Sentieri del CAI di Crema partiremo muniti di vernice\, pennelli\ne guanti per segnare un nuovo sentiero sul fiume Serio.\nore 12:00: pranzo presso l’oratorio.\nore 14:00: premiazione dei ragazzi e proiezione delle foto delle attività del 2022.\nore 16:00: chiusura attività.\nQuota e note\nLa quota pro-capite\, da versare al momento dell’iscrizione\, è pari a 5 euro. Per bambini di età inferiore ai 3\nanni non è prevista alcuna quota.\nIl trasporto da Lodi e Crema all’oratorio di Castelnuovo (Via Zambellini – Crema) sarà effettuato con mezzi\npropri. Per eventuali problemi logistici contattare gli accompagnatori.\nLa quota comprende l’utilizzo delle strutture dell’oratorio e la consumazione di un piatto di pasta gentilemente\ncucinato dai nostri amici cuochi del CAI. Per il secondo\, ognuno si regoli come crede (ovvero “secondo al\nsacco”). Mentre per il dessert confidiamo\, come al solito\, nelle prelibate torte casalighe dei genitori pasticceri.\nImportante\nPer evitare inutili sprechi\, invitiamo le famiglie a portare\, se possibile\, le proprie stoviglie da pic-nic e/o\ncampeggio per il pranzo (piatti\, posate\, bicchieri\, tovaglioli e anche bibite). Per chi ne fosse sprovvisto\,\nsaranno comunque fornite stoviglie usa e getta biodegradabili.\nIl nostro auspicio è quello di limitare il più possibile la raccolta di spazzatura e rifiuti.\nEquipaggiamento consigliato\nSi consiglia un abbigliamento sportivo\, scarpe da ginnastica.\nLa vernice per segnare il sentiero è indelebile ed è molto probabile che\nci sporcheremo quindi consigliamo abiti che poi si possono buttare.\nIn caso di pioggia ombrellino e mantella.\nProssimo appuntamento\nLe attività di Alpinismo Giovanile riprenderanno il prossimo anno: la prima uscita è programmata per\ndomenica 21 gennaio 2024. Il nuovo programma 2024 sarà disponibile a breve.\n\n\n				SCARICA LOCANDINA
URL:https://caicrema.it/evento/festa-con-le-famiglie/
LOCATION:CR
CATEGORIES:Alpinismo giovanile,Sentieri
END:VEVENT
END:VCALENDAR