BEGIN:VCALENDAR
VERSION:2.0
PRODID:-//CAI - Club Alpino Italiano - Sezione di Crema - ECPv5.14.0.2//NONSGML v1.0//EN
CALSCALE:GREGORIAN
METHOD:PUBLISH
X-WR-CALNAME:CAI - Club Alpino Italiano - Sezione di Crema
X-ORIGINAL-URL:https://caicrema.it
X-WR-CALDESC:Eventi per CAI - Club Alpino Italiano - Sezione di Crema
REFRESH-INTERVAL;VALUE=DURATION:PT1H
X-Robots-Tag:noindex
X-PUBLISHED-TTL:PT1H
BEGIN:VTIMEZONE
TZID:Europe/Rome
BEGIN:DAYLIGHT
TZOFFSETFROM:+0100
TZOFFSETTO:+0200
TZNAME:CEST
DTSTART:20240331T010000
END:DAYLIGHT
BEGIN:STANDARD
TZOFFSETFROM:+0200
TZOFFSETTO:+0100
TZNAME:CET
DTSTART:20241027T010000
END:STANDARD
END:VTIMEZONE
BEGIN:VEVENT
DTSTART;TZID=Europe/Rome:20240302T080000
DTEND;TZID=Europe/Rome:20240302T170000
DTSTAMP:20260420T194458
CREATED:20231113T112932Z
LAST-MODIFIED:20240229T101235Z
UID:30632-1709366400-1709398800@caicrema.it
SUMMARY:Manutenzione sentiero 300 da cava isolotto (SENTIERI)
DESCRIPTION:EVENTO ANNULLATO CAUSA METEO | \nAndrà a Sabato 09 MARZO 2024 \n \nProgrammazione annuale sentieri\nRipasso segnaletica orizzontale\, sentiero 300 “Laghetto dei riflessi”\, con nuova partenza da cava isolotto. \nLe seguenti ulteriori date faranno parte del nostro programma di manutenzione sentieri del cremasco per il sabato del: 04/05/2024. \nI sentieri manutenuti saranno il 300\, 301 e 302. \nScarica la locandina completa del 09-Marzo-2024
URL:https://caicrema.it/evento/manutenzione-sentieri-marzo-2024/
LOCATION:CR
CATEGORIES:Sentieri
ORGANIZER;CN="Leonardo%20Del%20Priore":MAILTO:sentieri@caicrema.it
END:VEVENT
BEGIN:VEVENT
DTSTART;TZID=Europe/Rome:20240309T080000
DTEND;TZID=Europe/Rome:20240309T123000
DTSTAMP:20260420T194458
CREATED:20240229T101130Z
LAST-MODIFIED:20240309T110252Z
UID:31097-1709971200-1709987400@caicrema.it
SUMMARY:Manutenzione sentiero 300 da cava isolotto (SENTIERI)
DESCRIPTION:Programmazione annuale sentieri\nCAUSA MALTEMPO QUESTO EVENTO E’ STATO ANNULLATO \nRipasso segnaletica orizzontale\, sentiero 300 “Laghetto dei riflessi”\, con nuova partenza da cava isolotto. \nLe seguenti ulteriori date faranno parte del nostro programma di manutenzione sentieri del cremasco per il sabato del: 04/05/2024. \nI sentieri manutenuti saranno il 300\, 301 e 302. \nScarica la locandina completa
URL:https://caicrema.it/evento/manutenzione-sentieri-marzo-2024-2/
LOCATION:CR
CATEGORIES:Sentieri
ORGANIZER;CN="Leonardo%20Del%20Priore":MAILTO:sentieri@caicrema.it
END:VEVENT
END:VCALENDAR