BEGIN:VCALENDAR
VERSION:2.0
PRODID:-//CAI - Club Alpino Italiano - Sezione di Crema - ECPv5.14.0.2//NONSGML v1.0//EN
CALSCALE:GREGORIAN
METHOD:PUBLISH
X-WR-CALNAME:CAI - Club Alpino Italiano - Sezione di Crema
X-ORIGINAL-URL:https://caicrema.it
X-WR-CALDESC:Eventi per CAI - Club Alpino Italiano - Sezione di Crema
REFRESH-INTERVAL;VALUE=DURATION:PT1H
X-Robots-Tag:noindex
X-PUBLISHED-TTL:PT1H
BEGIN:VTIMEZONE
TZID:Europe/Rome
BEGIN:DAYLIGHT
TZOFFSETFROM:+0100
TZOFFSETTO:+0200
TZNAME:CEST
DTSTART:20240331T010000
END:DAYLIGHT
BEGIN:STANDARD
TZOFFSETFROM:+0200
TZOFFSETTO:+0100
TZNAME:CET
DTSTART:20241027T010000
END:STANDARD
END:VTIMEZONE
BEGIN:VEVENT
DTSTART;TZID=Europe/Rome:20240511T080000
DTEND;TZID=Europe/Rome:20240511T170000
DTSTAMP:20260420T163636
CREATED:20231113T113049Z
LAST-MODIFIED:20240502T115405Z
UID:30634-1715414400-1715446800@caicrema.it
SUMMARY:Manutenzione sentieri (SENTIERI)
DESCRIPTION:Manutenzione straordinaria del sentiero “300” Laghetto dei Riflessi\nA causa della caduta di alberi in zona Cava Isolotto\, è stata programmata una manutenzione straordinaria per lo spostamento di materiale vegetale dal sentiero e l’opposizione della segnaletica orizzontale. \nIscrizioni all’attività sociale\, entro Venerdi 10 Maggio\, apertura sede. \nScarica la locandina completa
URL:https://caicrema.it/evento/manutenzione-sentieri-4-2/
LOCATION:CR
CATEGORIES:Sentieri
ATTACH;FMTTYPE=image/jpeg:https://caicrema.it/wp-content/uploads/2024/04/WhatsApp-Image-2024-04-03-at-5.02.14-PM.jpeg
ORGANIZER;CN="Leonardo%20Del%20Priore":MAILTO:sentieri@caicrema.it
END:VEVENT
BEGIN:VEVENT
DTSTART;TZID=Europe/Rome:20240512T080000
DTEND;TZID=Europe/Rome:20240512T120000
DTSTAMP:20260420T163636
CREATED:20240424T081452Z
LAST-MODIFIED:20240506T203650Z
UID:31193-1715500800-1715515200@caicrema.it
SUMMARY:Ripuliamo sentieri (SENTIERI)
DESCRIPTION:Ripuliamo sentieri\nIn occasione della giornata nazionale\, è in programma con FIAB\, CAI e Legambiente  con il patrocinio del Parco Serio e Legambiente lombardia\,  la pulizia del sentiero che da Crema porta verso il Marzale\, altezza Cava Ghirardi. \nRITROVO ALLE ORE 09:30 di DOMENICA 12 MAGGIO \nPresso il parcheggio della CONAD a CREMA (Via Macello) \n \n 
URL:https://caicrema.it/evento/ripuliamo-sentieri/
LOCATION:CR
CATEGORIES:Sentieri
ATTACH;FMTTYPE=image/jpeg:https://caicrema.it/wp-content/uploads/2024/04/IMG_2653-1024x768-1.jpeg
ORGANIZER;CN="Leonardo%20Del%20Priore":MAILTO:sentieri@caicrema.it
END:VEVENT
END:VCALENDAR