BEGIN:VCALENDAR
VERSION:2.0
PRODID:-//CAI - Club Alpino Italiano - Sezione di Crema - ECPv5.14.0.2//NONSGML v1.0//EN
CALSCALE:GREGORIAN
METHOD:PUBLISH
X-WR-CALNAME:CAI - Club Alpino Italiano - Sezione di Crema
X-ORIGINAL-URL:https://caicrema.it
X-WR-CALDESC:Eventi per CAI - Club Alpino Italiano - Sezione di Crema
REFRESH-INTERVAL;VALUE=DURATION:PT1H
X-Robots-Tag:noindex
X-PUBLISHED-TTL:PT1H
BEGIN:VTIMEZONE
TZID:Europe/Rome
BEGIN:DAYLIGHT
TZOFFSETFROM:+0100
TZOFFSETTO:+0200
TZNAME:CEST
DTSTART:20230326T010000
END:DAYLIGHT
BEGIN:STANDARD
TZOFFSETFROM:+0200
TZOFFSETTO:+0100
TZNAME:CET
DTSTART:20231029T010000
END:STANDARD
END:VTIMEZONE
BEGIN:VEVENT
DTSTART;TZID=Europe/Rome:20231216T083000
DTEND;TZID=Europe/Rome:20231216T130000
DTSTAMP:20260421T023321
CREATED:20231004T132454Z
LAST-MODIFIED:20231127T115519Z
UID:30568-1702715400-1702731600@caicrema.it
SUMMARY:Manutenzione del sentiero "300" Laghetto dei Riflessi
DESCRIPTION:Manutenzione del sentiero “300” Laghetto dei Riflessi\nLe seguenti date faranno parte del nostro programma di manutenzione sentieri di sabato: 16/12/2023 \, 13/01/2024\, 02/03/2024\, 04/05/2024. \nCi incontreremo presso i parcheggi di Via Cadorna\, per avviare i lavori di tracciamento per la segnaletica Orizzontale del percorso numero 300\, già tracciato dai nostri operatori sentieri nel periodo di Gennaio 2023. \nPrima dell’inizio dei lavori verrà effettuato un piccolo briefing informativo sui rischi delle attività di manutenzione dei sentieri\, verranno elencate le azioni della giornata\, obbligatorio portarsi i guanti da lavoro e un abbigliamento consono all’attività secondo le norme di sicurezza DPI. \n	\n		\n		Scarica la locandina
URL:https://caicrema.it/evento/manutenzione-sentiero-300-dicembre-2023/
LOCATION:Via Cadorna\, Via Cadorna\, Crema\, CR\, 26010\, Italia
CATEGORIES:Sentieri
ORGANIZER;CN="Leonardo%20Del%20Priore":MAILTO:sentieri@caicrema.it
END:VEVENT
END:VCALENDAR