BEGIN:VCALENDAR
VERSION:2.0
PRODID:-//CAI - Club Alpino Italiano - Sezione di Crema - ECPv5.14.0.2//NONSGML v1.0//EN
CALSCALE:GREGORIAN
METHOD:PUBLISH
X-WR-CALNAME:CAI - Club Alpino Italiano - Sezione di Crema
X-ORIGINAL-URL:https://caicrema.it
X-WR-CALDESC:Eventi per CAI - Club Alpino Italiano - Sezione di Crema
REFRESH-INTERVAL;VALUE=DURATION:PT1H
X-Robots-Tag:noindex
X-PUBLISHED-TTL:PT1H
BEGIN:VTIMEZONE
TZID:Europe/Rome
BEGIN:DAYLIGHT
TZOFFSETFROM:+0100
TZOFFSETTO:+0200
TZNAME:CEST
DTSTART:20190331T010000
END:DAYLIGHT
BEGIN:STANDARD
TZOFFSETFROM:+0200
TZOFFSETTO:+0100
TZNAME:CET
DTSTART:20191027T010000
END:STANDARD
END:VTIMEZONE
BEGIN:VEVENT
DTSTART;TZID=Europe/Rome:20190609T080000
DTEND;TZID=Europe/Rome:20190609T170000
DTSTAMP:20260426T063106
CREATED:20190102T162959Z
LAST-MODIFIED:20190102T162959Z
UID:26964-1560067200-1560099600@caicrema.it
SUMMARY:CAMMINA NEI PARCHI
DESCRIPTION:Carattere della gita: \nIn ambiente collinare\, storica\, culturale e naturalistica. \nDifficoltà tecniche e pericoli oggettivi: \nNessuna\, impegnativa a livello fisico. \nEquipaggiamento: \nMedia montagna\, con abbigliamento adatto alla stagione e alle condizioni meteorologiche. \nAttrezzatura: \nAdatta alla escursione e alle condizioni del terreno.  \nDislivello:     \nIntorno ai 500m. \nTempo di percorrenza: \nGiro ad anello di circa 7 ore. \nRitrovo e Partenza da Crema: \nRitrovo al parcheggio di fronte all’Istituto Crema TRE\, Nelson Mandela\, di via Mercato\, alle ore  07.50 \nPartenza: alle ore 08.00 \nPercorso automobilistico di max: \nCrema\, TEM\, Merate. \nCoordinatore escursione: \nBeppe Ruffo \nPROGRAMMA: \nCammina nei Parchi è un’iniziativa organizzata dal CAI e da Federparchi ” per il piacere di camminare in libertà\, nei territori\, sui sentieri\, per incontrare paesaggi\, persone\, storie e culture. \nIl Parco di Montevecchia è stato istituito dalla Legge Regionale n. 77 del 16/09/1983. Ricopre una superficie di circa 2741 ettari\, ed il suo territorio interessa\, in tutto o in parte\, undici Comuni: Merate\, Cernusco Lombardone\, Lomagna\, Missaglia\, Montevecchia\, Olgiate Molgora\, Osnago\, Perego\, Rovagnate\, Sirtori\, Viganò. \nIl Parco non è una riserva integrale\, ma un’area molto diversificata in cui sono presenti\, oltre a zone di rilevante interesse ambientale\, anche centri urbani\, insediamenti produttivi\, aree destinate all’agricoltura e all’allevamento accanto a monumenti architettonici di grande valore artistico e culturale. Il Parco coincide con l’estremo lembo verde\, o comunque ricco di elementi naturali\, della Brianza sud-orientale. Le sorgenti pietrificate\, i boschi di igrofili\, sono emergenze ambientali  collocate all’interno del territorio forestale\, mentre i prati magri sono fortemente dipendenti dall’attività dell’uomo.  Il complesso boscato Valle del Curone – Valle Santa Croce – Viganò\, rappresenta l’ultima superficie forestale di considerevoli dimensioni in continuità con le formazioni boscate dei rilievi prealpini… Terrazze coltivate\, a vite\, olivo\, prato  si alternano a dolci colline erbose\, interrotte dal verde intenso del bosco. \nSCHEDA INFORMATIVA \nI partecipanti dopo aver preso visione del programma gita\, e dopo essersi resi conto delle eventuali difficoltà del percorso\, delle eventuali difficoltà tecniche e pericoli oggettivi (evidenziati in questa informativa)\, sono obbligati ad esprimersi favorevolmente o negativamente sulla propria autonomia di partecipazione. Dichiarano altresì di assumersi liberamente il rischio sportivo connesso\, prendono atto che l’organizzazione da parte della sezione e dei suoi coordinatori di gita volontari è annessa agli aspetti puramente logistici\, non prevede l’insorgere di alcun rapporto di accompagnamento\, inoltre sono tenuti a presentarsi con 10’ di anticipo sul luogo della partenza.Con l’iscrizione si accetta quanto sopra riportato. La gita può essere variata in toto o in parte ad insindacabile giudizio del coordinatore di gita. Il coordinatore di gita ha facoltà di escludere dalla gita i partecipanti che si presentassero privi della necessaria attrezzatura riportata nella presente informativa. \nNon sono ammessi alla gita coloro i quali non siano regolarmente iscritti in sede. \nTutti coloro che intendono partecipare ad una gita sociale (escluso programma: Alpinismo giovanile e Sci alpino) devono iscriversi entro e non oltre: \n– il martedì precedente all’uscita. \nNon si accettano prenotazioni telefoniche.  \nIl costo dell’iscrizione per l’assicurazione è fissato per i non soci in Euro 9\,00 per le gite di un giorno\, mentre per quelle di due giorni è fissato in Euro 17\,00. L’iscrizione (per soci e non soci) è subordinata al versamento della caparra\, la caparra per il pernottamento al rifugio e l’eventuale Pullman sarà comunicata prima di ogni gita e al momento dell’iscrizione dal Coordinatore di gita. L’iscrizione alla gita comprende la copertura assicurativa in caso di morte o invalidità permanente\, e copre i costi del Soccorso Alpino. \nIl testo integrale del Regolamento è stato pubblicato sull’Annuario 2005/2006\, ed è consultabile presso la sede di via Donati\, 10.
URL:https://caicrema.it/evento/cammina-nei-parchi/
LOCATION:Parco di Montevecchia\, Parco regionale di Montevecchia e della Valle del Curone\, Merate\, Italia
CATEGORIES:TAM ONC
ATTACH;FMTTYPE=image/jpeg:https://caicrema.it/wp-content/uploads/2019/01/21.jpg
END:VEVENT
BEGIN:VEVENT
DTSTART;TZID=Europe/Rome:20190629T080000
DTEND;TZID=Europe/Rome:20190630T170000
DTSTAMP:20260426T063106
CREATED:20181214T161747Z
LAST-MODIFIED:20181214T161747Z
UID:26819-1561795200-1561914000@caicrema.it
SUMMARY:LA VIA DI OTZI
DESCRIPTION:Carattere della gita: \nStorica\, escursionistica. \nDifficoltà tecniche e pericoli oggettivi: \nPer escursionisti\, impegnativa a livello fisico. \nEquipaggiamento: \nMedia e Alta  montagna\, adatto alla stagione \nAttrezzatura: \nIn base al tipo di escursione.  \nDislivello:     \n\n1308 + 200 ca. sia in salita che in discesa.\n\nTempo di percorrenza: \n\nsalita primo giorno mt 1308 h 4\,00 ca\nsalita secondo giorno mt 200 minuti 45 ca\nDiscesa h 5 ca\n\nRitrovo e Partenza da Crema: \nRitrovo al parcheggio Scuole Agello alle h. 06:20 \nPartenza: h.06:30  \nPercorso automobilistico di max: \nCrema\, autostrada del Brennero\, Brunico\, Vernago (Bz). \nCoordinatore di gita: \nMariangela Savoia – 0373 203463 \nPROGRAMMA: \nIL PRIMO GIORNO: \nSi arriva in Val Senales al Lago di Vernago (circa 1711 mt) dove  inizia l’itinerario\,  a seguire l’indicazione per il “Rifugio Similaun”\, proseguendo per circa 20 minuti in direzione Nord\, salendo verso il Maso Tisenhof (1822 m; punto di ristoro). Successivamente si procede lungo il sentiero marcato n.2\, nella solitaria Valle di Tisa\, qui inizia una lunga salita\, in buona parte di media difficoltà\, prima attraverso un rado bosco di larici\, poi lungo terreni erbosi a tratti rocciosi\, per poi risalire infine un ghiaione ai piedi di un impervio fianco roccioso. Da qui\, percorrendo un sentiero agevole a zig-zag  si punta dritti verso il Rifugio Similaun al Giogo Basso (3019 m) (4 ore circa). \nPernottamento al Rifugio Similaun. \n  \nIL SECONDO GIORNO: \nDal Rifugio Similaun si sale in circa 45 minuti al “Giogo Alto di Rosa” 3210 m con ulteriore dislivello di circa 200 m.\, zona di ritrovamento del preistorico “uomo dei ghiacci” anche noto come  “OTZI” (con queste salite si evita di camminare sul ghiaccio). \n  \nSi scende al Rifugio Similaun e si prende il sentiero panoramico che porta al Maso Tisa e poi al Lago di Vernago. \nSCHEDA INFORMATIVA \nI partecipanti dopo aver preso visione del programma gita\, e dopo essersi resi conto delle eventuali difficoltà del percorso\, delle eventuali difficoltà tecniche e pericoli oggettivi (evidenziati in questa informativa)\, sono obbligati ad esprimersi favorevolmente o negativamente sulla propria autonomia di partecipazione. Dichiarano altresì di assumersi liberamente il rischio sportivo connesso\, prendono atto che l’organizzazione da parte della sezione e dei suoi coordinatori di gita volontari è annessa agli aspetti puramente logistici\, non prevede l’insorgere di alcun rapporto di accompagnamento\, inoltre sono tenuti a presentarsi con 10’ di anticipo sul luogo della partenza.Con l’iscrizione si accetta quanto sopra riportato. La gita può essere variata in toto o in parte ad insindacabile giudizio del coordinatore di gita. Il coordinatore di gita ha facoltà di escludere dalla gita i partecipanti che si presentassero privi della necessaria attrezzatura riportata nella presente informativa. \nNon sono ammessi alla gita coloro i quali non siano regolarmente iscritti in sede. \nTutti coloro che intendono partecipare ad una gita sociale (escluso programma: Alpinismo giovanile e Sci alpino) devono iscriversi entro e non oltre: \n– il martedì precedente all’uscita. \nNon si accettano prenotazioni telefoniche.  \nIl costo dell’iscrizione per l’assicurazione è fissato per i non soci in Euro 9\,00 per le gite di un giorno\, mentre per quelle di due giorni è fissato in Euro 17\,00. L’iscrizione (per soci e non soci) è subordinata al versamento della caparra\, la caparra per il pernottamento al rifugio e l’eventuale Pullman sarà comunicata prima di ogni gita e al momento dell’iscrizione dal Coordinatore di gita. L’iscrizione alla gita comprende la copertura assicurativa in caso di morte o invalidità permanente\, e copre i costi del Soccorso Alpino.Il testo integrale del Regolamento è stato pubblicato sull’Annuario2005/2006\, ed è consultabile presso la sede di via Donati\, 10
URL:https://caicrema.it/evento/la-via-di-otzi/
LOCATION:Similaun\, Similaun
CATEGORIES:TAM ONC
ATTACH;FMTTYPE=image/jpeg:https://caicrema.it/wp-content/uploads/2018/12/25.jpg
END:VEVENT
END:VCALENDAR