BEGIN:VCALENDAR
VERSION:2.0
PRODID:-//CAI - Club Alpino Italiano - Sezione di Crema - ECPv5.14.0.2//NONSGML v1.0//EN
CALSCALE:GREGORIAN
METHOD:PUBLISH
X-WR-CALNAME:CAI - Club Alpino Italiano - Sezione di Crema
X-ORIGINAL-URL:https://caicrema.it
X-WR-CALDESC:Eventi per CAI - Club Alpino Italiano - Sezione di Crema
REFRESH-INTERVAL;VALUE=DURATION:PT1H
X-Robots-Tag:noindex
X-PUBLISHED-TTL:PT1H
BEGIN:VTIMEZONE
TZID:Europe/Rome
BEGIN:DAYLIGHT
TZOFFSETFROM:+0100
TZOFFSETTO:+0200
TZNAME:CEST
DTSTART:20200329T010000
END:DAYLIGHT
BEGIN:STANDARD
TZOFFSETFROM:+0200
TZOFFSETTO:+0100
TZNAME:CET
DTSTART:20201025T010000
END:STANDARD
END:VTIMEZONE
BEGIN:VEVENT
DTSTART;TZID=Europe/Rome:20200126T073000
DTEND;TZID=Europe/Rome:20200126T170000
DTSTAMP:20260425T184745
CREATED:20191209T155606Z
LAST-MODIFIED:20191209T155606Z
UID:27749-1580023800-1580058000@caicrema.it
SUMMARY:Sulle tracce dei lupi
DESCRIPTION:Camminare in Appennino\nOltrepo’ pavese – Riserva Naturale Monte Alpe \nSCHEDA INFORMATIVA \nCarattere della gita:\nIn ambiente collinare e montano\, naturalistica. \nDifficoltà tecniche e pericoli oggettivi:\nNessuna\, impegnativa a livello fisico. \nEquipaggiamento:\nMedia montagna con abbigliamento adatto alla stagione. \nAttrezzatura:\nAdatta alla escursione ed alle condizioni meteorologiche. \nDislivello:\nAndata: + 125m – 85m\nRitorno: + 85m – 125m\nSviluppo: A/R 12/14 km\, circa. \nTempo di percorrenza:\nAndata: ore 2.30/3.00\nRitorno: ore 2\,30/3.00 \nRitrovo e Partenza da Crema:\nRitrovo al parcheggio I.I.S. Galilei\, via Matilde di Canossa\, Crema\, alle h. 07.30 \nPercorso automobilistico di max:\nCrema\, Bobbio\, Passo dei Tre Passi. \nCoordinatore escursione: \nBeppe Ruffo – Tel. 0373.203463\nApertura iscrizioni: 15 gg prima dell’uscita\nL’uscita verrà effettuata anche in caso di tempo incerto o leggera pioggia. \nNel cuore dell’Appennino lombardo e dell’Oltrepò Pavese ed è un luogo di conservazione della biodiversità dove osservare diverse specie di flora e fauna. Facilmente raggiungibile in auto\, la riserva è percorribile solo a piedi. \nSi inizia il sentiero partendo dalla località “Tre Passi”\, salendo nel bosco misto\, tra Pino Silvestre\, Pino Nero e latifoglie\, per arrivare\, con leggera deviazione  in cima al monte Alpe. Siritorna lungo il sentiero\, strada agrosilvopastorale\, ormai in leggere e continua discesa. Si attraversano diversi ambienti\, vari tipologie di arbusti\, dai carpini neri\, ai pioppi tremuli\, i larici\, abeti rossi e pini neri. Se la giorata lo permette avremo la possibilità di far correre lo sguardo dal Monviso all’Adamello. Sotto di noi la Val Tidone e Val Staffora. Il percorso si conclude alla Fontana del Gal. Durante tutta l’escursione presteremo attenzione alle tracce lasciate dagli animali selvatici\, tra cui il lupo.
URL:https://caicrema.it/evento/sulle-tracce-dei-lupi/
LOCATION:Riserva Naturale Monte Alpe\, Riserva Naturale Monte Alpe\, Pavia\, Pavia\, Italia
CATEGORIES:TAM ONC
ATTACH;FMTTYPE=image/jpeg:https://caicrema.it/wp-content/uploads/2019/12/3.jpg
END:VEVENT
END:VCALENDAR