BEGIN:VCALENDAR
VERSION:2.0
PRODID:-//CAI - Club Alpino Italiano - Sezione di Crema - ECPv5.14.0.2//NONSGML v1.0//EN
CALSCALE:GREGORIAN
METHOD:PUBLISH
X-WR-CALNAME:CAI - Club Alpino Italiano - Sezione di Crema
X-ORIGINAL-URL:https://caicrema.it
X-WR-CALDESC:Eventi per CAI - Club Alpino Italiano - Sezione di Crema
REFRESH-INTERVAL;VALUE=DURATION:PT1H
X-Robots-Tag:noindex
X-PUBLISHED-TTL:PT1H
BEGIN:VTIMEZONE
TZID:Europe/Rome
BEGIN:DAYLIGHT
TZOFFSETFROM:+0100
TZOFFSETTO:+0200
TZNAME:CEST
DTSTART:20200329T010000
END:DAYLIGHT
BEGIN:STANDARD
TZOFFSETFROM:+0200
TZOFFSETTO:+0100
TZNAME:CET
DTSTART:20201025T010000
END:STANDARD
END:VTIMEZONE
BEGIN:VEVENT
DTSTART;TZID=Europe/Rome:20200315T083000
DTEND;TZID=Europe/Rome:20200315T170000
DTSTAMP:20260425T152554
CREATED:20191209T164105Z
LAST-MODIFIED:20191209T164105Z
UID:27771-1584261000-1584291600@caicrema.it
SUMMARY:Conoscere il territorio Nella Valle dell'Adda
DESCRIPTION:SCHEDA INFORMATIVA \nCarattere della gita:\nIn ambiente di pianura\, naturalistica e culturale. \nDifficoltà tecniche e pericoli oggettivi:\nNessuna\, impegnativa a livello fisico. \nEquipaggiamento:\nMedia montagna con abbigliamento adatto alla stagione. \nAttrezzatura:\nAdatta alla escursione e alle condizioni meteorologiche. \nDislivello: \nAndata: +-00\nRitorno: +- 00 \nSviluppo: A/R 7/8 km\, circa. \nTempo di percorrenza:\nAndata: ore 2.30\nRitorno: ore 2.30 \nRitrovo e Partenza da Crema:\nRitrovo al parcheggio I.I.S. Galilei\, via Matilde di Canossa\, Crema\, alle h. 08.30 \nPercorso automobilistico di max:\nCrema\, Colombare di Moscazzano. \nCoordinatore escursione: \nBeppe Ruffo – Tel. 0373.203463\nApertura iscrizioni: 15 gg prima dell’uscita \nL’uscita verrà effettuata anche in caso di tempo incerto o leggera pioggia. \nDalle Colombare\, prima di iniziare nella camminata\, osserveremo le cascine della contrada. La cascina cremasca è quasi sempre costituita da corpi di fabbrica giustapposti uno all’altro\, di cui il più importante a sviluppo longitudinale con orientamento Est-Ovest\, offre un ampio fronte rivolto a mezzogiorno e segue la direzione dei venti dominanti. Questo ospita la casa del mezzadro su due o tre piani con affiancata la stalla con fienile sovrapposto\, sul lato meridionale è dotato di un porticato che\, affiancandolo lungo lo sviluppo longitudinale\, può arrivare a raddoppiarne la superficie coperta. Dopo l’osservazione\, inizieremo il nostro percorso che ci porterà su strada di campagna a lambire il fiume Adda. L’ambiente è composto da coltivi\, di mais e pioppi\, vari tipi di cespugliose e qualche solitaria quercia che ricorda il bosco planiziale della pianura.  \nSe le condizioni lo permettono percorreremo un tratto dello spiaggione\, per poi riprendere la strada che ci condurrà a Bocca Serio\, dove il fiume Serio entra con leggera pendenza nell’Adda. Al rientro breve visita nel paese di Moscazzano alla Villa Albergoni.
URL:https://caicrema.it/evento/conoscere-il-territorio-nella-valle-delladda/
LOCATION:Colombare di Moscazzano\, Colombare di Moscazzano\, Cremona\, Italia
CATEGORIES:TAM ONC
ATTACH;FMTTYPE=image/jpeg:https://caicrema.it/wp-content/uploads/2019/12/11.jpg
END:VEVENT
BEGIN:VEVENT
DTSTART;TZID=Europe/Rome:20200327T080000
DTEND;TZID=Europe/Rome:20200401T170000
DTSTAMP:20260425T152554
CREATED:20200212T214446Z
LAST-MODIFIED:20200212T214446Z
UID:28014-1585296000-1585760400@caicrema.it
SUMMARY:RIPARTIRE DAI SENTIERI “FARINDOLA”
DESCRIPTION:Descrizione:\nEscursione a carattere culturale\, storica\, e naturalistica. \nDislivello – Tempi:\nA/R:\nA/R:\nSviluppo \nAttrezzatura:\nDa media montagna\, adatta al percorso\, alla stagione ed alle condizioni meteo. \nDifficoltà:\nE \nTrasporto:\nMinivan.\nRitrovo: Crema\, ore 8.30\nParcheggio I.I.S. Galilei \nCartografia:\nFarindola e Alta Valle del Tavo 1:15000 – Foreste Casentinesi 1:25000 \nApertura iscrizioni:\nvenerdì 14 Febbraio 2020\, ore 21.15.\nPer i dettagli\, spostamenti\, pernotti\, escursioni e costi\, ci troviamo martedì 3 Marzo ore 21.15\, in sede CAI. \nResponsabile escursione:\nBeppe Ruffo – Operatore TAM/ONC – Cell. 3400583639 \nRipartire dai sentieri perché la rete sentieristica che innerva le zone montane e pedemontane del cratere\nsismico del CentroItalia è strategica per sostenere il turismo aiutando la ripresa della vita sociale e\neconomica.“Ripartire dai sentieri” è un’iniziativa del Club Alpino Italiano per la valorizzazione delle\nemergenze storiche e ambientali delle zone colpite dal sisma.\nIl progetto propone itinerari che ricollegano borghi e paesi attraverso un’antica rete di viabilità lenta in\nmodo da offrire una proposta di turismo sostenibile\, un’esperienza di cammino culturale e solidale. Le\nlocalità proposte sono quelle a oggi raggiungibili senza difficoltà particolari\, attraversabili in sicurezza e\ndove non ci sono divieti di accesso e zone rosse.\nRitorniamo dopo due anni\, per mantenere vivo il ricordo e continuare ad essere presenti e vicini alle\npersone nelle aree colpite dal terremoto e da altri accadimenti naturalistici luttuosi.\nDal 27 al 30 Marzo saremo a Farindola\, durante il viaggio d’andata\, con un pulmino\, ci fermeremo per\nuna visita alla città di Urbino e poi a Monte Marcello per una sosta al mare. La nostra permanenza a\nFarindola ci vedrà impegnati in due iniziative\, la prima un’escursione in ambiente naturale\, alla ricerca di\nanimali selvatici\, accompagnati da esponenti della locale sezione CAI e da Daniele Borgheggiani\,\nreferente CAI per il progetto Ripartiredaisentieri. Mentre la seconda è un’uscita di carattere culturale e\nstorico\, visitando dapprima Guardiagrele e poi Casoli\, il paese in cui è stato allestito il primo campo\nd’internamento di cittadini italiani di religione ebraica.\nLunedì 30 riprenderemo il viaggio per raggiungere Campigna (FC)\, con possibili soste all’Aquila\, e\nall’Eremo di Camaldoli. Nei giorni di martedì e mercoledì organizzeremo due escursioni a carattere\nnaturalistico nelle Foreste Casentinesi\, versante Romagnolo.
URL:https://caicrema.it/evento/ripartire-dai-sentieri-farindola/
LOCATION:Farindola\, Farindola\, Pescara\, Italia
CATEGORIES:TAM ONC
ATTACH;FMTTYPE=image/jpeg:https://caicrema.it/wp-content/uploads/2020/02/farindola.jpg
END:VEVENT
END:VCALENDAR