BEGIN:VCALENDAR
VERSION:2.0
PRODID:-//CAI - Club Alpino Italiano - Sezione di Crema - ECPv5.14.0.2//NONSGML v1.0//EN
CALSCALE:GREGORIAN
METHOD:PUBLISH
X-WR-CALNAME:CAI - Club Alpino Italiano - Sezione di Crema
X-ORIGINAL-URL:https://caicrema.it
X-WR-CALDESC:Eventi per CAI - Club Alpino Italiano - Sezione di Crema
REFRESH-INTERVAL;VALUE=DURATION:PT1H
X-Robots-Tag:noindex
X-PUBLISHED-TTL:PT1H
BEGIN:VTIMEZONE
TZID:Europe/Rome
BEGIN:DAYLIGHT
TZOFFSETFROM:+0100
TZOFFSETTO:+0200
TZNAME:CEST
DTSTART:20200329T010000
END:DAYLIGHT
BEGIN:STANDARD
TZOFFSETFROM:+0200
TZOFFSETTO:+0100
TZNAME:CET
DTSTART:20201025T010000
END:STANDARD
END:VTIMEZONE
BEGIN:VEVENT
DTSTART;TZID=Europe/Rome:20201107T070000
DTEND;TZID=Europe/Rome:20201107T170000
DTSTAMP:20260425T010534
CREATED:20191216T163251Z
LAST-MODIFIED:20191216T163251Z
UID:27912-1604732400-1604768400@caicrema.it
SUMMARY:Serra morenica d'Ivrea
DESCRIPTION:SCHEDA INFORMATIVA \nCarattere della gita:\nIn ambiente di media montagna \, naturalistica\, geologica. \nDifficoltà tecniche e pericoli oggettivi:\nNessuna\, impegnativa a livello fisico. \nEquipaggiamento:\nMedia montagna\, con abbigliamento adatto alla stagione ed alle condizioni meteorologiche. \nAttrezzatura:\nAdatta alla escursione\, ed alle condizione del terreno. \nDislivello: \nAndata: + 550m\nRitorno: – 550m\nSviluppo: 10km \nTempo di percorrenza:\nAndata: ore 2.30\nRitorno: ore 2.30 \nRitrovo e Partenza da Crema:\nParcheggio di fronte all’I.I.S. Galilei di via Matilde di Canossa\, alle ore 07.00. \nPercorso automobilistico di max:\nCrema\, Autostrada MI-TO\, Chiaverano. \nCoordinatore di gita: \nBeppe Ruffo: 0373.203463 \nApertura iscrizioni: 15 gg prima dell’uscita\nL’uscita verrà effettuata anche in caso di tempo incerto o leggera pioggia. \nPROGRAMMA:\nL’itinerario ha inizio dal parcheggio nella piazza del Comune di Chiaverano\, che si raggiunge da Ivrea passando per la zona dei laghi. Da qui in direzione NNE si inizia a percorre la strada che costeggia il rio e si raggiunge la bella e visibile chiesetta situata su una elevazione panoramica (S. Stefano di Sessano è una piccola chiesetta di epoca romanica che domina il paesaggio e l’abitato).\nSi percorre ora un tratto molto panoramico sul sottostante territorio collinare fino a giungere alla chiesetta di La Maddalena (La Cappella della Maddalena\, di origine romanica\, è edificata su un grosso masso erratico).\nsi procede salendo per S. Martino_Ciucarun 430m\, in direzione Nord raggiungendo quota 580m\, per proseguire e raggiungere il passo dello “della X” 732m (si è sulla dorsale della Serra Morena)\, e il Passo dell’Oca 753m.\nDa qui si inizia la discesa verso Chiaverano (a sx – dir est) sulla mulattiera (“strada del commercio”) che porta alla galleria\, dal cui piazzale si percorre un breve tratto della strada che scende a Chiaverano e al secondo spazio del guardrail a dx si accede al sentiero/mulattiera che taglia la strada e porta ai tornanti finali su Chiaverano dove tendo la sx si raggiungono le case e il parcheggio dove termina l’anello della escursione. Visita ai laghi dell’anfiteatro morenico.
URL:https://caicrema.it/evento/serra-morenica-divrea/
LOCATION:Serra morenica d’Ivrea\, Serra morenica d'Ivrea\, Torino\, Italia
CATEGORIES:TAM ONC
ATTACH;FMTTYPE=image/jpeg:https://caicrema.it/wp-content/uploads/2019/12/44.jpg
END:VEVENT
END:VCALENDAR