BEGIN:VCALENDAR
VERSION:2.0
PRODID:-//CAI - Club Alpino Italiano - Sezione di Crema - ECPv5.14.0.2//NONSGML v1.0//EN
CALSCALE:GREGORIAN
METHOD:PUBLISH
X-WR-CALNAME:CAI - Club Alpino Italiano - Sezione di Crema
X-ORIGINAL-URL:https://caicrema.it
X-WR-CALDESC:Eventi per CAI - Club Alpino Italiano - Sezione di Crema
REFRESH-INTERVAL;VALUE=DURATION:PT1H
X-Robots-Tag:noindex
X-PUBLISHED-TTL:PT1H
BEGIN:VTIMEZONE
TZID:Europe/Rome
BEGIN:DAYLIGHT
TZOFFSETFROM:+0100
TZOFFSETTO:+0200
TZNAME:CEST
DTSTART:20200329T010000
END:DAYLIGHT
BEGIN:STANDARD
TZOFFSETFROM:+0200
TZOFFSETTO:+0100
TZNAME:CET
DTSTART:20201025T010000
END:STANDARD
END:VTIMEZONE
BEGIN:VEVENT
DTSTART;TZID=Europe/Rome:20201212T070000
DTEND;TZID=Europe/Rome:20201212T170000
DTSTAMP:20260424T233559
CREATED:20191223T101633Z
LAST-MODIFIED:20191223T101633Z
UID:27932-1607756400-1607792400@caicrema.it
SUMMARY:Monte Ebro e Cosfrone
DESCRIPTION:SCHEDA INFORMATIVA \nCarattere della gita:\nIn ambiente montano\, naturalistica. \nDifficoltà tecniche e pericoli oggettivi:\nNessuna\, impegnativa a livello fisico. \nEquipaggiamento:\nMedia montagna\, con abbigliamento adatto alla stagione ed alle condizioni meteorologiche. \nAttrezzatura:\nAdatta alla escursione\, ed alle condizione del terreno. \nDislivello: \nAndata: + 510m\nRitorno: – 510m Sviluppo A/R: 9/10km. \nTempo di percorrenza:\nA/R: ore 5.30/6.00 \nRitrovo e Partenza da Crema:\nRitrovo al parcheggio di fronte all’I.I.S. Galilei di via Matilde di Canossa\, alle ore 07.00. \nPercorso automobilistico di max:\nCrema\, Varzi\, Caldirola. \nCoordinatore escursione:\nBeppe Ruffo – Tel. 0373.203463\nApertura iscrizioni: 15 gg prima dell’uscita\nL’uscita verrà effettuata anche in caso di tempo incerto o leggera pioggia. \nPROGRAMMA: \nSi risale la Val Curone fino  alla frazione di Caldirola e proseguire  in direzione della Colonia Provinciale. \nDal piazzale il percorso 106 imbocca la carrozzabile che si inoltra nel bosco\, camminando tra alti faggi che rendono il cammino piacevole anche in piena estate. Il primo tratto del sentiero si snoda in costante ascesa sul versante boscato da faggi e maggiociondoli; superato un cancelletto in legno\, l’ambiente si fa più aperto con radure che in primavera offrono stupende fioriture di orchidee\, genziane gialle e aquilegie. Gli spazi aperti si alternano a zone boscate e superata la Fontana del Butto\, il sentiero attraversa una zona prativa e giunge al Rifugio Ezio Orsi (1397 m)\, ricostruito nel 2004 e gestito dall’Associazione “Amici del Monte Ebro” e dal CAI di Tortona. \nSuperato il rifugio\, il sentiero raggiunge la Fontana Pessina e si inerpica nel bosco\, oltrepassa una zona umida e un ultimo tratto boscato ed infine sbuca nella zona aperta dei piani dell’Ebro. Seguendo i picchetti segnavia\, il sentiero attraversa questi spazi erbosi caratterizzati\, tra la primavera e l’estate\, da fioriture multicolori\, tra cui il bellissimo botton d’oro\, il fiordaliso alpino\, la genziana di Koch. Il sentiero arriva in breve sul crinale che divide la Val Curone dalla val Borbera\, svolta a sinistra lungo la recinzione e giunge in cima al Monte Ebro (1700 m).  Eccezionale punto panoramico da cui\, nelle giornate limpide\, si gode di una splendida veduta a 360°\, sulle sottostanti valli fino ad arrivare all’arco alpino e al mar ligure.
URL:https://caicrema.it/evento/monte-ebro-e-cosfrone/
LOCATION:Monte Ebro\, Monte Ebro\, Alessandria\, Italia
CATEGORIES:TAM ONC
ATTACH;FMTTYPE=image/jpeg:https://caicrema.it/wp-content/uploads/2019/12/51.jpg
END:VEVENT
END:VCALENDAR