BEGIN:VCALENDAR
VERSION:2.0
PRODID:-//CAI - Club Alpino Italiano - Sezione di Crema - ECPv5.14.0.2//NONSGML v1.0//EN
CALSCALE:GREGORIAN
METHOD:PUBLISH
X-WR-CALNAME:CAI - Club Alpino Italiano - Sezione di Crema
X-ORIGINAL-URL:https://caicrema.it
X-WR-CALDESC:Eventi per CAI - Club Alpino Italiano - Sezione di Crema
REFRESH-INTERVAL;VALUE=DURATION:PT1H
X-Robots-Tag:noindex
X-PUBLISHED-TTL:PT1H
BEGIN:VTIMEZONE
TZID:Europe/Rome
BEGIN:DAYLIGHT
TZOFFSETFROM:+0100
TZOFFSETTO:+0200
TZNAME:CEST
DTSTART:20220327T010000
END:DAYLIGHT
BEGIN:STANDARD
TZOFFSETFROM:+0200
TZOFFSETTO:+0100
TZNAME:CET
DTSTART:20221030T010000
END:STANDARD
END:VTIMEZONE
BEGIN:VEVENT
DTSTART;TZID=Europe/Rome:20220219T091500
DTEND;TZID=Europe/Rome:20220219T170000
DTSTAMP:20260423T233705
CREATED:20220118T134333Z
LAST-MODIFIED:20220118T134333Z
UID:29059-1645262100-1645290000@caicrema.it
SUMMARY:CAMMINARE IN APPENNINO SULLE TRACCE DEI LUPI
DESCRIPTION:Descrizione: Escursione ambientale e naturalistica \nDislivelli – Tempi: \nA/R: + 385 / – 315\nA/R: 5/6:00 h\nSviluppo:18/20 km \nAttrezzatura: Da media montagna\, adatta al percorso\, alla stagione e condizioni meteo \nDifficoltà: E – Non particolarmente impegnativa\, se non per lo sviluppo \nOrari: Ritrovo escursione\, Nibbiano (PC) ore 9:15 \nCartografia: Carta escursionistica dei sentieri Comunità Montana dell’Oltrepò Pavese – Ed. Guardamagna \nL’epidemia di peste suina africana (PSA)\, che colpisce i cinghiali ed i suini di allevamento\, ci impone di modificare il percorso dell’uscita sezionale prevista per sabato 19 Febbraio. Inizialmente avremmo dovuto percorrere l’area attorno a Serra del Monte (AL) ma\, essendo questa considerata zona Buffer o zona di rispetto\ncontigua all’area infetta\, le norme regionali ci impongono di non esercitare attività escursionistica(trekking).\nDi conseguenza ci spostiamo in un’area più a Nord\, di confine tra Lombardia ed Emilia-Romagna. Siamo in Val Tidone ed il percorso si snoda principalmente sulla costa di confine tra le due regioni\, che da San Silverio (550m)\, conduce a Casa Lazzarello(780m). Camminiamo principalmente sulla viabilità agro-silvo-pastorale\n(VASP)\, sterrata\, in andata con indicazione “Sentiero del Tidone Sorgenti\, ed al ritorno “Sentiero del Tidone Po”. Parte dell’itinerario rientra nel “Cammino degli Abati”\, che da Pavia raggiunge Bobbio\, per continuare verso Pontremoli ed inserirsi sulla Via Francigena. Il cammino è caratterizzato da continui saliscendi\, passando dai Pianuri\, da Casa della Costa\, Pian del Pggio(801m)\, per raggiungere con un leggero strappetto la cima del Monte Lazzarello(864m). Si scende a Lazzarello\, passando accanto all’Osservatorio Astronomico degli Astrofili di Piacenza. Da qui\, dopo una meritata sosta e rifornimento d’acqua\, si riparte sullo stesso percorso dell’andata\, aggirando però il Monte Lazzarello. \nAgli iscritti vengono consegnate le note operative ed il modulo di autocertificazione che verrà ritirato prima della partenza. Si fa obbligo di avere con sé il passaporto sanitario\, la mascherina ed il gel disinfettante a base alcolica. \nLe iscrizioni si ricevono in sezione entro venerdì 18 Febbraio 2022\nResponsabile escursione e Covid: Beppe Ruffo – Operatore TAM/ONC – Per info: 3400583639\nL’escursione avviene con mezzi propri e si terrà anche con leggera pioggia. Pranzo al sacco.
URL:https://caicrema.it/evento/camminare-in-appennino-sulle-tracce-dei-lupi/
LOCATION:Osservatorio Astronomico Lazzarello\, Via Lazzarello\, Pecorara\, Piacenza\, 29010\, Italia
CATEGORIES:TAM ONC
ATTACH;FMTTYPE=image/jpeg:https://caicrema.it/wp-content/uploads/2022/01/2-TAM-19-Febbraio-2022-Camminare-in-Appenino.jpg
END:VEVENT
END:VCALENDAR