BEGIN:VCALENDAR
VERSION:2.0
PRODID:-//CAI - Club Alpino Italiano - Sezione di Crema - ECPv5.14.0.2//NONSGML v1.0//EN
CALSCALE:GREGORIAN
METHOD:PUBLISH
X-WR-CALNAME:CAI - Club Alpino Italiano - Sezione di Crema
X-ORIGINAL-URL:https://caicrema.it
X-WR-CALDESC:Eventi per CAI - Club Alpino Italiano - Sezione di Crema
REFRESH-INTERVAL;VALUE=DURATION:PT1H
X-Robots-Tag:noindex
X-PUBLISHED-TTL:PT1H
BEGIN:VTIMEZONE
TZID:Europe/Rome
BEGIN:DAYLIGHT
TZOFFSETFROM:+0100
TZOFFSETTO:+0200
TZNAME:CEST
DTSTART:20230326T010000
END:DAYLIGHT
BEGIN:STANDARD
TZOFFSETFROM:+0200
TZOFFSETTO:+0100
TZNAME:CET
DTSTART:20231029T010000
END:STANDARD
END:VTIMEZONE
BEGIN:VEVENT
DTSTART;TZID=Europe/Rome:20230422T080000
DTEND;TZID=Europe/Rome:20230422T170000
DTSTAMP:20260422T191347
CREATED:20221223T130153Z
LAST-MODIFIED:20230404T104741Z
UID:30012-1682150400-1682182800@caicrema.it
SUMMARY:I sentieri della resistenza - Calanchi di Nivione - Val Staffora (TAM ONC)
DESCRIPTION:La partenza avviene da Casa Galeotti (363 m slm)\, sponda orografica sx del torrente Staffora\, in comune di Bagnaria (PV). Il sentiero si inerpica con pendenza costante fino al Poggio di Dego (763m slm)\, per poi raggiungere i calanchi di Nivione e salire alla casetta di Primula Rossa\, un punto d’appoggio delle formazioni partigiane. Dalla localizzazione dei primi gruppi (almeno fino alla tarda primavera del ’44) emerge\, prima di tutto\, che nel quadro della primitiva organizzazione e delle prime azioni partigiane\, vi è la priorità del Piacentino e delle aree liguri e alessandrine sull’Oltrepo.\nLuchino dal Verme (comandante Maino): ebbi la responsabilità di comando di una formazione Garibaldi che operò in Oltrepo pavese e il primo argomento di cui debbo e voglio parlare sono gli uomini con i quali ho condiviso rischi e responsabilità in uno spirito di solidarietà e reciproca fiducia che è certamente il ricordo più vero e più importante che mi sia rimasto.\nAngelo Ansaldi (Primula Rossa)\, è stato promotore di una banda\, nella zona del varzese\, composta da giovani della zona (per lungo tempo\, avrebbe difeso l’autonomia del suo gruppo e ne avrebbe rifiutato ’inquadratura partitica).\nNel corso del feroce rastrellamento invernale del 1944\, mantiene la formazione in zona\, guidandola in una drammatica marcia di sganciamento dai rastrellatori nazifascisti nella neve e nel gelo. \nLe iscrizioni si ricevono in sede: venerdì 14 e martedì 18 Aprile 2023 \nScarica la locandina completa
URL:https://caicrema.it/evento/i-sentieri-della-resistenza-calanchi-di-nivione-val-staffora/
CATEGORIES:TAM ONC
END:VEVENT
END:VCALENDAR