BEGIN:VCALENDAR
VERSION:2.0
PRODID:-//CAI - Club Alpino Italiano - Sezione di Crema - ECPv5.14.0.2//NONSGML v1.0//EN
CALSCALE:GREGORIAN
METHOD:PUBLISH
X-WR-CALNAME:CAI - Club Alpino Italiano - Sezione di Crema
X-ORIGINAL-URL:https://caicrema.it
X-WR-CALDESC:Eventi per CAI - Club Alpino Italiano - Sezione di Crema
REFRESH-INTERVAL;VALUE=DURATION:PT1H
X-Robots-Tag:noindex
X-PUBLISHED-TTL:PT1H
BEGIN:VTIMEZONE
TZID:Europe/Rome
BEGIN:DAYLIGHT
TZOFFSETFROM:+0100
TZOFFSETTO:+0200
TZNAME:CEST
DTSTART:20230326T010000
END:DAYLIGHT
BEGIN:STANDARD
TZOFFSETFROM:+0200
TZOFFSETTO:+0100
TZNAME:CET
DTSTART:20231029T010000
END:STANDARD
END:VTIMEZONE
BEGIN:VEVENT
DTSTART;TZID=Europe/Rome:20231015T080000
DTEND;TZID=Europe/Rome:20231015T170000
DTSTAMP:20260422T075036
CREATED:20221223T135109Z
LAST-MODIFIED:20230925T124327Z
UID:30080-1697356800-1697389200@caicrema.it
SUMMARY:Monte Mosso - Colle Crocetta (TAM ONC)
DESCRIPTION:Escursione di inizio autunno nell’alta Val Tidone\, tempo di castagne e di nuovi colori che lentamente infiammano i boschi. I castagni\, le roverelle\, i carpini ed i faggi virano verso colori sempre più accesi che rendono l’Appennino un luogo suggestivo di forti emozioni.\nIl percorso parte dalla frazione di Cicogni\, sentiero 203\, verso i Piani di Busseto ad incrociare il 101 che collega il Passo Caldarola al Monte Penice. Raggiunta la Costa della Rasa\, vista sulla Pietra Parcellara e il Passo di Caldarola\, si raggiunge il Monte Mosso\, il Colle di Crocetta di Cicogni e il Passo di Crocetta fino alla Pietra di Corva per poi raggiungere l’abitato di Praticchia. Lunga discesa al guado del torrente Merlingo e successiva risalita per rientrare al punto di partenza. Nel territorio di Cicogni vennero ritrovati i resti di insediamenti umani di epoca preistorica\, mentre nei pressi di Praticchia\, a breve distanza dal confine con il comune di Romagnese si trova un cratere originato da un vulcano inattivo. \nLe iscrizioni si ricevono in sede: venerdì 13 Ottobre 2023. \nScarica la locandina completa
URL:https://caicrema.it/evento/monte-mosso-colle-crocetta/
CATEGORIES:TAM ONC
END:VEVENT
END:VCALENDAR