BEGIN:VCALENDAR
VERSION:2.0
PRODID:-//CAI - Club Alpino Italiano - Sezione di Crema - ECPv5.14.0.2//NONSGML v1.0//EN
CALSCALE:GREGORIAN
METHOD:PUBLISH
X-WR-CALNAME:CAI - Club Alpino Italiano - Sezione di Crema
X-ORIGINAL-URL:https://caicrema.it
X-WR-CALDESC:Eventi per CAI - Club Alpino Italiano - Sezione di Crema
REFRESH-INTERVAL;VALUE=DURATION:PT1H
X-Robots-Tag:noindex
X-PUBLISHED-TTL:PT1H
BEGIN:VTIMEZONE
TZID:Europe/Rome
BEGIN:DAYLIGHT
TZOFFSETFROM:+0100
TZOFFSETTO:+0200
TZNAME:CEST
DTSTART:20240331T010000
END:DAYLIGHT
BEGIN:STANDARD
TZOFFSETFROM:+0200
TZOFFSETTO:+0100
TZNAME:CET
DTSTART:20241027T010000
END:STANDARD
END:VTIMEZONE
BEGIN:VEVENT
DTSTART;TZID=Europe/Rome:20240120T080000
DTEND;TZID=Europe/Rome:20240120T170000
DTSTAMP:20260422T024412
CREATED:20231228T125347Z
LAST-MODIFIED:20240116T153641Z
UID:30836-1705737600-1705770000@caicrema.it
SUMMARY:Conoscere il territorio - 1° tappa (TAM ONC)
DESCRIPTION:Il percorso della 1^ tappa inizia da Montodine\, raggiunto in autobus\, si prosegue per la cascina Giardino così da raggiungere il fiume Adda e seguirlo fino a Bocca Serio. Si prosegue su sponda orografica dx del Serio fino al depuratore di Montodine. Su strada asfaltata\, sino al paese\, all’oratorio di San Zeno e alla chiesa di San Rocco. Poi si prosegue su strada di campagna\, a lato della Forra Rio Fuga\, fino all’altezza di Ripalta Guerina dove si rientra lungo il corso del fiume. All’altezza degli impianti Agip-Snam\, per mancanza di traccia\, si rientra sulla ciclopedonale in direzione di Ripalta Nuova. Tra il cimitero e l’inizio dell’abitato si ritorna verso il fiume che verrà seguito fino a raggiungere il ponte ciclopedonale di Crema. \nLe iscrizioni si ricevono in sede: venerdì 12 e martedì 16 Gennaio 2024\, dalle ore 21:00 alle 22:00.\nPranzo al sacco. Soste previste: Montodine\, Ripalta Guerina e Ripalta Nuova. \nScarica la locandina completa
URL:https://caicrema.it/evento/conoscere-il-territorio-1-tappa-tam-onc/
CATEGORIES:TAM ONC
END:VEVENT
BEGIN:VEVENT
DTSTART;TZID=Europe/Rome:20240124T210000
DTEND;TZID=Europe/Rome:20240124T230000
DTSTAMP:20260422T024412
CREATED:20240116T154511Z
LAST-MODIFIED:20240116T154522Z
UID:31033-1706130000-1706137200@caicrema.it
SUMMARY:In cammino nel parco serio - 1° serata (TAM ONC)
DESCRIPTION:In cammino nel Parco regionale del Serio – Cascine toponimi e transumanze – Mercoledi 14 Gennaio 2024 ore 21:00 presso Librerira Cremasca Via Dante\,20 Crema \nIn cammino nel Parco regionale del Serio – Cascine toponimi e transumanze  \n 
URL:https://caicrema.it/evento/in-cammino-parco-serio-valerio-ferrari/
CATEGORIES:TAM ONC
END:VEVENT
END:VCALENDAR