BEGIN:VCALENDAR
VERSION:2.0
PRODID:-//CAI - Club Alpino Italiano - Sezione di Crema - ECPv5.14.0.2//NONSGML v1.0//EN
CALSCALE:GREGORIAN
METHOD:PUBLISH
X-WR-CALNAME:CAI - Club Alpino Italiano - Sezione di Crema
X-ORIGINAL-URL:https://caicrema.it
X-WR-CALDESC:Eventi per CAI - Club Alpino Italiano - Sezione di Crema
REFRESH-INTERVAL;VALUE=DURATION:PT1H
X-Robots-Tag:noindex
X-PUBLISHED-TTL:PT1H
BEGIN:VTIMEZONE
TZID:Europe/Rome
BEGIN:DAYLIGHT
TZOFFSETFROM:+0100
TZOFFSETTO:+0200
TZNAME:CEST
DTSTART:20240331T010000
END:DAYLIGHT
BEGIN:STANDARD
TZOFFSETFROM:+0200
TZOFFSETTO:+0100
TZNAME:CET
DTSTART:20241027T010000
END:STANDARD
END:VTIMEZONE
BEGIN:VEVENT
DTSTART;TZID=Europe/Rome:20240407T080000
DTEND;TZID=Europe/Rome:20240407T170000
DTSTAMP:20260421T221904
CREATED:20240326T202707Z
LAST-MODIFIED:20240326T202707Z
UID:31144-1712476800-1712509200@caicrema.it
SUMMARY:IMPIANTO EOLICO “MONTE GIAROLO” (TAM ONC)
DESCRIPTION:Questa escursione riguarda le criticità presentate dal progetto di impianto eolico denominato “Monte\nGiarolo”\, che si dovrebbero realizzare tra la Valle Curone e la Valle Staffora\, dal Monte Giarolo al Pian\ndella Mora\, passando per il Monte Ebro\, Chiappo e Boglelio. Sono 20 torri\, alte 200 metri che svetteranno\nsu questi crinali. Questo progetto non è un caso isolato ma riguarda tutti gli Appennini che sono presi\nd’assalto da richieste simili\, avanzate da società che non hanno nessun legame con i territori. E’ evidente\nquanto il ruolo delle Fonti di Energia Rinnovabile (FER) sia centrale nel processo di transizione ecologica\,\nuscire dall’uso delle fonti di origine fossile alle rinnovabili\, coniugando le esigenze primarie di tutela del\npatrimonio ambientale\, culturale e paesaggistico con le altrettante esigenze di disponibilità di energia ma\nnon più climalterante. \nTutti coloro che intendono partecipare ad una escursione sociale (escluso programma: Alpinismo\ngiovanile e Sci alpino)\, devono iscriversi entro e non oltre “il martedì precedente all’uscita. \nScarica la locandina completa
URL:https://caicrema.it/evento/impianto-eolico-monte-giarolo/
CATEGORIES:TAM ONC
END:VEVENT
BEGIN:VEVENT
DTSTART;TZID=Europe/Rome:20240410T210000
DTEND;TZID=Europe/Rome:20240410T230000
DTSTAMP:20260421T221905
CREATED:20240326T204117Z
LAST-MODIFIED:20240326T204117Z
UID:31148-1712782800-1712790000@caicrema.it
SUMMARY:LUPI IN PIANURA (TAM ONC)
DESCRIPTION:ANTICHE PAURE O NUOVA CONVIVENZA\nDott.ssa SIMONA CAPELLI\nDipartimento di Scienze\ndella Terra e dell’Ambiente\nUniversità dI Pavia\nMERCOLEDI 10 APRILE 2024\nORE 21:00 – SALA ALESSANDRINI\nVIA MATILDE DI CANOSSA\nCREMA \nI lupi hanno ricolonizzato\ngli Appennini e le Alpi\,\nsono in pianura\, diviene\nnecessario approfondire\nla conoscenza di questo\nanimale totemico che dai\ntempi remoti è presente\nnel nostro immaginario \nScarica la locandina completa
URL:https://caicrema.it/evento/lupi-in-pianura/
CATEGORIES:TAM ONC
END:VEVENT
BEGIN:VEVENT
DTSTART;TZID=Europe/Rome:20240413T080000
DTEND;TZID=Europe/Rome:20240413T170000
DTSTAMP:20260421T221905
CREATED:20231228T132515Z
LAST-MODIFIED:20231228T132515Z
UID:30863-1712995200-1713027600@caicrema.it
SUMMARY:Conoscere il territorio - 4° tappa (TAM ONC)
DESCRIPTION:Il percorso inizia da un centro abitato (Bariano)\, raggiunto in autobus. Dal paese si segue la ciclopedonale del Parco fino a raggiungere il sottopasso che permette di bypassare la strada (SP101) e la ferrovia. Sempre su sponda orografica destra\, in direzione Nord\, si intraprende il cammino lontani dal Serio che riavvicineremo superata la Santella del Carpeneto. Dopo una breve sosta si riparte e\, superati i coltivi intensivi\, ci si avvicina al tratto con le rive naturali dove si potranno osservare i gruccioni. L’ultima parte del percorso d’andata \, prima di giungere al ponte di Ghisalba (SP122)\, per passare sulla sponda sinistra e rientrare\, è caratterizzato dalla presenza dei Laghetti del Guado (birdwatching)\, e dai filari di cespugliose e arbusti. \nLe iscrizioni si ricevono in sede: venerdì 5 e martedì 9 Aprile 2024\, dalle ore 21:00 alle 22:00.\nPranzo al sacco. Soste previste: Bariano\, Santella del Carpeneto\, Muratella. \nScarica la locandina completa
URL:https://caicrema.it/evento/conoscere-il-territorio-4-tappa-tam-onc/
CATEGORIES:TAM ONC
END:VEVENT
BEGIN:VEVENT
DTSTART;TZID=Europe/Rome:20240417T210000
DTEND;TZID=Europe/Rome:20240417T230000
DTSTAMP:20260421T221905
CREATED:20240326T203649Z
LAST-MODIFIED:20240326T203649Z
UID:31146-1713387600-1713394800@caicrema.it
SUMMARY:Convivere con l'orso (TAM ONC)
DESCRIPTION:NE DISCUTIAMO CON \nFILIPPO ZIBORDI ZOOLOGO E DIVULGATORE\nISTITUTO OIKOS\nMERCOLEDI’ 17 APRILE 2024\nORE 21:00 – SALA ALESSANDRINI\nVIA MATILDE DI CANOSSA –\nCREMA \nE’ del 1996 il progetto Life Ursus\, per la\nreintroduzione dell’orso bruno in\nTrentino\, tra il 1999/2002 vi è stato il\nrilascio di 10 esemplari provenienti dalla\nSlovenia. Oggi\, dopo la prima aggressione\nmortale di un anno fa\, viene rimessa in\ndiscussione la presenza dell’orso e degli\naltri predatori \nScarica la locandina completa
URL:https://caicrema.it/evento/convivere-con-l-orso/
CATEGORIES:TAM ONC
END:VEVENT
END:VCALENDAR