BEGIN:VCALENDAR
VERSION:2.0
PRODID:-//CAI - Club Alpino Italiano - Sezione di Crema - ECPv5.14.0.2//NONSGML v1.0//EN
CALSCALE:GREGORIAN
METHOD:PUBLISH
X-WR-CALNAME:CAI - Club Alpino Italiano - Sezione di Crema
X-ORIGINAL-URL:https://caicrema.it
X-WR-CALDESC:Eventi per CAI - Club Alpino Italiano - Sezione di Crema
REFRESH-INTERVAL;VALUE=DURATION:PT1H
X-Robots-Tag:noindex
X-PUBLISHED-TTL:PT1H
BEGIN:VTIMEZONE
TZID:Europe/Rome
BEGIN:DAYLIGHT
TZOFFSETFROM:+0100
TZOFFSETTO:+0200
TZNAME:CEST
DTSTART:20240331T010000
END:DAYLIGHT
BEGIN:STANDARD
TZOFFSETFROM:+0200
TZOFFSETTO:+0100
TZNAME:CET
DTSTART:20241027T010000
END:STANDARD
END:VTIMEZONE
BEGIN:VEVENT
DTSTART;TZID=Europe/Rome:20240608T080000
DTEND;TZID=Europe/Rome:20240609T170000
DTSTAMP:20260421T190808
CREATED:20231228T141431Z
LAST-MODIFIED:20240515T171856Z
UID:30895-1717833600-1717952400@caicrema.it
SUMMARY:Alpi Apuane e Via Francigena (TAM ONC)
DESCRIPTION:L’escursione\, dalle praterie di Campocecina ai monti Borla e Sagro\, permette una visuale completa sui bacini marmiferi carraresi e sul saccheggio ambientale perpetrato dalle alte cave del bacino di Pianza. Dalle due vette si può ammirare un panorama splendido che\, se la giornata lo permette. spazia dalle Apuane settentrionali a quelle meridionali e alla costa fino a Livorno e al golfo della Spezia. Nelle giornate limpide possiamo ammirare le isole dell’arcipelago Toscano\, la Corsica e le Alpi Marittime innevate (tra cui l’Argentera ed il Monviso). \nEscursione in collaborazione con la Commissione Sezionale TAM del CAI di Carrara. Pernotto presso l’ostello della cisa\, cena e colazione comprese: €. 45\,00\nLe iscrizioni si ricevono in sede: martedì 21 Maggio 2024\, dalle ore 21:00 alle 22:00. \nScarica la locandina completa
URL:https://caicrema.it/evento/madonna-del-corno-balota-del-coren-tam-onc/
CATEGORIES:TAM ONC
END:VEVENT
BEGIN:VEVENT
DTSTART;TZID=Europe/Rome:20240615T080000
DTEND;TZID=Europe/Rome:20240615T170000
DTSTAMP:20260421T190808
CREATED:20231228T133508Z
LAST-MODIFIED:20240602T203047Z
UID:30872-1718438400-1718470800@caicrema.it
SUMMARY:Conoscere il territorio - 5° tappa (TAM ONC)
DESCRIPTION:Il percorso inizia dalla frazione Muratella di Cologno al Serio\, su sentiero in sponda orografica destra\, direzione Nord\, per raggiungere la Riserva Naturale di Malpaga-Basella\, che si caratterizza per un territorio arido\, pietroso\, ricco però di flora xerofita (vegetazione che vive in ambienti aridi\, con lunghi periodi di siccità). Questo è un territorio che per le caratteristiche morfologiche del fiume aveva diversi punti di guado\, così da permettere il passaggio di persone\, animali e commerci tra le due sponde del Serio. Si prosegue superando la polveriera Fiocchi per raggiungere il centro di inanellamento a scopo scientifico “Capannelle”\, dove si avrà un incontro con i soci dell’associazione che illustreranno le specie censite. Il termine del percorso è alla periferia di Grassobbio\, nell’area del campo di volo per aeromodellismo. Il ritorno avviene sullo stesso percorso dell’andata con qualche libera deviazione nel tratto più arido. \nLe iscrizioni si ricevono in sede: venerdì 7 e martedì 11 Giugno 2024\, dalle ore 21:00 alle 22:00.\nPranzo al sacco. Soste previste: Centro inanellamento\, Grassobbio e Castello di Malpaga.\n \nScarica la locandina completa
URL:https://caicrema.it/evento/conoscere-il-territorio-5-tappa-tam-onc/
CATEGORIES:TAM ONC
END:VEVENT
END:VCALENDAR