BEGIN:VCALENDAR
VERSION:2.0
PRODID:-//CAI - Club Alpino Italiano - Sezione di Crema - ECPv5.14.0.2//NONSGML v1.0//EN
CALSCALE:GREGORIAN
METHOD:PUBLISH
X-WR-CALNAME:CAI - Club Alpino Italiano - Sezione di Crema
X-ORIGINAL-URL:https://caicrema.it
X-WR-CALDESC:Eventi per CAI - Club Alpino Italiano - Sezione di Crema
REFRESH-INTERVAL;VALUE=DURATION:PT1H
X-Robots-Tag:noindex
X-PUBLISHED-TTL:PT1H
BEGIN:VTIMEZONE
TZID:Europe/Rome
BEGIN:DAYLIGHT
TZOFFSETFROM:+0100
TZOFFSETTO:+0200
TZNAME:CEST
DTSTART:20240331T010000
END:DAYLIGHT
BEGIN:STANDARD
TZOFFSETFROM:+0200
TZOFFSETTO:+0100
TZNAME:CET
DTSTART:20241027T010000
END:STANDARD
END:VTIMEZONE
BEGIN:VEVENT
DTSTART;TZID=Europe/Rome:20241026T080000
DTEND;TZID=Europe/Rome:20241026T170000
DTSTAMP:20260421T121952
CREATED:20231228T161928Z
LAST-MODIFIED:20241020T085555Z
UID:30971-1729929600-1729962000@caicrema.it
SUMMARY:Grotta di San Michele (TAM ONC)
DESCRIPTION:Dai versanti del Monte Aserei\, i due torrenti Curiasca\, quello di San Michele e quello di Rosso\, Vi è anche il ramo detto “di Coli” perché è il più vicino al paese omonimo\, adagiato tra i coltivi su di un soleggiato pianoro dominato dagli scoscesi versanti ofiolitici dei monti Tre Abati e Sant’Agostino. Il corso d’acqua lambisce un poggio su cui spicca la chiesa di Peli\, quindi i ripidi pendii su cui sorgono il castello di Faraneto e i ruderi di quello dei Magrini\, infine confluisce nel Curiasca di San Michele. Scendono in un ambiente insolitamente selvaggio fino al Trebbia\, confluendovi all’altezza di San Salvatore il primo e di Brugnello il secondo\, vestendo gli scomodi panni del parente povero\, perché quando si parla di Val Curiasca senza precisare altro\, ci si riferisce immancabilmente alla valle del Curiasca di San Michele\, più famosa non tanto per la bellezza (quella di Rosso ha poco da invidiare)\, quanto per la più facile agibilità che\, nel corso dei secoli\, ha portato allo sviluppo di insediamenti umani\, primo fra tutti il paese di Coli\, posto a chiusura della parte alta della vallata. \nLe iscrizioni si ricevono in sede: martedì 22 ottobre 2024\, dalle ore 21:00 alle 22:00.\nRitrovo ore 7:20\, parcheggio di via Capergnanica\, Crema. Pranzo al sacco\, acqua sul percorso.\nObbligo scarpe da trekking con suola scolpita. \nScarica la locandina completa
URL:https://caicrema.it/evento/grotta-di-san-michele-tam-onc/
CATEGORIES:TAM ONC
END:VEVENT
END:VCALENDAR