BEGIN:VCALENDAR
VERSION:2.0
PRODID:-//CAI - Club Alpino Italiano - Sezione di Crema - ECPv5.14.0.2//NONSGML v1.0//EN
CALSCALE:GREGORIAN
METHOD:PUBLISH
X-WR-CALNAME:CAI - Club Alpino Italiano - Sezione di Crema
X-ORIGINAL-URL:https://caicrema.it
X-WR-CALDESC:Eventi per CAI - Club Alpino Italiano - Sezione di Crema
REFRESH-INTERVAL;VALUE=DURATION:PT1H
X-Robots-Tag:noindex
X-PUBLISHED-TTL:PT1H
BEGIN:VTIMEZONE
TZID:Europe/Rome
BEGIN:DAYLIGHT
TZOFFSETFROM:+0100
TZOFFSETTO:+0200
TZNAME:CEST
DTSTART:20240331T010000
END:DAYLIGHT
BEGIN:STANDARD
TZOFFSETFROM:+0200
TZOFFSETTO:+0100
TZNAME:CET
DTSTART:20241027T010000
END:STANDARD
END:VTIMEZONE
BEGIN:VEVENT
DTSTART;TZID=Europe/Rome:20241214T080000
DTEND;TZID=Europe/Rome:20241214T170000
DTSTAMP:20260421T091819
CREATED:20231228T164852Z
LAST-MODIFIED:20241122T115053Z
UID:31001-1734163200-1734195600@caicrema.it
SUMMARY:Bassa via del Garda Toscolano-Gargnano (TAM ONC)
DESCRIPTION:La Bassa Via del Garda è uno dei sentieri più spettacolari e completi che si possono trovare sul lago di Garda\, collega i paesi di Salò e Limone\, unendo la costa alle rete di stradine e sentieri secondari che si trovano nell’entroterra montano. Corre a mezzacosta (il punto più alto raggiunto è il monte Bestone\, 910 metri slm). Assolato in tutte le stagioni ma in ogni stagione con colori e profumi diversi\, sia quando si snoda allo scoperto\, tra olivi\, rose canine\, scotani soffiosi in primavera e\nfiammeggianti d’autunno\, sia quando penetra nella frescura del bosco\, tra frassini e carpini\, o sotto gli imponenti esemplari di castagni e faggi\, che allargano le\nchiome ombrose e d’inverno rameggiano nere grafie nel cielo. Il percorso si svolge in gran parte su sentieri e strade forestali\, con pochi tratti su strade asfaltate. \nLe iscrizioni si ricevono in sede: venerdì 6 e martedì 10 dicembre 2024\, dalle ore 21:00 alle 22:00.\nRitrovo alle ore 7:20 a Crema\, nel parcheggio di via Capergnanica.\nPranzo al sacco. Portare almeno un litro di acqua. Obbligo scarpe da trekking con suola scolpita.\nScarica la locandina completa
URL:https://caicrema.it/evento/bassa-via-del-garda-toscolano-gargnano-tam-onc/
CATEGORIES:TAM ONC
END:VEVENT
END:VCALENDAR