BEGIN:VCALENDAR
VERSION:2.0
PRODID:-//CAI - Club Alpino Italiano - Sezione di Crema - ECPv5.14.0.2//NONSGML v1.0//EN
CALSCALE:GREGORIAN
METHOD:PUBLISH
X-WR-CALNAME:CAI - Club Alpino Italiano - Sezione di Crema
X-ORIGINAL-URL:https://caicrema.it
X-WR-CALDESC:Eventi per CAI - Club Alpino Italiano - Sezione di Crema
REFRESH-INTERVAL;VALUE=DURATION:PT1H
X-Robots-Tag:noindex
X-PUBLISHED-TTL:PT1H
BEGIN:VTIMEZONE
TZID:Europe/Rome
BEGIN:DAYLIGHT
TZOFFSETFROM:+0100
TZOFFSETTO:+0200
TZNAME:CEST
DTSTART:20250330T010000
END:DAYLIGHT
BEGIN:STANDARD
TZOFFSETFROM:+0200
TZOFFSETTO:+0100
TZNAME:CET
DTSTART:20251026T010000
END:STANDARD
END:VTIMEZONE
BEGIN:VEVENT
DTSTART;TZID=Europe/Rome:20250709T080000
DTEND;TZID=Europe/Rome:20250712T170000
DTSTAMP:20260420T212157
CREATED:20250104T142002Z
LAST-MODIFIED:20250104T142002Z
UID:31623-1752048000-1752339600@caicrema.it
SUMMARY:Sentieri della libertà in Valle Stura (TAM ONC)
DESCRIPTION:Paraloup è una borgata a 1.360 m di quota nel vallone laterale di Rittana\, in Valle Stura\, provincia di Cuneo\, e fu tradizionalmente abitato come pascolo estivo.\nIl toponimo occitano\, che significa “al riparo dai lupi”\, la dice lunga sulla vocazione storica del luogo\, che tra il settembre 1943 e la primavera del 1944 ospitò il primo quartier generale delle bande partigiane di Giustizia e Libertà del cuneese\, capitanato fra gli altri da Duccio Galimberti\, Dante Livio Bianco\, Giorgio Bocca e\, in seguito\, dallo stesso Nuto Revelli. Fu una fucina di libertà\, un luogo in cui circa 200 giovani\, dell’età media di 20 anni\, di ogni estrazione sociale si radunarono da tutto il Paese per ricevere formazione politica e militare in vista della lotta per la liberazione dal nazifascismo e la ricostruzione di un’Italia democratica. Nuto Revelli si unì alla Banda “Italia libera” di Paraloup nel febbraio del 1944\, prima di spostarsi insieme alla IV Banda nel Vallone dell’Arma e poi in Francia. La vocazione di fucina democratica del luogo fu attuabile solo grazie alla fondamentale collaborazione da parte della comunità degli abitanti della Valle. Senza aiuto da parte dei valligiani\, la banda non avrebbe potuto organizzarsi per operare nelle pesanti battaglie dei rastrellamenti del 1944. \nIscrizioni in sede\, dalle ore 21 alle 22 di martedì 17 giugno 2025. \nScarica la locandina completa
URL:https://caicrema.it/evento/sentieri-della-liberta-in-valle-stura-tam-onc/
CATEGORIES:TAM ONC
END:VEVENT
BEGIN:VEVENT
DTSTART;TZID=Europe/Rome:20250726T080000
DTEND;TZID=Europe/Rome:20250726T170000
DTSTAMP:20260420T212157
CREATED:20250104T142445Z
LAST-MODIFIED:20250104T142521Z
UID:31626-1753516800-1753549200@caicrema.it
SUMMARY:Val Nure: Passo delle Pianazze (TAM ONC)
DESCRIPTION:In cammino in un territorio di confine per scoprire la Torre di Manfredello (X sec.)\, posta a controllo degli antichi percorsi della Romea di Montagna. La Torre presenta ben visibili le sue feritoie\, le finestre ad arco decorate e attorno i resti del villaggio circostante. In questo territorio i cacciatori e raccoglitori dell’età della pietra e del bronzo\, risalivano il Monte Burrasca (m)\, aspra roccia ofiolitica\, per inseguire le prede e dominare dall’alto l’alta Val Nure. Mentre nei secoli scorsi da qui si controllavano i passi che dall’Alta Val Ceno portavano al mare\, le antiche vie del sale. Geologicamente è un Territorio interessato dapprima dalle eruzioni sottomarine di oltre 150 milioni di anni fa e successivamente dalle ere glaciali. Restano\, a testimonianza del ghiacciaio del Monte Bue e Ragola\, tra torbiere\, laghi ormai interrati ma ancora visibili\, alcuni laghi di origine glaciale tra cui il Lagazzo. Il percorso inizia dal Passo delle Pianazze (975m)\, e su tracce si raggiunge la Torre di Manfredello\, a seguire il Monte Burrasca (944m). Da qui\, in direzione del Groppo di Cassimoreno (898m)\, alla ricerca dell’area dove un tempo sorgeva la Rocca di Melagrana (XIII sec.)\, presidio medioevale posto sul crinale tra le due valli per sorvegliare il territorio\, le mandrie e pastori che hanno vissuto e frequentato tutta l’area e per controllare i commerci verso il mare. \nSono in vigore le norme di contenimento delle peste suina africana\, a cui ci si deve attenere.\nUlteriori indicazioni \, sia tecniche che logistiche\, in fase di iscrizione. \nIscrizioni in sede\, dalle ore 21 alle 22 di martedì 22 luglio 2025. \nScarica la locandina completa
URL:https://caicrema.it/evento/val-nure-passo-delle-pianazze-tam-onc/
CATEGORIES:TAM ONC
END:VEVENT
END:VCALENDAR