BEGIN:VCALENDAR
VERSION:2.0
PRODID:-//CAI - Club Alpino Italiano - Sezione di Crema - ECPv5.14.0.2//NONSGML v1.0//EN
CALSCALE:GREGORIAN
METHOD:PUBLISH
X-WR-CALNAME:CAI - Club Alpino Italiano - Sezione di Crema
X-ORIGINAL-URL:https://caicrema.it
X-WR-CALDESC:Eventi per CAI - Club Alpino Italiano - Sezione di Crema
REFRESH-INTERVAL;VALUE=DURATION:PT1H
X-Robots-Tag:noindex
X-PUBLISHED-TTL:PT1H
BEGIN:VTIMEZONE
TZID:Europe/Rome
BEGIN:DAYLIGHT
TZOFFSETFROM:+0100
TZOFFSETTO:+0200
TZNAME:CEST
DTSTART:20260329T010000
END:DAYLIGHT
BEGIN:STANDARD
TZOFFSETFROM:+0200
TZOFFSETTO:+0100
TZNAME:CET
DTSTART:20261025T010000
END:STANDARD
END:VTIMEZONE
BEGIN:VEVENT
DTSTART;TZID=Europe/Rome:20260905T093000
DTEND;TZID=Europe/Rome:20260905T170000
DTSTAMP:20260420T150518
CREATED:20260304T165543Z
LAST-MODIFIED:20260311T103657Z
UID:32666-1788600600-1788627600@caicrema.it
SUMMARY:Manutenzione bosco didattico (TAM)
DESCRIPTION:MANUTENZIONE AL BOSCO DIDATTICO DI CASCINA STELLA \nLa sezione e la Provincia di Cremona hanno stipulato\, nel novembre 2024\, un’intesa non onerosa per la gestione della manutenzione al Bosco Didattico di Cascina Stella a Castelleone. Il nostro intervento consiste nell’eseguire lavori di pulizia dei percorsi\, potature\, sfalci\, piantumazioni\, tutte attività necessarie per mantenere il Bosco e permetterne la fruizione. \nScarica la locandina completa
URL:https://caicrema.it/evento/bosco-didattico-tam-3-2/
CATEGORIES:TAM ONC
END:VEVENT
BEGIN:VEVENT
DTSTART;TZID=Europe/Rome:20260919T080000
DTEND;TZID=Europe/Rome:20260919T170000
DTSTAMP:20260420T150518
CREATED:20260108T213942Z
LAST-MODIFIED:20260227T164420Z
UID:32474-1789804800-1789837200@caicrema.it
SUMMARY:Il bramito dei cervi (TAM)
DESCRIPTION:Un’escursione che inizia nel primo pomeriggio e che si protrae fino oltre il tramonto\, dove i sentieri e le tracce permetteranno un giro ad anello dedicato ai segni di presenza e all’ascolto dei bramiti. Dal monte Lazzaro al monte Mosso\, passando da Cà Longarini\, Areglia e Tamborlani. \nIl bramito dei cervi è un richiamo caratteristico durante il periodo degli accoppiamenti. Si verifica di solito tra settembre e i primi di ottobre; in queste settimane\, durante le quali i cervi sono molto vocali per attrarre le femmine con il bramito\, comunicano la propria presenza e forza ai maschi rivali\, stabilendo gerarchie tra i cervi. \nIl suono è profondo e vibrante\, è un esempio di comunicazione che può essere ascoltato anche a notevole distanza\, accompagnato da echeggiamenti e battiti di zoccoli e può cambiare tono e intensità a seconda del contesto emozionale e degli avversari. È associato ad una danza di corteggiamento dove il cervo maschio si vanta con posture maestose e gesti particolari. In questo periodo si verificano duelli rumorosi che possono divenire anche mortali. \nIscrizioni: martedì 15 settembre – ore 21/22.00. \nScarica la locandina completa
URL:https://caicrema.it/evento/il-bramito-dei-cervi-tam/
CATEGORIES:TAM ONC
END:VEVENT
END:VCALENDAR