BEGIN:VCALENDAR
VERSION:2.0
PRODID:-//CAI - Club Alpino Italiano - Sezione di Crema - ECPv5.14.0.2//NONSGML v1.0//EN
CALSCALE:GREGORIAN
METHOD:PUBLISH
X-WR-CALNAME:CAI - Club Alpino Italiano - Sezione di Crema
X-ORIGINAL-URL:https://caicrema.it
X-WR-CALDESC:Eventi per CAI - Club Alpino Italiano - Sezione di Crema
REFRESH-INTERVAL;VALUE=DURATION:PT1H
X-Robots-Tag:noindex
X-PUBLISHED-TTL:PT1H
BEGIN:VTIMEZONE
TZID:Europe/Rome
BEGIN:DAYLIGHT
TZOFFSETFROM:+0100
TZOFFSETTO:+0200
TZNAME:CEST
DTSTART:20260329T010000
END:DAYLIGHT
BEGIN:STANDARD
TZOFFSETFROM:+0200
TZOFFSETTO:+0100
TZNAME:CET
DTSTART:20261025T010000
END:STANDARD
END:VTIMEZONE
BEGIN:VEVENT
DTSTART;TZID=Europe/Rome:20261107T080000
DTEND;TZID=Europe/Rome:20261107T170000
DTSTAMP:20260420T180306
CREATED:20260108T221030Z
LAST-MODIFIED:20260227T164907Z
UID:32495-1794038400-1794070800@caicrema.it
SUMMARY:Val Lardana - Laghi glaciali (TAM)
DESCRIPTION:La Val Lardana è una piccola valle nel comune di Ferriere\, racchiusa tra la Val Nure e la Val Ceno. Un territorio modellato dai ghiacciai presenti fino a circa 10.000 anni fa. È costellata di laghi glaciali in vari stadi di riassorbimento\, sorgenti\, torbiere\, rocce ofiolitiche e mulattiere. \nLa valle deve il nome al Rio Lardana\, che nasce nei prati alle falde del Monte Ragola e del Ragolino per immettersi nel Nure a Boli\, di cui è il maggior affluente destro. La vallata è stretta e profonda; si allarga solo nella parte inferiore e sulla sponda destra con alture isolate\, intervallate da modesti ripiani erbosi leggermente digradanti verso il fondo valle. \nIl fianco più ripido della valle è quello sinistro\, prevalentemente ricoperto da fitta boscaglia\, mentre sulla destra prevalgono i pascoli. La zona è ricca di acque sorgive e conserva importanti rarità botaniche (come la piccola “drosera”\, pianta carnivora delle torbiere acide) e peculiari forme di vegetazione. \nIscrizioni: martedì 3 novembre – ore 21/22.00 \nScarica la locandina completa
URL:https://caicrema.it/evento/val-lardana-laghi-glaciali-tam/
CATEGORIES:TAM ONC
END:VEVENT
BEGIN:VEVENT
DTSTART;TZID=Europe/Rome:20261114T093000
DTEND;TZID=Europe/Rome:20261114T170000
DTSTAMP:20260420T180306
CREATED:20260304T165758Z
LAST-MODIFIED:20260311T103707Z
UID:32670-1794648600-1794675600@caicrema.it
SUMMARY:Manutenzione bosco didattico (TAM)
DESCRIPTION:MANUTENZIONE AL BOSCO DIDATTICO DI CASCINA STELLA \nLa sezione e la Provincia di Cremona hanno stipulato\, nel novembre 2024\, un’intesa non onerosa per la gestione della manutenzione al Bosco Didattico di Cascina Stella a Castelleone. Il nostro intervento consiste nell’eseguire lavori di pulizia dei percorsi\, potature\, sfalci\, piantumazioni\, tutte attività necessarie per mantenere il Bosco e permetterne la fruizione. \nScarica la locandina completa
URL:https://caicrema.it/evento/bosco-didattico-tam-3-2-2/
CATEGORIES:TAM ONC
END:VEVENT
END:VCALENDAR