BEGIN:VCALENDAR
VERSION:2.0
PRODID:-//CAI - Club Alpino Italiano - Sezione di Crema - ECPv5.14.0.2//NONSGML v1.0//EN
CALSCALE:GREGORIAN
METHOD:PUBLISH
X-WR-CALNAME:CAI - Club Alpino Italiano - Sezione di Crema
X-ORIGINAL-URL:https://caicrema.it
X-WR-CALDESC:Eventi per CAI - Club Alpino Italiano - Sezione di Crema
REFRESH-INTERVAL;VALUE=DURATION:PT1H
X-Robots-Tag:noindex
X-PUBLISHED-TTL:PT1H
BEGIN:VTIMEZONE
TZID:Europe/Rome
BEGIN:DAYLIGHT
TZOFFSETFROM:+0100
TZOFFSETTO:+0200
TZNAME:CEST
DTSTART:20190331T010000
END:DAYLIGHT
BEGIN:STANDARD
TZOFFSETFROM:+0200
TZOFFSETTO:+0100
TZNAME:CET
DTSTART:20191027T010000
END:STANDARD
END:VTIMEZONE
BEGIN:VEVENT
DTSTART;TZID=Europe/Rome:20190929T080000
DTEND;TZID=Europe/Rome:20190929T170000
DTSTAMP:20260426T032858
CREATED:20190903T131613Z
LAST-MODIFIED:20190903T131613Z
UID:27661-1569744000-1569776400@caicrema.it
SUMMARY:Malgalunga e Sparavera
DESCRIPTION:Malgalunga e Sparavera \nScarica locandina
URL:https://caicrema.it/evento/malgalunga-e-sparavera/
LOCATION:Malgalunga\, Monte di Sovere\, Sovere\, Bergamo\, Italia
CATEGORIES:TAM ONC
ATTACH;FMTTYPE=image/jpeg:https://caicrema.it/wp-content/uploads/2019/09/Malgalunga.jpg
END:VEVENT
END:VCALENDAR