BEGIN:VCALENDAR
VERSION:2.0
PRODID:-//CAI - Club Alpino Italiano - Sezione di Crema - ECPv5.14.0.2//NONSGML v1.0//EN
CALSCALE:GREGORIAN
METHOD:PUBLISH
X-WR-CALNAME:CAI - Club Alpino Italiano - Sezione di Crema
X-ORIGINAL-URL:https://caicrema.it
X-WR-CALDESC:Eventi per CAI - Club Alpino Italiano - Sezione di Crema
REFRESH-INTERVAL;VALUE=DURATION:PT1H
X-Robots-Tag:noindex
X-PUBLISHED-TTL:PT1H
BEGIN:VTIMEZONE
TZID:Europe/Rome
BEGIN:DAYLIGHT
TZOFFSETFROM:+0100
TZOFFSETTO:+0200
TZNAME:CEST
DTSTART:20190331T010000
END:DAYLIGHT
BEGIN:STANDARD
TZOFFSETFROM:+0200
TZOFFSETTO:+0100
TZNAME:CET
DTSTART:20191027T010000
END:STANDARD
END:VTIMEZONE
BEGIN:VEVENT
DTSTART;TZID=Europe/Rome:20191006T080000
DTEND;TZID=Europe/Rome:20191006T170000
DTSTAMP:20260426T013605
CREATED:20181214T163250Z
LAST-MODIFIED:20181214T163250Z
UID:26845-1570348800-1570381200@caicrema.it
SUMMARY:AVERARA VIA MERCATORUM
DESCRIPTION:Carattere della gita: \nIn ambiente collinare e montano\, culturale e naturalistica. \nDifficoltà tecniche e pericoli oggettivi: \nNessuna\, impegnativa a livello fisico. \nEquipaggiamento: \nMedia montagna\, con abbigliamento adatto alla stagione ed alle condizioni meteorologiche. \nAttrezzatura: \nAdatta alla escursione\, ed alle condizione del terreno. \nDislivello:     \nNon rilevante\, perché avviene attorno al paese di Averara \nTempo di percorrenza: \nNon necessario per il tipo di escursione \nRitrovo e Partenza da Crema: \nRitrovo al parcheggio Istituto Comprensivo Crema Tre “Mandela”\,  alle h. 7\,20\, partenza 7.30 \nPercorso automobilistico di max: \nCrema\, Bergamo\, Averara\, con mezzi propri  \nCoordinatore di gita: \nElena Cazzamalli \nPROGRAMMA: \nNel centro storico di Averara\, si visita il breve tratto dell’antica via Mercatorum\, ancora lastricata con sassi e pietra\, che passa sotto i portici. Si  visita la vecchia dogana\, con la doppia scalinata d’accesso in legno\, che segnava il confine tra il Ducato di Milano e la Serenissima Repubblica di Venezia. Possibilità di visitare la chiesa parrocchiale di Averara ricca di affreschi del 1400 e di un organo Serassi di pregio. Poi si prosegue con l’incontro dell’Associazione Amici del Castagno e visita alla selva castanile. Associazione che ha recuperato i vecchi castagni\, riportandoli alla produzione. Ultimo appuntamento della mattina alla Calchera. \nNel pomeriggio si prosegue visitando l’azienda Soluna che\, utilizza le  erbe montane per produrre creme ed oli essenziali. \nSCHEDA INFORMATIVA \nI partecipanti dopo aver preso visione del programma gita\, e dopo essersi resi conto delle eventuali difficoltà del percorso\, delle eventuali difficoltà tecniche e pericoli oggettivi (evidenziati in questa informativa)\, sono obbligati ad esprimersi favorevolmente o negativamente sulla propria autonomia di partecipazione. Dichiarano altresì di assumersi liberamente il rischio sportivo connesso\, prendono atto che l’organizzazione da parte della sezione e dei suoi coordinatori di gita volontari è annessa agli aspetti puramente logistici\, non prevede l’insorgere di alcun rapporto di accompagnamento\, inoltre sono tenuti a presentarsi con 10’ di anticipo sul luogo della partenza.Con l’iscrizione si accetta quanto sopra riportato. La gita può essere variata in toto o in parte ad insindacabile giudizio del coordinatore di gita. Il coordinatore di gita ha facoltà di escludere dalla gita i partecipanti che si presentassero privi della necessaria attrezzatura riportata nella presente informativa. \nNon sono ammessi alla gita coloro i quali non siano regolarmente iscritti in sede. \nTutti coloro che intendono partecipare ad una gita sociale (escluso programma: Alpinismo giovanile e Sci alpino) devono iscriversi entro e non oltre: – il martedì precedente all’uscita. \nNon si accettano prenotazioni telefoniche. \nIl costo dell’iscrizione per l’assicurazione è fissato per i non soci in Euro 9\,00 per le gite di un giorno\, mentre per quelle di due giorni è fissato in Euro 17\,00. L’iscrizione (per soci e non soci) è subordinata al versamento della caparra\, la caparra per il pernottamento al rifugio e l’eventuale Pullman sarà comunicata prima di ogni gita e al momento dell’iscrizione dal Coordinatore di gita. L’iscrizione alla gita comprende la copertura assicurativa in caso di morte o invalidità permanente\, e copre i costi del Soccorso Alpino. \nIl testo integrale del Regolamento è stato pubblicato sull’Annuario 2005/2006\, ed è consultabile presso la sede di via Donati\, 10.
URL:https://caicrema.it/evento/averara-via-mercatorum/
LOCATION:Averara\, Averara\, Bergamo\, Italia
CATEGORIES:TAM ONC
ATTACH;FMTTYPE=image/jpeg:https://caicrema.it/wp-content/uploads/2018/12/33.jpg
END:VEVENT
END:VCALENDAR