BEGIN:VCALENDAR
VERSION:2.0
PRODID:-//CAI - Club Alpino Italiano - Sezione di Crema - ECPv5.14.0.2//NONSGML v1.0//EN
CALSCALE:GREGORIAN
METHOD:PUBLISH
X-WR-CALNAME:CAI - Club Alpino Italiano - Sezione di Crema
X-ORIGINAL-URL:https://caicrema.it
X-WR-CALDESC:Eventi per CAI - Club Alpino Italiano - Sezione di Crema
REFRESH-INTERVAL;VALUE=DURATION:PT1H
X-Robots-Tag:noindex
X-PUBLISHED-TTL:PT1H
BEGIN:VTIMEZONE
TZID:Europe/Rome
BEGIN:DAYLIGHT
TZOFFSETFROM:+0100
TZOFFSETTO:+0200
TZNAME:CEST
DTSTART:20190331T010000
END:DAYLIGHT
BEGIN:STANDARD
TZOFFSETFROM:+0200
TZOFFSETTO:+0100
TZNAME:CET
DTSTART:20191027T010000
END:STANDARD
END:VTIMEZONE
BEGIN:VEVENT
DTSTART;TZID=Europe/Rome:20191215T060000
DTEND;TZID=Europe/Rome:20191215T170000
DTSTAMP:20260425T222732
CREATED:20190103T112531Z
LAST-MODIFIED:20190103T112531Z
UID:27027-1576389600-1576429200@caicrema.it
SUMMARY:OLTREPO' PAVESE SULLE TRACCE DEI LUPI
DESCRIPTION:Carattere della gita: \nIn ambiente collinare e montano\, culturale e naturalistica. \nDifficoltà tecniche e pericoli oggettivi: \nNessuna\, impegnativa a livello fisico. \nEquipaggiamento: \nMedia montagna\, con abbigliamento adatto alla stagione ed alle condizioni meteorologiche. \nAttrezzatura:  \nAdatta alla escursione\, ed alle condizione del terreno.  \nDislivello:     \nAndata + 315m – 30m \nRitorno + 30m – 315m \nSviluppo A/R 12 km\, circa. \nTempo di percorrenza: \nAndata h. 2.00/2.30 \nRitorno  h. 2\,00/2.30 \nRitrovo e Partenza da Crema: \nRitrovo al parcheggio I.I.S. Galilei\, via Matilde di Canossa\, Crema\,  alle h. 07.15 \nPartenza: h. 7.25 \nPercorso automobilistico di max: \nCrema\, Varzi\,(alt.va Bobbio\, Passo  del Brallo)\, Val Staffora\, Cegni\, Negruzzo\, \nCoordinatore escursione: \nBeppe Ruffo \nPROGRAMMA: \nDa Negruzzo\, Alta Val Staffora(Varzi)\, si segue la strada provinciale con indicazione Pian dell’Armà e Passo del Giovà\, fino ad una indicazione sulla dx\, per il Colle della Seppa\, 1485m slm. Con un dislivello circa 50 m\, si raggiunge  “La via del Sale”\, da Varzi a Sori\,  si seguono le indicazioni di questo  antico percorso per il commercio del sale\, e non solo\, che correva in gran parte nei feudi controllati dalla famiglia Malaspina\, da Varzi\, verso Genova o verso Sori\, Recco o Portofino. Il sentiero si mantiene sempre   costante\, attorno ai 1500m slm\, con qualche saliscendi\, fino ad arrivare alla base del Monte Chiappo e con breve strappo si raggiunge  la cima.  Il percorso avviene al confine con le 4 province\, Pavia\, Piacenza\, Alessandria\, Genova\, che hanno in comune non solo il territorio ma anche tradizioni culturali\, in special modo i suonatori di fisarmonica e piffero e i balli.  L’uscita ha lo scopo di cercare le tracce che indichino il passaggio e la presenza dei lupi\, ed eventualmente di altri carnivori ed ungulati. Si cammina su sentiero\, principalmente all’interno di boschi cedui\, e non solo\,  tipici dell’Appennino\, con una buona presenza di maggiociondoli\,  noccioli\, pino silvestre\, abeti\, larici e  roverelle. \nSCHEDA INFORMATIVA \nI partecipanti dopo aver preso visione del programma gita\, e dopo essersi resi conto delle eventuali difficoltà del percorso\, delle eventuali difficoltà tecniche e pericoli oggettivi (evidenziati in questa informativa)\, sono obbligati ad esprimersi favorevolmente o negativamente sulla propria autonomia di partecipazione. Dichiarano altresì di assumersi liberamente il rischio sportivo connesso\, prendono atto che l’organizzazione da parte della sezione e dei suoi coordinatori di gita volontari è annessa agli aspetti puramente logistici\, non prevede l’insorgere di alcun rapporto di accompagnamento\, inoltre sono tenuti a presentarsi con 10’ di anticipo sul luogo della partenza.Con l’iscrizione si accetta quanto sopra riportato. La gita può essere variata in toto o in parte ad insindacabile giudizio del coordinatore di gita. Il coordinatore di gita ha facoltà di escludere dalla gita i partecipanti che si presentassero privi della necessaria attrezzatura riportata nella presente informativa. \nNon sono ammessi alla gita coloro i quali non siano regolarmente iscritti in sede. \nTutti coloro che intendono partecipare ad una gita sociale (escluso programma: Alpinismo giovanile e Sci alpino) devono iscriversi entro e non oltre: \n– il martedì precedente all’uscita. \nNon si accettano prenotazioni telefoniche.  \nIl costo dell’iscrizione per l’assicurazione è fissato per i non soci in Euro 9\,00 per le gite di un giorno\, mentre per quelle di due giorni è fissato in Euro 17\,00. L’iscrizione (per soci e non soci) è subordinata al versamento della caparra\, la caparra per il pernottamento al rifugio e l’eventuale Pullman sarà comunicata prima di ogni gita e al momento dell’iscrizione dal Coordinatore di gita. L’iscrizione alla gita comprende la copertura assicurativa in caso di morte o invalidità permanente\, e copre i costi del Soccorso Alpino. \nIl testo integrale del Regolamento è stato pubblicato sull’Annuario 2005/2006\, ed è consultabile presso la sede di via Donati\, 10.
URL:https://caicrema.it/evento/oltrepo-pavese-sulle-tracce-dei-lupi-2/
LOCATION:Negruzzo\, Negruzzo\, Pavia\, Italia
CATEGORIES:GGC,TAM ONC
ATTACH;FMTTYPE=image/jpeg:https://caicrema.it/wp-content/uploads/2018/12/1.jpg
END:VEVENT
END:VCALENDAR