BEGIN:VCALENDAR
VERSION:2.0
PRODID:-//CAI - Club Alpino Italiano - Sezione di Crema - ECPv5.14.0.2//NONSGML v1.0//EN
CALSCALE:GREGORIAN
METHOD:PUBLISH
X-WR-CALNAME:CAI - Club Alpino Italiano - Sezione di Crema
X-ORIGINAL-URL:https://caicrema.it
X-WR-CALDESC:Eventi per CAI - Club Alpino Italiano - Sezione di Crema
REFRESH-INTERVAL;VALUE=DURATION:PT1H
X-Robots-Tag:noindex
X-PUBLISHED-TTL:PT1H
BEGIN:VTIMEZONE
TZID:Europe/Rome
BEGIN:DAYLIGHT
TZOFFSETFROM:+0100
TZOFFSETTO:+0200
TZNAME:CEST
DTSTART:20190331T010000
END:DAYLIGHT
BEGIN:STANDARD
TZOFFSETFROM:+0200
TZOFFSETTO:+0100
TZNAME:CET
DTSTART:20191027T010000
END:STANDARD
END:VTIMEZONE
BEGIN:VEVENT
DTSTART;TZID=Europe/Rome:20191222T064500
DTEND;TZID=Europe/Rome:20191222T170000
DTSTAMP:20260425T222737
CREATED:20191209T162008Z
LAST-MODIFIED:20191209T162008Z
UID:27757-1576997100-1577034000@caicrema.it
SUMMARY:Camminare in Appennino
DESCRIPTION:Oltrepò Pavese – Sulle tracce dei lupi \nSCHEDA INFORMATIVA \nCarattere della gita:\nIn ambiente collinare e montano\, culturale e naturalistica. \nDifficoltà tecniche e pericoli oggettivi:\nNessuna\, impegnativa a livello fisico. \nEquipaggiamento:\nMedia montagna con abbigliamento adatto alla stagione. \nAttrezzatura:\nAdatta alla escursione e alle condizioni meteorologiche. \nDislivello: \nAndata: + 794m – 65m\nRitorno: + 65m – 794m \nSviluppo: A/R 16/18 km\, circa. \nTempo di percorrenza:\nAndata: ore 3.00/3.30\nRitorno: ore 2\,30/3.00 \nRitrovo e Partenza da Crema:\nRitrovo al parcheggio I.I.S. Galilei\, via Matilde di Canossa\, Crema\, alle h. 06.45 \nPercorso automobilistico di max:\nCrema\, Varzi\, Castellaro. \nCoordinatore escursione: \nBeppe Ruffo – Tel. 0373.203463 \nApertura iscrizioni: 15 gg prima dell’uscita \nL’uscita verrà effettuata anche in caso di tempo incerto o leggera pioggia. \nDa Castellaro(Varzi)\, 756m slm\, si seguono le indicazioni per la Via del Sale\, o in alternativa la strada agrosilvopastorale\, un antico percorso per il commercio del sale\, e non solo\, che correva in gran parte nei feudi controllati dalla famiglia Malaspina\, da Varzi\, verso Genova o verso Sori\, Recco o Portofino. Si raggiunge Pian della Mora\, dove è presente un bivacco\, 1353m slm\, per poi raggiungere Colle della Seppa\, 1485m slm. Si seguono sia i segnavia CAI sia quelli in metallo della Via del Sale\, mentre al ritorno si percorre la la ASP. Il percorso avviene al confine con le 4 province\, Pavia\, Piacenza\, Alessandria\, Genova\, che hanno in comune non solo il territorio ma anche tradizioni culturali\, in special modo i suonatori di fisarmonica e piffero ed i balli. L’uscita ha lo scopo di cercare le tracce che indichino il passaggio e la presenza dei lupi\, ed eventualmente di altri carnivori ed ungulati. Si cammina su sentiero\, principalmente all’interno di boschi cedui\, e non solo\, tipici dell’Appennino\, con una buona presenza di maggiociondoli\, noccioli\, roverelle\, e impianti di pino silvestre\, abeti\, larici.
URL:https://caicrema.it/evento/camminare-in-appennino/
LOCATION:Valle Staffora\, Valle Staffora\, Pavia\, Italia
CATEGORIES:TAM ONC
ATTACH;FMTTYPE=image/jpeg:https://caicrema.it/wp-content/uploads/2019/12/7.jpg
END:VEVENT
END:VCALENDAR