BEGIN:VCALENDAR
VERSION:2.0
PRODID:-//CAI - Club Alpino Italiano - Sezione di Crema - ECPv5.14.0.2//NONSGML v1.0//EN
CALSCALE:GREGORIAN
METHOD:PUBLISH
X-WR-CALNAME:CAI - Club Alpino Italiano - Sezione di Crema
X-ORIGINAL-URL:https://caicrema.it
X-WR-CALDESC:Eventi per CAI - Club Alpino Italiano - Sezione di Crema
REFRESH-INTERVAL;VALUE=DURATION:PT1H
X-Robots-Tag:noindex
X-PUBLISHED-TTL:PT1H
BEGIN:VTIMEZONE
TZID:Europe/Rome
BEGIN:DAYLIGHT
TZOFFSETFROM:+0100
TZOFFSETTO:+0200
TZNAME:CEST
DTSTART:20210328T010000
END:DAYLIGHT
BEGIN:STANDARD
TZOFFSETFROM:+0200
TZOFFSETTO:+0100
TZNAME:CET
DTSTART:20211031T010000
END:STANDARD
END:VTIMEZONE
BEGIN:VEVENT
DTSTART;VALUE=DATE:20210829
DTEND;VALUE=DATE:20210830
DTSTAMP:20260424T111048
CREATED:20210824T075500Z
LAST-MODIFIED:20210824T075500Z
UID:28750-1630195200-1630281599@caicrema.it
SUMMARY:OLTREPO PAVESE - VALLE STAFFORA
DESCRIPTION:In cammino in ambiente montano e collinare\, per osservare\, conoscere e tutelare.\nRiscoprire la natura\, la storia e la cultura dei luoghi. \nCamminare in Appennino\nOLTREPO PAVESE – VALLE STAFFORA\nDOMENICA 29 AGOSTO 2021 \nIn collaborazione con la Commissione Regionale TAM Lombardia \nDescrizione\nEscursione naturalistica\, ambientale e di tutela. \nDislivello – tempi\nA/R: +-450\nA/R: 6/7 h.\nSviluppo 12 Km \nAttrezzatura\nDa media montagna\, adatta al percorso\, alla stagione ed alle condizioni meteo. \nDifficoltà\nE – Impegnativa a livello fisico. \nTrasporto\nAuto proprie.\nRitrovo: ore 8:15 in Piazza della Fiera\, Varzi \nCartografia: Greppi editore\, Appennino Lombardo Oltrepò pavese – CMOP: “App” I sentieri dell’Oltrepò Pavese \nIn Oltrepò vi sono tre aree che fanno parte della Rete Natura 2000\, ZSC e Riserva Naturale di Monte Alpe\, SIC di Pietra Corva Sassi Neri e il SIC Riserva Naturale le Torraie Monte Lesima. Mentre sul versante alessandrino abbiamo la ZPS Ebro/Chiappo e la ZSC Antola/Carmo/Legnà. \nOltre al SIC piacentino della Val Boreca\, i diversi i SIC genovesi inclusi nel Parco dell’Antola\, si hanno oltre 24mila ha di territorio\, suddivisi tra quattro province\, ma pressoché tutti in contiguità\,\nQuesti territori oltre ad essere di grande pregio naturalistico\, sono aree di elevata biodiversità\, grazie alla posizione geografica che le rende un unicum su tutto il territorio nazionale. L’intero Oltrepò Pavese è classificato dalla regione Lombardia come area prioritaria per la biodiversità nella Rete Ecologica Regionale. \nL’area purtroppo è interessata dalla presenza costante di mezzi motorizzati non autorizzati\, in particolare enduristi\, e dal 30 Agosto ed il 4 Settembre si svolgerà la Sei giorni internazionale di Enduro\, con conseguente immagine di un territorio vocato alla pratica motoristica\, più che alla scoperta del valore naturale. \nL’escursione si svolge nel rispetto delle indicazione emanate dalla Commissione Centrale per l’escursionismo in emergenza Covid\, del 5 Maggio 2021\, fatte proprie dalla sezione.\nAgli iscritti verranno inviate le note operative ed il modulo di autocertificazione.\nE’ obbligo avere con sé mascherina e gel disinfettante.\nPranzo al sacco \nLe iscrizioni si ricevono on-line\, entro venerdì 27 Agosto\, al seguente indirizzo: commissione.tamonc@caicrema.it\nResponsabile escursione e regole Covid\, Beppe Ruffo “Operatore TAM/ONC”\nAccompagnatore: Mariangela Riva “Presidente Commissione Regionale TAM Lombardia” \nScarica la locandina
URL:https://caicrema.it/evento/oltrepo-pavese-valle-staffora/
CATEGORIES:TAM ONC
END:VEVENT
END:VCALENDAR