BEGIN:VCALENDAR
VERSION:2.0
PRODID:-//CAI - Club Alpino Italiano - Sezione di Crema - ECPv5.14.0.2//NONSGML v1.0//EN
CALSCALE:GREGORIAN
METHOD:PUBLISH
X-WR-CALNAME:CAI - Club Alpino Italiano - Sezione di Crema
X-ORIGINAL-URL:https://caicrema.it
X-WR-CALDESC:Eventi per CAI - Club Alpino Italiano - Sezione di Crema
REFRESH-INTERVAL;VALUE=DURATION:PT1H
X-Robots-Tag:noindex
X-PUBLISHED-TTL:PT1H
BEGIN:VTIMEZONE
TZID:Europe/Rome
BEGIN:DAYLIGHT
TZOFFSETFROM:+0100
TZOFFSETTO:+0200
TZNAME:CEST
DTSTART:20210328T010000
END:DAYLIGHT
BEGIN:STANDARD
TZOFFSETFROM:+0200
TZOFFSETTO:+0100
TZNAME:CET
DTSTART:20211031T010000
END:STANDARD
END:VTIMEZONE
BEGIN:VEVENT
DTSTART;TZID=Europe/Rome:20211016T093000
DTEND;TZID=Europe/Rome:20211016T180000
DTSTAMP:20260424T072817
CREATED:20211006T094334Z
LAST-MODIFIED:20211006T094334Z
UID:28781-1634376600-1634407200@caicrema.it
SUMMARY:LA VIA DEL FERRO
DESCRIPTION:VAL BREMBANA\nDA MEZZOLDO AD AVERARA\nDescrizione\nEscursione naturalistica\, di tutela e storica. \nDislivello-Tempi\nA/R: + 425\nA/R: 7 ore circa\,\ncon le soste\nSviluppo 12 Km \nAttrezzatura\nDa media montagna\, adatta al percorso\, alla stagione ed alle condizioni meteo. \nDifficoltà\nE\nImpegnativa a livello fisico. \nOrari\nPartenza escursione ore 9:30\, da Mezzoldo. \nCartografia: Kompass Lecco/Valle Brembana n° 105 \n  \nLa “Via del Ferro” – Olmo al Brembo (la pala di F. Ronzelli (1630) con raffigurazione del borgo antico – La “Via Mercatorum”\, i portici di Averara\, il castagneto.\nAgli iscritti verranno consegnate le note operative ed il modulo di autocertificazione.\nSi fa obbligo di avere con sé l’autocertificazione o green pass\, la mascherina\, il gel disinfettante a base alcolica\, pena l’esclusione dall’escursione.\nPrima della partenza\, verranno raccolte le autocertificazioni e verranno verificati i DPI.  \nL’escursione avviene con mezzi propri. \nLe iscrizioni si ricevono in sezione\, oppure on-line\, entro martedì 11 Ottobre: commissione.tamonc@caicrema.it \nResponsabile escursione:\nElena Cazzamalli – Operatore TAM – Cell. 3667348306 \nAccompagnatore e responsabile regole Covid:\nBeppe Ruffo – Operatore TAM/ONC – Cell. 3400583639 \nPranzo al sacco
URL:https://caicrema.it/evento/la-via-del-ferro/
LOCATION:Olmo al Brembo\, Olmo al Brembo\, Bergamo\, Italia
CATEGORIES:TAM ONC
END:VEVENT
END:VCALENDAR